BEGIN:VCALENDAR
VERSION:2.0
PRODID:-//Explore Beaufort SC - ECPv6.15.20//NONSGML v1.0//EN
CALSCALE:GREGORIAN
METHOD:PUBLISH
X-ORIGINAL-URL:https://explorebeaufortsc.com
X-WR-CALDESC:Events for Explore Beaufort SC
REFRESH-INTERVAL;VALUE=DURATION:PT1H
X-Robots-Tag:noindex
X-PUBLISHED-TTL:PT1H
BEGIN:VTIMEZONE
TZID:America/New_York
BEGIN:DAYLIGHT
TZOFFSETFROM:-0500
TZOFFSETTO:-0400
TZNAME:EDT
DTSTART:20240310T070000
END:DAYLIGHT
BEGIN:STANDARD
TZOFFSETFROM:-0400
TZOFFSETTO:-0500
TZNAME:EST
DTSTART:20241103T060000
END:STANDARD
BEGIN:DAYLIGHT
TZOFFSETFROM:-0500
TZOFFSETTO:-0400
TZNAME:EDT
DTSTART:20250309T070000
END:DAYLIGHT
BEGIN:STANDARD
TZOFFSETFROM:-0400
TZOFFSETTO:-0500
TZNAME:EST
DTSTART:20251102T060000
END:STANDARD
BEGIN:DAYLIGHT
TZOFFSETFROM:-0500
TZOFFSETTO:-0400
TZNAME:EDT
DTSTART:20260308T070000
END:DAYLIGHT
BEGIN:STANDARD
TZOFFSETFROM:-0400
TZOFFSETTO:-0500
TZNAME:EST
DTSTART:20261101T060000
END:STANDARD
END:VTIMEZONE
BEGIN:VEVENT
DTSTART;TZID=America/New_York:20250808T110000
DTEND;TZID=America/New_York:20250809T160000
DTSTAMP:20260425T094122
CREATED:20250805T132557Z
LAST-MODIFIED:20250806T204341Z
UID:23841-1754650800-1754755200@explorebeaufortsc.com
SUMMARY:Summer Tent Sale | Marshview Mercantile
DESCRIPTION:🎉 The BIG one is almost here…Our Summer Tent Sale Blowout kicks off on August 8 at Marshview Mercantile — and it’s your chance to scoop up serious deals on home decor\, gifts\, and more! \n🪴 Deep discounts🎁 Mystery bundles🛍️ Backroom treasures\, all marked to move \nBUT… VIPs don’t have to wait.Get early access inside the store\, away from the heat and before the crowd. \nJoin our email or download our app to learn how to become a VIP and unlock exclusive early access — starting now! https://marshviewmercantile.commentsold.com/
URL:https://explorebeaufortsc.com/event/summer-tent-sale-marshview-mercantile/
LOCATION:2631 Boundary St\, Beaufort\, SC\, 2631 Boundary St\, Beaufort\, SC
ORGANIZER;CN="Marshview Mercantile":MAILTO:noreply@facebookmail.com
END:VEVENT
BEGIN:VEVENT
DTSTART;TZID=America/New_York:20250808T160000
DTEND;TZID=America/New_York:20250808T190000
DTSTAMP:20260425T094122
CREATED:20250315T022653Z
LAST-MODIFIED:20250723T220448Z
UID:22335-1754668800-1754679600@explorebeaufortsc.com
SUMMARY:Habersham Farmers Market
DESCRIPTION:Join us for fresh produce and handcrafted items from our amazing vendors \nhttps://www.facebook.com/events/610706071953415/?event_time_id=610706155286740
URL:https://explorebeaufortsc.com/event/habersham-farmers-market-44/
LOCATION:Habersham South Carolina\, Habersham South Carolina
ORGANIZER;CN="Habersham Farmers Market":MAILTO:noreply@facebookmail.com
END:VEVENT
END:VCALENDAR