BEGIN:VCALENDAR
VERSION:2.0
PRODID:-//Explore Beaufort SC - ECPv6.15.20//NONSGML v1.0//EN
CALSCALE:GREGORIAN
METHOD:PUBLISH
X-WR-CALNAME:Explore Beaufort SC
X-ORIGINAL-URL:https://explorebeaufortsc.com
X-WR-CALDESC:Events for Explore Beaufort SC
REFRESH-INTERVAL;VALUE=DURATION:PT1H
X-Robots-Tag:noindex
X-PUBLISHED-TTL:PT1H
BEGIN:VTIMEZONE
TZID:America/New_York
BEGIN:DAYLIGHT
TZOFFSETFROM:-0500
TZOFFSETTO:-0400
TZNAME:EDT
DTSTART:20240310T070000
END:DAYLIGHT
BEGIN:STANDARD
TZOFFSETFROM:-0400
TZOFFSETTO:-0500
TZNAME:EST
DTSTART:20241103T060000
END:STANDARD
BEGIN:DAYLIGHT
TZOFFSETFROM:-0500
TZOFFSETTO:-0400
TZNAME:EDT
DTSTART:20250309T070000
END:DAYLIGHT
BEGIN:STANDARD
TZOFFSETFROM:-0400
TZOFFSETTO:-0500
TZNAME:EST
DTSTART:20251102T060000
END:STANDARD
BEGIN:DAYLIGHT
TZOFFSETFROM:-0500
TZOFFSETTO:-0400
TZNAME:EDT
DTSTART:20260308T070000
END:DAYLIGHT
BEGIN:STANDARD
TZOFFSETFROM:-0400
TZOFFSETTO:-0500
TZNAME:EST
DTSTART:20261101T060000
END:STANDARD
END:VTIMEZONE
BEGIN:VEVENT
DTSTART;TZID=America/New_York:20250810T110000
DTEND;TZID=America/New_York:20250810T140000
DTSTAMP:20260425T094031
CREATED:20250805T132559Z
LAST-MODIFIED:20250806T204343Z
UID:23850-1754823600-1754834400@explorebeaufortsc.com
SUMMARY:2nd Sunday Shop & Stroll
DESCRIPTION:The Shops of Paris Ave Present: 2nd Sunday Shop & Stroll \nGather\, Stroll\, and Shop the Heart of Port Royal—Meet Your Neighbors\, Support Local\, Love Where You Live \nParticipating Shops Include:Mrs B & CompanyGG’sJennifer JL Jones Fine ArtWindhorse ~ Gallery & MarketplaceNuancesMayard’s Ice CreamThe Gas Lantern
URL:https://explorebeaufortsc.com/event/2nd-sunday-shop-stroll/
LOCATION:809 Paris Ave\, Port Royal\, SC\, United States\, South Carolina\, 809 Paris Ave\, Port Royal\, SC\, United States\, South Carolina
ORGANIZER;CN="Windhorse Gallery & Marketplace":MAILTO:noreply@facebookmail.com
END:VEVENT
BEGIN:VEVENT
DTSTART;TZID=America/New_York:20250810T130000
DTEND;TZID=America/New_York:20250810T150000
DTSTAMP:20260425T094031
CREATED:20250728T163720Z
LAST-MODIFIED:20250728T163720Z
UID:23789-1754830800-1754838000@explorebeaufortsc.com
SUMMARY:Coastal Sun Catcher Workshop at Marshview Mercantile
DESCRIPTION:Create your own sunshine at Marshview Mercantile with our Coastal Sun Catcher Workshop! We’ve introduced three new designs- choose your favorite!\n\nWHEN: August 10\, 1-3pm\nWHERE: 2631 Boundary Street\, Beaufort\n\nOnly 5 spots left-save your seat for sunshine today!\n\nhttps://marshviewmercantile.commentsold.com/products/coastal-crushed-glass-suncatcher-workshop-aug-10-1-3p
URL:https://explorebeaufortsc.com/event/coastal-suncatcher-workshop-at-marshview-mercantile-2/
LOCATION:Marshview Mercantile\, 2631 Boundary St\, Beaufort\, SC\, 29906\, US
ATTACH;FMTTYPE=image/jpeg:https://explorebeaufortsc.com/wp-content/uploads/2025/07/collage21.jpg
END:VEVENT
BEGIN:VEVENT
DTSTART;TZID=America/New_York:20250810T173000
DTEND;TZID=America/New_York:20250810T203000
DTSTAMP:20260425T094031
CREATED:20250723T220449Z
LAST-MODIFIED:20250806T204343Z
UID:23754-1754847000-1754857800@explorebeaufortsc.com
SUMMARY:CBC Anniversary Picnic & Concert
DESCRIPTION:638 Parris Island Gateway\, Beaufort\, SC 29909 \nWe’re celebrating our 43rd Anniversary on Aug. 10th with a FREE BBQ dinner and all the fixings followed by a concert featuring music from Denver & the Mile High Orchestra. Dinner starts at 5:30 PM and concert at 7PM. Join us for all the fun and bring a dessert to share!
URL:https://explorebeaufortsc.com/event/cbc-anniversary-picnic-concert/
LOCATION:638 Parris Island Gateway\, Beaufort\, SC\, United States\, South Carolina 29906
ORGANIZER;CN="Community Bible Church":MAILTO:noreply@facebookmail.com
END:VEVENT
END:VCALENDAR