BEGIN:VCALENDAR
VERSION:2.0
PRODID:-//Explore Beaufort SC - ECPv6.15.20//NONSGML v1.0//EN
CALSCALE:GREGORIAN
METHOD:PUBLISH
X-WR-CALNAME:Explore Beaufort SC
X-ORIGINAL-URL:https://explorebeaufortsc.com
X-WR-CALDESC:Events for Explore Beaufort SC
REFRESH-INTERVAL;VALUE=DURATION:PT1H
X-Robots-Tag:noindex
X-PUBLISHED-TTL:PT1H
BEGIN:VTIMEZONE
TZID:America/New_York
BEGIN:DAYLIGHT
TZOFFSETFROM:-0500
TZOFFSETTO:-0400
TZNAME:EDT
DTSTART:20240310T070000
END:DAYLIGHT
BEGIN:STANDARD
TZOFFSETFROM:-0400
TZOFFSETTO:-0500
TZNAME:EST
DTSTART:20241103T060000
END:STANDARD
BEGIN:DAYLIGHT
TZOFFSETFROM:-0500
TZOFFSETTO:-0400
TZNAME:EDT
DTSTART:20250309T070000
END:DAYLIGHT
BEGIN:STANDARD
TZOFFSETFROM:-0400
TZOFFSETTO:-0500
TZNAME:EST
DTSTART:20251102T060000
END:STANDARD
BEGIN:DAYLIGHT
TZOFFSETFROM:-0500
TZOFFSETTO:-0400
TZNAME:EDT
DTSTART:20260308T070000
END:DAYLIGHT
BEGIN:STANDARD
TZOFFSETFROM:-0400
TZOFFSETTO:-0500
TZNAME:EST
DTSTART:20261101T060000
END:STANDARD
END:VTIMEZONE
BEGIN:VEVENT
DTSTART;TZID=America/New_York:20250812T100000
DTEND;TZID=America/New_York:20250815T170000
DTSTAMP:20260425T094031
CREATED:20250723T220449Z
LAST-MODIFIED:20250814T191840Z
UID:23755-1754992800-1755277200@explorebeaufortsc.com
SUMMARY:Great Estate Buying Event - The Jeweler's Bench
DESCRIPTION:If you’ve been thinking about selling your valuables\, we’re hosting our Great Estate Buying Event at: \nThe Jeweler’s Bench603 Carteret St.Beaufort\, SC 29902 \nAugust 12-August 15Tuesday-Thursday 10am-5pmFriday 10am-3pm \nWe are purchasing estate jewelry\, diamonds\, watches\, gold\, silver\, coins and more! \nOur experienced staff will evaluate any item\, no matter how small\, and make you an offer. If you decide to sell\, we will pay you on the spot! \nMake appointments here: https://www.julesestatebuyers.com/event/beaufort-sc
URL:https://explorebeaufortsc.com/event/great-estate-buying-event-the-jewelers-bench-2/
LOCATION:603 Carteret St.\, Beaufort\, SC 29902\, 603 Carteret St.\, Beaufort\, SC 29902
ORGANIZER;CN="Jules Estate Buyers%2C Inc.":MAILTO:noreply@facebookmail.com
END:VEVENT
BEGIN:VEVENT
DTSTART;TZID=America/New_York:20250813T180000
DTEND;TZID=America/New_York:20250813T203000
DTSTAMP:20260425T094031
CREATED:20250712T034917Z
LAST-MODIFIED:20250814T191840Z
UID:23674-1755108000-1755117000@explorebeaufortsc.com
SUMMARY:Summer 2025 All Ideas Pitch Contest
DESCRIPTION:EforAll Lowcountry and Beaufort Digital Corridor are teaming up to host an exciting Pitch Contest that welcomes innovative ideas from all industries—whether tech-driven or not. This fast-paced event invites entrepreneurs\, creatives\, and visionaries to present their business or nonprofit ideas for a chance to gain exposure\, receive valuable feedback\, and compete for cash prizes.Whether you’re building an app\, launching a product\, or offering a community-based service\, this contest is for you. There’s no cost to apply or attend—everyone is welcome! \nNow accepting applications. Apply to pitch!: https://eforall.org/programs/eforall-lowcountry-summer-2025-all-ideas-pitch-contest/ \nRSVP to attend: https://www.eventbrite.com/e/eforall-all-ideas-pitch-contest-summer-2025-tickets-1439205535499?aff=oddtdtcreator&fbclid=IwY2xjawLZDidleHRuA2FlbQIxMABicmlkETFnMVh4RTFnTm5lblBzTDNKAR7Hy0MbkfiY2D2-_hwetTsJjXHe86VocCqUbZVrfVd5UCbrs8G_q17PspmKeQ_aem_T-WoM2zyz6Y7VEnNnxlqyA
URL:https://explorebeaufortsc.com/event/summer-2025-all-ideas-pitch-contest/
LOCATION:Hilton Garden Inn-Beaufort\, Hilton Garden Inn-Beaufort
END:VEVENT
BEGIN:VEVENT
DTSTART;TZID=America/New_York:20250813T180000
DTEND;TZID=America/New_York:20250813T193000
DTSTAMP:20260425T094031
CREATED:20250809T013331Z
LAST-MODIFIED:20250809T013331Z
UID:23968-1755108000-1755113400@explorebeaufortsc.com
SUMMARY:Pickleball With a Doc at Marshview Mercantile
DESCRIPTION:Your doubles partner shouldn’t be your physical therapist!\nPickleball injuries are real—and many are preventable! \nJoin us at Marshview Mercantile with Dr. Edward Jones\, Dr. Kevin Jones\, and Dr. Addison Wilson\, from Novant Health Orthopedics and Sports Medicine HHI-Bluffton-Beaufort.\nThey’ll offer insight on how to prevent common pickleball injuries\, how to treat those injuries\, and when to see a specialist. Bring your questions (your paddle is optional). \nAugust 13\, 6-7:30p\n2631 Boundary Street\, Beaufort\nFREE- but you MUST RSVP. Space is limited\, so don’t delay!\nhttps://marshviewmercantile.commentsold.com/products/pickleball-injury-prevention-treatment-aug-13-6-730p?variant=8223
URL:https://explorebeaufortsc.com/event/pickleball-with-a-doc-at-marshview-mercantile/
LOCATION:Marshview Mercantile\, 2631 Boundary St\, Beaufort\, SC\, 29906\, US
ATTACH;FMTTYPE=image/jpeg:https://explorebeaufortsc.com/wp-content/uploads/2025/08/marshviewpickleballwithadoc.jpg
END:VEVENT
END:VCALENDAR