BEGIN:VCALENDAR
VERSION:2.0
PRODID:-//Explore Beaufort SC - ECPv6.15.20//NONSGML v1.0//EN
CALSCALE:GREGORIAN
METHOD:PUBLISH
X-WR-CALNAME:Explore Beaufort SC
X-ORIGINAL-URL:https://explorebeaufortsc.com
X-WR-CALDESC:Events for Explore Beaufort SC
REFRESH-INTERVAL;VALUE=DURATION:PT1H
X-Robots-Tag:noindex
X-PUBLISHED-TTL:PT1H
BEGIN:VTIMEZONE
TZID:America/New_York
BEGIN:DAYLIGHT
TZOFFSETFROM:-0500
TZOFFSETTO:-0400
TZNAME:EDT
DTSTART:20240310T070000
END:DAYLIGHT
BEGIN:STANDARD
TZOFFSETFROM:-0400
TZOFFSETTO:-0500
TZNAME:EST
DTSTART:20241103T060000
END:STANDARD
BEGIN:DAYLIGHT
TZOFFSETFROM:-0500
TZOFFSETTO:-0400
TZNAME:EDT
DTSTART:20250309T070000
END:DAYLIGHT
BEGIN:STANDARD
TZOFFSETFROM:-0400
TZOFFSETTO:-0500
TZNAME:EST
DTSTART:20251102T060000
END:STANDARD
BEGIN:DAYLIGHT
TZOFFSETFROM:-0500
TZOFFSETTO:-0400
TZNAME:EDT
DTSTART:20260308T070000
END:DAYLIGHT
BEGIN:STANDARD
TZOFFSETFROM:-0400
TZOFFSETTO:-0500
TZNAME:EST
DTSTART:20261101T060000
END:STANDARD
END:VTIMEZONE
BEGIN:VEVENT
DTSTART;TZID=America/New_York:20250812T100000
DTEND;TZID=America/New_York:20250815T170000
DTSTAMP:20260425T094039
CREATED:20250723T220449Z
LAST-MODIFIED:20250814T191840Z
UID:23755-1754992800-1755277200@explorebeaufortsc.com
SUMMARY:Great Estate Buying Event - The Jeweler's Bench
DESCRIPTION:If you’ve been thinking about selling your valuables\, we’re hosting our Great Estate Buying Event at: \nThe Jeweler’s Bench603 Carteret St.Beaufort\, SC 29902 \nAugust 12-August 15Tuesday-Thursday 10am-5pmFriday 10am-3pm \nWe are purchasing estate jewelry\, diamonds\, watches\, gold\, silver\, coins and more! \nOur experienced staff will evaluate any item\, no matter how small\, and make you an offer. If you decide to sell\, we will pay you on the spot! \nMake appointments here: https://www.julesestatebuyers.com/event/beaufort-sc
URL:https://explorebeaufortsc.com/event/great-estate-buying-event-the-jewelers-bench-2/
LOCATION:603 Carteret St.\, Beaufort\, SC 29902\, 603 Carteret St.\, Beaufort\, SC 29902
ORGANIZER;CN="Jules Estate Buyers%2C Inc.":MAILTO:noreply@facebookmail.com
END:VEVENT
BEGIN:VEVENT
DTSTART;TZID=America/New_York:20250814T090000
DTEND;TZID=America/New_York:20250814T120000
DTSTAMP:20260425T094039
CREATED:20250806T204343Z
LAST-MODIFIED:20250814T191840Z
UID:23918-1755162000-1755172800@explorebeaufortsc.com
SUMMARY:Spirit of '45 Commemoration Ceremony
DESCRIPTION:The VA National Cemetery Administration is partnering with the Spirit of ’45 organization to recognize the 80th anniversary of the end of World War II. A wreath-laying ceremony will be held at Beaufort National Cemetery on Thursday\, August 14\, 2025\, at 9:00 a.m. at the main flagpole. Please join us to commemorate the end of World War II and recognize our World War II Veterans for their service and sacrifice.
URL:https://explorebeaufortsc.com/event/spirit-of-45-commemoration-ceremony/
LOCATION:1601 Boundary Street\, Beaufort\, SC\, United States\, South Carolina 29902\, 1601 Boundary Street\, Beaufort\, SC\, United States\, South Carolina 29902
ORGANIZER;CN="Beaufort National Cemetery":MAILTO:noreply@facebookmail.com
END:VEVENT
BEGIN:VEVENT
DTSTART;TZID=America/New_York:20250814T090000
DTEND;TZID=America/New_York:20250814T090000
DTSTAMP:20260425T094039
CREATED:20250805T132426Z
LAST-MODIFIED:20250805T132426Z
UID:23833-1755162000-1755162000@explorebeaufortsc.com
SUMMARY:Spirit of 45 Ceremony at Beaufort National Cemetery
DESCRIPTION:The VA National Cemetery Administration is partnering with the Spirit of ’45 organization to recognize the 80th anniversary of the end of World War II.  \nA wreath-laying ceremony will be held at Beaufort National Cemetery on Thursday\, August 14\, 2025\, at 9:00 a.m. at the main flagpole.  \nPlease join us to commemorate the end of World War II and recognize our World War II Veterans for their service and sacrifice.
URL:https://explorebeaufortsc.com/event/spirit-of-45-ceremony-at-beaufort-national-cemetery/
LOCATION:Beaufort National Cemetery\, 1601 Boundary Street\, BEAUFORT\, SC\, 29902\, United States
ATTACH;FMTTYPE=image/jpeg:https://explorebeaufortsc.com/wp-content/uploads/2025/08/spirit45.jpg
END:VEVENT
BEGIN:VEVENT
DTSTART;TZID=America/New_York:20250814T100000
DTEND;TZID=America/New_York:20250814T130000
DTSTAMP:20260425T094039
CREATED:20250805T132601Z
LAST-MODIFIED:20250814T191841Z
UID:23855-1755165600-1755176400@explorebeaufortsc.com
SUMMARY:Cemetery Walking Tour
DESCRIPTION:Beaufort National Cemetery is the 13th oldest national cemetery in the United States and is the final resting place for over 28\,000 veterans and eligible family members. Would you like to learn about some of the heroes buried here and their stories? Come join our cemetery walking tour. Volunteer docents will take you on a tour through the 162-year old cemetery and learn about our nation’s history through the stories of those who served and defended it. Tours start at the main flagpole. For more information\, contact the cemetery at 843-524-3925.
URL:https://explorebeaufortsc.com/event/cemetery-walking-tour-20/
LOCATION:1601 Boundary Street\, Beaufort\, SC\, United States\, South Carolina 29902\, 1601 Boundary Street\, Beaufort\, SC\, United States\, South Carolina 29902
ORGANIZER;CN="Beaufort National Cemetery":MAILTO:noreply@facebookmail.com
END:VEVENT
BEGIN:VEVENT
DTSTART;TZID=America/New_York:20250814T173000
DTEND;TZID=America/New_York:20250814T203000
DTSTAMP:20260425T094039
CREATED:20250805T132556Z
LAST-MODIFIED:20250814T191841Z
UID:23838-1755192600-1755203400@explorebeaufortsc.com
SUMMARY:Candle Making Class
DESCRIPTION:Our next class is candle making!! Chose between these two cuties with a multitude of scents to chose from. These make great gifts or keep it for yourself!This class is just $35 and already filling up!  \nJoin is next Thursday at 5:30. Let us know you are coming by sign g up here or call 843-470-1110 to make your reservation!
URL:https://explorebeaufortsc.com/event/candle-making-class/
LOCATION:Nuances\, Nuances
ORGANIZER;CN="Nuances":MAILTO:noreply@facebookmail.com
END:VEVENT
BEGIN:VEVENT
DTSTART;TZID=America/New_York:20250814T180000
DTEND;TZID=America/New_York:20250814T193000
DTSTAMP:20260425T094039
CREATED:20250611T142924Z
LAST-MODIFIED:20250814T191841Z
UID:23445-1755194400-1755199800@explorebeaufortsc.com
SUMMARY:Open Mic Night--Featuring Novelist Michael Spake\, Author of Life Close to the Bone
DESCRIPTION:The Pat Conroy Literary Center’s monthly Open Mic Night will be held at the Conroy Center (601 Bladen St.) on Thursday\, August 14\, from 6:00 to 7:30 p.m. Our featured novelist will be Michael Spake\, author of Life Close to the Bone. Open Mic will also include short readings of 3 to 5 minutes each by other writers in many genres. \nInterested in reading as part of Open Mic? Let us know at contact@patconroyliterarycenter.org. \nAbout Our Featured AuthorsMichael Spake is the author of Life Close to the Bone\, his debut novel exploring the intricate layers of the past and the challenge of connecting them to the present. Inspired by his experience playing junior tennis in South Carolina and his career as a healthcare attorney\, the novel delves into themes of memory\, heritage\, and personal transformation. In addition to Life Close to the Bone\, Michael has published short stories in Well Read Magazine’s Best of 2023 and 2024\, capturing the culture and history of his hometown\, Anderson\, SC in Well Read Magazine’s Best of 2023 and 2024. Michael graduated from The Citadel in 1994 where he received the Granville T. Prior Award for his exploration of Christian Mysticism in the works of T.S. Eliot. Michael lives in Lakeland\, Florida with his wife Mary Lucia Spake. Together they have four children: Henry\, Mary Clare\, Kathryn\, and Vivian. \n“In Life Close to the Bone\, debut novelist Michael Spake skillfully explores the complexity of the past and the impossibility of ever escaping its impact on the present. As protagonist John Greenburn\, a former tennis star turned pharmaceutical ethics attorney\, struggles to uncover the potential danger of a new drug\, he is drawn back into a past that threatens to undermine all he’s worked to achieve. Despite his reluctance to revisit old traumas\, John’s only hope for redemption is to face headlong the long-buried demons he has yet to acknowledge. Ultimately\, John’s journey in connecting the past to the present belongs to all of us.”–Cassandra King\, author of Tell Me a Story: My Life with Pat Conroy
URL:https://explorebeaufortsc.com/event/open-mic-night-featuring-novelist-michael-spake-author-of-life-close-to-the-bone/
LOCATION:601 Bladen Street\, Beaufort\, SC\, United States\, South Carolina 29902\, 601 Bladen Street\, Beaufort\, SC\, United States\, South Carolina 29902
ORGANIZER;CN="Pat Conroy Literary Center":MAILTO:noreply@facebookmail.com
END:VEVENT
BEGIN:VEVENT
DTSTART;TZID=America/New_York:20250814T180000
DTEND;TZID=America/New_York:20250814T210000
DTSTAMP:20260425T094039
CREATED:20250805T132601Z
LAST-MODIFIED:20250814T191841Z
UID:23856-1755194400-1755205200@explorebeaufortsc.com
SUMMARY:Free Class On Heirs' Property and Estate Planning
DESCRIPTION:Many families in the Lowcountry unknowingly put their generational wealth at risk due to common misunderstandings about Heirs’ Property.  \nThis free class\, presented by Lowcountry Legal Volunteers in partnership with Freedman Arts District\, will break down the legal myths that often lead to land loss\, family disputes\, and court battles.  \nYou’ll learn why simply living on or paying taxes for inherited property doesn’t guarantee ownership\, how to legally protect your family’s land\, and what happens when there’s no will in place.  \nAttorneys Anne Caywood and Cherese Handy will guide attendees through practical steps in estate planning\, including wills and healthcare power of attorney.  \nWhether you’re a landowner\, heir\, or just want to be informed\, this class is an essential step toward securing your family’s future. Join us on August 14 at 6PM at 1401 Duke Street and leave empowered with the knowledge to protect what matters most.
URL:https://explorebeaufortsc.com/event/free-class-on-heirs-property-and-estate-planning/
LOCATION:1401 Duke Street\, Beaufort\, SC\, United States\, South Carolina 29902\, 1401 Duke Street\, Beaufort\, SC\, United States\, South Carolina 29902
ORGANIZER;CN="Freedman Arts District":MAILTO:noreply@facebookmail.com
END:VEVENT
END:VCALENDAR