BEGIN:VCALENDAR
VERSION:2.0
PRODID:-//Explore Beaufort SC - ECPv6.15.20//NONSGML v1.0//EN
CALSCALE:GREGORIAN
METHOD:PUBLISH
X-ORIGINAL-URL:https://explorebeaufortsc.com
X-WR-CALDESC:Events for Explore Beaufort SC
REFRESH-INTERVAL;VALUE=DURATION:PT1H
X-Robots-Tag:noindex
X-PUBLISHED-TTL:PT1H
BEGIN:VTIMEZONE
TZID:America/New_York
BEGIN:DAYLIGHT
TZOFFSETFROM:-0500
TZOFFSETTO:-0400
TZNAME:EDT
DTSTART:20240310T070000
END:DAYLIGHT
BEGIN:STANDARD
TZOFFSETFROM:-0400
TZOFFSETTO:-0500
TZNAME:EST
DTSTART:20241103T060000
END:STANDARD
BEGIN:DAYLIGHT
TZOFFSETFROM:-0500
TZOFFSETTO:-0400
TZNAME:EDT
DTSTART:20250309T070000
END:DAYLIGHT
BEGIN:STANDARD
TZOFFSETFROM:-0400
TZOFFSETTO:-0500
TZNAME:EST
DTSTART:20251102T060000
END:STANDARD
BEGIN:DAYLIGHT
TZOFFSETFROM:-0500
TZOFFSETTO:-0400
TZNAME:EDT
DTSTART:20260308T070000
END:DAYLIGHT
BEGIN:STANDARD
TZOFFSETFROM:-0400
TZOFFSETTO:-0500
TZNAME:EST
DTSTART:20261101T060000
END:STANDARD
END:VTIMEZONE
BEGIN:VEVENT
DTSTART;TZID=America/New_York:20250816T090000
DTEND;TZID=America/New_York:20250816T150000
DTSTAMP:20260425T112732
CREATED:20250805T132602Z
LAST-MODIFIED:20250814T191842Z
UID:23858-1755334800-1755356400@explorebeaufortsc.com
SUMMARY:Food Drive
DESCRIPTION:At our food drive\, we are dedicated to collecting food donations from the generous community that shops at our local Food Lion stores. Our primary recipients of these donations are the Saint Francis Center on St. Helena Island and the BackPack Buddy Program at Coosa Elementary. \nOur mission goes beyond just collecting food; we aim to raise awareness about food insecurity in our area and to alleviate this pressing issue as much as we can. We are inspired by the words of Christ: “When I was hungry\, you gave me food.” Together\, we can embody this call to action and make a meaningful difference in the lives of those in need.  \nJoin us in this vital mission to support our neighbors and strengthen our community! 💖🥫 #FeedTheHungry #CommunityLove
URL:https://explorebeaufortsc.com/event/food-drive/
LOCATION:Food Lion Stores on Boundary & Parris Island Gateway\, Food Lion Stores on Boundary & Parris Island Gateway
END:VEVENT
BEGIN:VEVENT
DTSTART;TZID=America/New_York:20250816T090000
DTEND;TZID=America/New_York:20250816T120000
DTSTAMP:20260425T112732
CREATED:20250814T191842Z
LAST-MODIFIED:20250814T191842Z
UID:23979-1755334800-1755345600@explorebeaufortsc.com
SUMMARY:Market on the Farm at New Leaf Produce: 8/16/25
DESCRIPTION:Join us for Market on the Farm on Saturday\, 8/16\, 9am-Noon. Freshly-cut finds of artisan lettuce\, arugula\, parsley\, basil\, fresh local eggs\, and flowers. Limited selection. Cash/card welcome. #supportyourfarmer #familyownedbusiness #sthelenaisland #BeaufortSC #freshproducemarket
URL:https://explorebeaufortsc.com/event/market-on-the-farm-at-new-leaf-produce-8-16-25/
LOCATION:119 Scott Hill Road\, Beaufort\, SC\, United States\, South Carolina 29920\, 119 Scott Hill Road\, Beaufort\, SC\, United States\, South Carolina 29920
END:VEVENT
BEGIN:VEVENT
DTSTART;TZID=America/New_York:20250816T100000
DTEND;TZID=America/New_York:20250816T150000
DTSTAMP:20260425T112732
CREATED:20250611T142924Z
LAST-MODIFIED:20250814T191842Z
UID:23446-1755338400-1755356400@explorebeaufortsc.com
SUMMARY:STEAM Festival
DESCRIPTION:Sponsored by Palmetto Bluff Conservancy & Beaufort Memorial Hospital \nOur 9th annual STEAM Festival will provide hands-on\, innovative and super-cool activities for families to enjoy. STEAM (Science\, Technology\, Engineering\, Art and Math)\, is an important initiative for educating and preparing today’s students for tomorrow’s jobs. The festival will showcase demonstrations\, simulations\, experiments and hands-on activities by area businesses\, organizations and schools that are using STEAM to succeed. This event is FREE! \nStay for lunch! Food trucks will be on-site!
URL:https://explorebeaufortsc.com/event/steam-festival-4/
LOCATION:Port Royal Sound Foundation
ORGANIZER;CN="Port Royal Sound Foundation":MAILTO:noreply@facebookmail.com
END:VEVENT
BEGIN:VEVENT
DTSTART;TZID=America/New_York:20250816T120000
DTEND;TZID=America/New_York:20250816T150000
DTSTAMP:20260425T112732
CREATED:20250712T034918Z
LAST-MODIFIED:20250814T191842Z
UID:23679-1755345600-1755356400@explorebeaufortsc.com
SUMMARY:Port Royal Community Reunion Day!
DESCRIPTION:If you’ve been tagged\, it’s because we are trying to get the ball rolling on Port Royal Day on August\, 16th\, 2025. We have lost a lot of family and friends in our community. Looking to form a commitee so please tag a name\, or yourself if you want to be on the committee
URL:https://explorebeaufortsc.com/event/port-royal-community-reunion-day/
LOCATION:John S Parker park\, John S Parker park
END:VEVENT
END:VCALENDAR