BEGIN:VCALENDAR
VERSION:2.0
PRODID:-//Explore Beaufort SC - ECPv6.15.20//NONSGML v1.0//EN
CALSCALE:GREGORIAN
METHOD:PUBLISH
X-ORIGINAL-URL:https://explorebeaufortsc.com
X-WR-CALDESC:Events for Explore Beaufort SC
REFRESH-INTERVAL;VALUE=DURATION:PT1H
X-Robots-Tag:noindex
X-PUBLISHED-TTL:PT1H
BEGIN:VTIMEZONE
TZID:America/New_York
BEGIN:DAYLIGHT
TZOFFSETFROM:-0500
TZOFFSETTO:-0400
TZNAME:EDT
DTSTART:20240310T070000
END:DAYLIGHT
BEGIN:STANDARD
TZOFFSETFROM:-0400
TZOFFSETTO:-0500
TZNAME:EST
DTSTART:20241103T060000
END:STANDARD
BEGIN:DAYLIGHT
TZOFFSETFROM:-0500
TZOFFSETTO:-0400
TZNAME:EDT
DTSTART:20250309T070000
END:DAYLIGHT
BEGIN:STANDARD
TZOFFSETFROM:-0400
TZOFFSETTO:-0500
TZNAME:EST
DTSTART:20251102T060000
END:STANDARD
BEGIN:DAYLIGHT
TZOFFSETFROM:-0500
TZOFFSETTO:-0400
TZNAME:EDT
DTSTART:20260308T070000
END:DAYLIGHT
BEGIN:STANDARD
TZOFFSETFROM:-0400
TZOFFSETTO:-0500
TZNAME:EST
DTSTART:20261101T060000
END:STANDARD
END:VTIMEZONE
BEGIN:VEVENT
DTSTART;TZID=America/New_York:20250823T100000
DTEND;TZID=America/New_York:20250823T130000
DTSTAMP:20260425T112731
CREATED:20250805T132603Z
LAST-MODIFIED:20250817T233430Z
UID:23862-1755943200-1755954000@explorebeaufortsc.com
SUMMARY:Yo-Yo Workshop
DESCRIPTION:THIS WORKSHOP HAS BEEN POSTPONED — watch our website for the rescheduled date later this fall:https://www.seaislandquilters.com/workshops
URL:https://explorebeaufortsc.com/event/yo-yo-workshop/
LOCATION:18 John Galt Rd\, Beaufort\, SC 29906-4290\, United States\, 18 John Galt Rd\, Beaufort\, SC 29906-4290\, United States
ORGANIZER;CN="Sea Island Quilters":MAILTO:noreply@facebookmail.com
END:VEVENT
BEGIN:VEVENT
DTSTART;TZID=America/New_York:20250823T100000
DTEND;TZID=America/New_York:20250823T160000
DTSTAMP:20260425T112731
CREATED:20250805T132604Z
LAST-MODIFIED:20250817T233430Z
UID:23863-1755943200-1755964800@explorebeaufortsc.com
SUMMARY:RETRO SUMMER SIP & STROLL Downtown Beaufort\, South Carolina
DESCRIPTION:TICKETS GO ON SALE FRIDAY JULY 11  \nCome join us for the RETRO SUMMER Sip & Stroll event in beautiful downtown Beaufort\, South Carolina! It’s an 80s – 90s remix!  \nWelcome Y’all to a day of 80s-90s themed goodies\, shopping\, and dining for Downtown Beaufort’s RETRO SUMMER Sip & Stroll event. The Sip & Stroll is a chance to explore the various Downtown Beaufort retailers while enjoying complimentary beverages and special retail and restaurant promotions. This event combines all that we love about downtown Beaufort. Experience downtown as it’s meant to be experienced – while strolling! \nJoin us August 23rd in Historic Downtown Beaufort\, South Carolina as we celebrate Summer in a fun way! \nThe Sip & Stroll offers several ticket options from 10am up until the last stroll at 2pm. Each attendee receives a swag item and access to all the goodie stations spread throughout downtown Beaufort. \nSee the official Sip & Stroll map for exact goodie stations (coming soon!). Goodie stations will feature either a beverage\, something yummy or something swag for you to have during your stroll.  \nDowntown merchants will be open for shopping during or after the stroll. Restaurants will be featuring lunch and dinner specials as well! \nSo grab your gal pals\, friends\, family\, or significant other for a fun filled day in Downtown Beaufort during the Sip & Stroll! \nDowntown Beaufort’s Sip & Stroll Events are a 21+ (to drink) event for you\, your friends\, significant other\, family\, and coworkers. Under 21 are permitted and children under 6 are free. Parking is recommended at Marina lot. Registration pickup and starting point is at the old Wells Fargo entrance on Bay Street (Next to Best Western). Please show up 15-20 minutes prior to start time to pick up your packets\, T-shirts and complete ID process for alcohol approval. \n*This is a rain or shine event. No refunds. Attendee assumes all risks and accepts sole responsibility for any injury (including\, but not limited to\, personal injury\, disability\, and death)\, illness\, damage\, loss\, claim\, liability or expense\, of any kind\, that attendee may experience or incur in connection with attending the event. Attendee hereby releases\, covenants not to sue\, discharges and holds harmless all organizers\, its employees\, agents\, and representatives\, of and from any such claims\, including all liabilities\, claims\, actions\, damages\, costs or expenses of any kind arising out of or relating thereto. \nThis event is organized in part by the Beaufort Area Hospitality Association to support our downtown Beaufort businesses.  \nWant to help sponsor one of our Activate events? email Ashlee@bfthospitality.com for more information.
URL:https://explorebeaufortsc.com/event/retro-summer-sip-stroll-downtown-beaufort-south-carolina/
LOCATION:Beaufort\, SC\, United States\, South Carolina 29901\, Beaufort\, SC\, United States\, South Carolina 29901
ORGANIZER;CN="Beaufort Area Hospitality Association":MAILTO:noreply@facebookmail.com
END:VEVENT
BEGIN:VEVENT
DTSTART;TZID=America/New_York:20250823T160000
DTEND;TZID=America/New_York:20250823T183000
DTSTAMP:20260425T112731
CREATED:20250814T191844Z
LAST-MODIFIED:20250817T233430Z
UID:23987-1755964800-1755973800@explorebeaufortsc.com
SUMMARY:RLB Distillery Crushed Glass Suncatcher Create & Sip 8/23
DESCRIPTION:Join our next fun Crushed Glass Suncatcher Create & Sip!Cocktail Tasting starts at 4 pm\, and Workshop starts at 4.30 pm (distillery tour included\, but optional) \nPerfect for beginners and seasoned crafters alike\, this workshop includes:Step-by-step guidance by Camilla PagliaroliAll craft materialsTips on working safely and effectively with resinYour own finished crushed glass suncatcher to take home on the same day! \nAdvance booking only\, as space is limited. Refunds for cancellation not allowed within 48 hours of the event\, and service fee is non-refundable. Designated Driver and Under 21 pricing are for Workshop only.Under 21 must be with a parent/guardian.
URL:https://explorebeaufortsc.com/event/rlb-distillery-crushed-glass-suncatcher-create-sip-8-23/
LOCATION:Rotten Little Bastard Distillery
ORGANIZER;CN="Create with Camilla":MAILTO:noreply@facebookmail.com
END:VEVENT
BEGIN:VEVENT
DTSTART;TZID=America/New_York:20250823T163000
DTEND;TZID=America/New_York:20250823T183000
DTSTAMP:20260425T112731
CREATED:20250712T034923Z
LAST-MODIFIED:20250817T233430Z
UID:23683-1755966600-1755973800@explorebeaufortsc.com
SUMMARY:Silent Book Club Beaufort
DESCRIPTION:Silent Book Club Beaufort\, a unique take on the traditional book club\, will hold its next meetup on Saturday\, August 23\, from 4:30 to 6:30PM at the nonprofit Pat Conroy Literary Center (601 Bladen St.). A relaxed and pressure-free space for readers of all types\, this community gathering invites book lovers to enjoy their current reads in a welcoming and peaceful atmosphere. \nSilent Book Club Beaufort is co-sponsored by the Conroy Center and the student book club DAYLO (Diversity Awareness Youth Literacy Organization). \nUnlike traditional book clubs\, Silent Book Club Beaufort has no assigned reading\, no deadlines\, and no discussions required. Whether you prefer ebooks\, audiobooks\, comic books\, textbooks\, or paperbacks\, readers are invited to bring their book of choice\, settle in\, and savor the joy of uninterrupted reading among like-minded individuals. \nSilent Book Club Beaufort also features a book swap: Leave a book\, take a book.  \nThe casual meetups provide an excellent opportunity to discover new book recommendations\, make friends\, and reconnect with the love of reading. Whether you’re a lifelong bookworm or just getting back into reading\, everyone is welcome.  \nSilent Book Club Beaufort is free to attend and proudly supports local businesses and organizations. Additional dates and locations will be announced via the SBCB Instagram page at www.instagram.com/silentbookclubbeaufort.
URL:https://explorebeaufortsc.com/event/silent-book-club-beaufort-8/
LOCATION:601 Bladen Street\, Beaufort\, SC\, United States\, South Carolina 29902\, 601 Bladen Street\, Beaufort\, SC\, United States\, South Carolina 29902
ORGANIZER;CN="Pat Conroy Literary Center":MAILTO:noreply@facebookmail.com
END:VEVENT
BEGIN:VEVENT
DTSTART;TZID=America/New_York:20250823T180000
DTEND;TZID=America/New_York:20250823T210000
DTSTAMP:20260425T112731
CREATED:20250712T034923Z
LAST-MODIFIED:20250817T233431Z
UID:23684-1755972000-1755982800@explorebeaufortsc.com
SUMMARY:The Healthy Lowcountry Lady
DESCRIPTION:This family friendly event is in the Culinary Journey Series that focuses on health\,the enjoyment of food and its benefits to our health and wellbeing. This event will also feature the role of nutrition counselors and doulas.There will be 4-H Healthy Living activities for children & youth.
URL:https://explorebeaufortsc.com/event/the-healthy-lowcountry-lady/
LOCATION:42 Robert and Clara Trail\, Saint Helena Island\, SC\, 42 Robert and Clara Trail\, Saint Helena Island\, SC
ORGANIZER;CN="Morning Glory Homestead":MAILTO:noreply@facebookmail.com
END:VEVENT
END:VCALENDAR