BEGIN:VCALENDAR
VERSION:2.0
PRODID:-//Explore Beaufort SC - ECPv6.15.20//NONSGML v1.0//EN
CALSCALE:GREGORIAN
METHOD:PUBLISH
X-WR-CALNAME:Explore Beaufort SC
X-ORIGINAL-URL:https://explorebeaufortsc.com
X-WR-CALDESC:Events for Explore Beaufort SC
REFRESH-INTERVAL;VALUE=DURATION:PT1H
X-Robots-Tag:noindex
X-PUBLISHED-TTL:PT1H
BEGIN:VTIMEZONE
TZID:America/New_York
BEGIN:DAYLIGHT
TZOFFSETFROM:-0500
TZOFFSETTO:-0400
TZNAME:EDT
DTSTART:20240310T070000
END:DAYLIGHT
BEGIN:STANDARD
TZOFFSETFROM:-0400
TZOFFSETTO:-0500
TZNAME:EST
DTSTART:20241103T060000
END:STANDARD
BEGIN:DAYLIGHT
TZOFFSETFROM:-0500
TZOFFSETTO:-0400
TZNAME:EDT
DTSTART:20250309T070000
END:DAYLIGHT
BEGIN:STANDARD
TZOFFSETFROM:-0400
TZOFFSETTO:-0500
TZNAME:EST
DTSTART:20251102T060000
END:STANDARD
BEGIN:DAYLIGHT
TZOFFSETFROM:-0500
TZOFFSETTO:-0400
TZNAME:EDT
DTSTART:20260308T070000
END:DAYLIGHT
BEGIN:STANDARD
TZOFFSETFROM:-0400
TZOFFSETTO:-0500
TZNAME:EST
DTSTART:20261101T060000
END:STANDARD
END:VTIMEZONE
BEGIN:VEVENT
DTSTART;TZID=America/New_York:20250825T180000
DTEND;TZID=America/New_York:20250825T200000
DTSTAMP:20260425T094029
CREATED:20250814T191845Z
LAST-MODIFIED:20250825T211201Z
UID:23988-1756144800-1756152000@explorebeaufortsc.com
SUMMARY:Pat Conroy: An Introduction to a Lowcountry Legend
DESCRIPTION:On Monday\, August 25\, at 6:00-8:00 p.m.\, Village Social of Habersham will host Pat Conroy: An Introduction to a Lowcountry Legend\, presented by Jonathan Haupt\, executive director of the nonprofit Pat Conroy Literary Center. This special event is the first in a series of collaborative lectures and author discussions to be held in partnership between Village Social of Habersham and the Conroy Center from August through February.  \nInternationally acclaimed writer Pat Conroy (1945-2016) is best remembered as the author of The Water Is Wide\, The Great Santini\, The Lords of Discipline\, and The Prince of Tides\, each also adapted for film. Conroy has become as synonymous with his adopted lowcountry as pluff mud or Spanish Moss. Join the Conroy Center executive director—and one of Pat’s many protégés—for an engaging hour of stories\, photos\, and videos introducing Conroy’s origin story\, the beginnings of his writing and teaching life and exploring some of the major themes of his work\, and how the nonprofit literary center established in his memory continues his legacy. \nThe $25 registration fee includes the presentation\, refreshments\, and a donation in support of the year-round educational mission of the nonprofit Pat Conroy Literary Center. Register in advance for this event and others in this series at https://www.villagesocialhabersham.net/upcoming-events \nAbout Our Presenter:Jonathan Haupt is the executive director of the nonprofit Pat Conroy Literary Center\, the past director of the University of South Carolina Press\, and co-editor of the anthology Our Prince of Scribes: Writers Remember Pat Conroy\, winner of 17 book awards. He is a frequent guest book reviewer for the Pulitzer Prize-winning Charleston Post and Courier. He has been honored with the Doug Marlette Literacy Leadership Award\, and the South Carolina Association of School Librarians President’s Award. Under Jonathan’s leadership\, the Conroy Center has been recognized as an American Library Association Literary Landmark\, an affiliate of the American Writers Museum\, and winner of the Civitas Award for Tourism Leadership. With Claire Bennett\, Jonathan also serves as co-mentor to the student leaders of DAYLO: Diversity Awareness Youth Literacy Organization\, who in turn have been recognized with a national commendation from the American Association of School Librarians\, the South Carolina Education Association’s Richard W. Riley Award for Human and Civil Rights\, and an honorable mention for the South Carolina Library Association’s Intellectual Freedom Award.
URL:https://explorebeaufortsc.com/event/pat-conroy-an-introduction-to-a-lowcountry-legend/
LOCATION:21A-1 Market Street. Beaufort\, SC 29906\, 21A-1 Market Street. Beaufort\, SC 29906
ORGANIZER;CN="Pat Conroy Literary Center":MAILTO:noreply@facebookmail.com
END:VEVENT
BEGIN:VEVENT
DTSTART;TZID=America/New_York:20250825T180000
DTEND;TZID=America/New_York:20250825T210000
DTSTAMP:20260425T094029
CREATED:20250814T191845Z
LAST-MODIFIED:20250825T211201Z
UID:23990-1756144800-1756155600@explorebeaufortsc.com
SUMMARY:Beaufort WyldLife Ice Cream Olympics
DESCRIPTION:🎉 Middle School Parents\, you’re Invited! 🎉Beaufort WyldLife is kicking off the school year with a wild and fun night of Ice Cream Olympics on Monday\, August 25 🍦🥇 \nThis is the perfect chance for new 6th graders and any middle schooler not yet connected to WyldLife to dive in and join the fun! We’ll have informational handouts for parents and more ice cream than you thought possible. \n📅 Monday\, August 25🕕 6:00–8:00 PM📍 12 Sheffield Ave👕 Wear clothes that can get messy! \nGet ready for a night your kid will talk about ALL year!
URL:https://explorebeaufortsc.com/event/beaufort-wyldlife-ice-cream-olympics/
LOCATION:12 Sheffield Ave\, Beaufort\, SC 29907-1753\, United States\, 12 Sheffield Ave\, Beaufort\, SC 29907-1753\, United States
ORGANIZER;CN="Young LIFE Beaufort":MAILTO:noreply@facebookmail.com
END:VEVENT
END:VCALENDAR