BEGIN:VCALENDAR
VERSION:2.0
PRODID:-//Explore Beaufort SC - ECPv6.15.20//NONSGML v1.0//EN
CALSCALE:GREGORIAN
METHOD:PUBLISH
X-WR-CALNAME:Explore Beaufort SC
X-ORIGINAL-URL:https://explorebeaufortsc.com
X-WR-CALDESC:Events for Explore Beaufort SC
REFRESH-INTERVAL;VALUE=DURATION:PT1H
X-Robots-Tag:noindex
X-PUBLISHED-TTL:PT1H
BEGIN:VTIMEZONE
TZID:America/New_York
BEGIN:DAYLIGHT
TZOFFSETFROM:-0500
TZOFFSETTO:-0400
TZNAME:EDT
DTSTART:20240310T070000
END:DAYLIGHT
BEGIN:STANDARD
TZOFFSETFROM:-0400
TZOFFSETTO:-0500
TZNAME:EST
DTSTART:20241103T060000
END:STANDARD
BEGIN:DAYLIGHT
TZOFFSETFROM:-0500
TZOFFSETTO:-0400
TZNAME:EDT
DTSTART:20250309T070000
END:DAYLIGHT
BEGIN:STANDARD
TZOFFSETFROM:-0400
TZOFFSETTO:-0500
TZNAME:EST
DTSTART:20251102T060000
END:STANDARD
BEGIN:DAYLIGHT
TZOFFSETFROM:-0500
TZOFFSETTO:-0400
TZNAME:EDT
DTSTART:20260308T070000
END:DAYLIGHT
BEGIN:STANDARD
TZOFFSETFROM:-0400
TZOFFSETTO:-0500
TZNAME:EST
DTSTART:20261101T060000
END:STANDARD
END:VTIMEZONE
BEGIN:VEVENT
DTSTART;TZID=America/New_York:20250828T100000
DTEND;TZID=America/New_York:20250828T130000
DTSTAMP:20260425T094031
CREATED:20250814T191846Z
LAST-MODIFIED:20250825T211203Z
UID:23994-1756375200-1756386000@explorebeaufortsc.com
SUMMARY:Cemetery Walking Tour
DESCRIPTION:Beaufort National Cemetery is the 13th oldest national cemetery in the United States and is the final resting place for over 28\,000 veterans and eligible family members. Would you like to learn about some of the heroes buried here and their stories? Come join our cemetery walking tour. Volunteer docents will take you on a tour through the 162-year old cemetery and learn about our nation’s history through the stories of those who served and defended it. Tours start at the main flagpole. For more information\, contact the cemetery at 843-524-3925.
URL:https://explorebeaufortsc.com/event/cemetery-walking-tour-22/
LOCATION:1601 Boundary Street\, Beaufort\, SC\, United States\, South Carolina 29902\, 1601 Boundary Street\, Beaufort\, SC\, United States\, South Carolina 29902
ORGANIZER;CN="Beaufort National Cemetery":MAILTO:noreply@facebookmail.com
END:VEVENT
BEGIN:VEVENT
DTSTART;TZID=America/New_York:20250828T110000
DTEND;TZID=America/New_York:20250828T140000
DTSTAMP:20260425T094031
CREATED:20250825T211203Z
LAST-MODIFIED:20250825T211203Z
UID:24120-1756378800-1756389600@explorebeaufortsc.com
SUMMARY:Recline & Unwind Social Spa - Grand Opening
DESCRIPTION:Join us as we mark the beginning of something new and exciting in Beaufort\, SC! Recline & Unwind Social Spa will celebrate its Grand Opening on Thursday\, August 28th at 11:30am. We look forward to seeing you there!
URL:https://explorebeaufortsc.com/event/recline-unwind-social-spa-grand-opening/
LOCATION:204 Carteret Street\, Beaufort\, SC\, 204 Carteret Street\, Beaufort\, SC
END:VEVENT
BEGIN:VEVENT
DTSTART;TZID=America/New_York:20250828T173000
DTEND;TZID=America/New_York:20250828T203000
DTSTAMP:20260425T094031
CREATED:20250825T211204Z
LAST-MODIFIED:20250825T211204Z
UID:24123-1756402200-1756413000@explorebeaufortsc.com
SUMMARY:Mandala Art Class
DESCRIPTION:Come join us for craft class! We will be teaching mandala art on seashells! Snacks and wine will be served
URL:https://explorebeaufortsc.com/event/mandala-art-class/
LOCATION:918 8th Street\, Port Royal\, SC\, United States\, South Carolina 29935\, 918 8th Street\, Port Royal\, SC\, United States\, South Carolina 29935
ORGANIZER;CN="Nuances":MAILTO:noreply@facebookmail.com
END:VEVENT
END:VCALENDAR