BEGIN:VCALENDAR
VERSION:2.0
PRODID:-//Explore Beaufort SC - ECPv6.15.20//NONSGML v1.0//EN
CALSCALE:GREGORIAN
METHOD:PUBLISH
X-WR-CALNAME:Explore Beaufort SC
X-ORIGINAL-URL:https://explorebeaufortsc.com
X-WR-CALDESC:Events for Explore Beaufort SC
REFRESH-INTERVAL;VALUE=DURATION:PT1H
X-Robots-Tag:noindex
X-PUBLISHED-TTL:PT1H
BEGIN:VTIMEZONE
TZID:America/New_York
BEGIN:DAYLIGHT
TZOFFSETFROM:-0500
TZOFFSETTO:-0400
TZNAME:EDT
DTSTART:20240310T070000
END:DAYLIGHT
BEGIN:STANDARD
TZOFFSETFROM:-0400
TZOFFSETTO:-0500
TZNAME:EST
DTSTART:20241103T060000
END:STANDARD
BEGIN:DAYLIGHT
TZOFFSETFROM:-0500
TZOFFSETTO:-0400
TZNAME:EDT
DTSTART:20250309T070000
END:DAYLIGHT
BEGIN:STANDARD
TZOFFSETFROM:-0400
TZOFFSETTO:-0500
TZNAME:EST
DTSTART:20251102T060000
END:STANDARD
BEGIN:DAYLIGHT
TZOFFSETFROM:-0500
TZOFFSETTO:-0400
TZNAME:EDT
DTSTART:20260308T070000
END:DAYLIGHT
BEGIN:STANDARD
TZOFFSETFROM:-0400
TZOFFSETTO:-0500
TZNAME:EST
DTSTART:20261101T060000
END:STANDARD
END:VTIMEZONE
BEGIN:VEVENT
DTSTART;TZID=America/New_York:20250903T113000
DTEND;TZID=America/New_York:20250903T130000
DTSTAMP:20260425T112605
CREATED:20250825T211206Z
LAST-MODIFIED:20250825T211206Z
UID:24126-1756899000-1756904400@explorebeaufortsc.com
SUMMARY:Shorts at High Noon - Wednesday\, Sept. 3rd
DESCRIPTION:Join the Beaufort Film Society at the Technical College of the Lowcountry Auditorium located at 921 Ribaut Road\, Building 12\, Beaufort each Wednesday for encore screenings of some of the best short\, students\, animation and doc short films from the 2025 film festival.  \nScreening on September 3rd:Gleam (Animation)Synopsis: A creature made of light escapes the house where it had been imprisoned for decades\, only to be met with a world very different from the one it remembers.. \nLollie (Student) \nTrailer:https://vimeo.com/1004184242Synopsis:A young lunch lady in Brazil needs to fight the world to protect her unique friendship with Lola\, a helpless 71-year-old woman with a mental disability. \nI’m Still Here (Short Doc) \nTrailer: https://bit.ly/4oKcqvBSynopsis:Between 1947 and 1967\, black owned homes in Birmingham\, Alabama were bombed over 50 times. Homes on Center Street were targeted so often\, the neighborhood became known as ‘Dynamite Hill.’ The street became an inflection point for the Civil Rights movement.I’m Still Here is a short film about three people who lived this history as children and elected to stay in Birmingham to try and turn the city’s struggles with Civil Rights into a symbol for hope. \nCheck in begins at 11:30 am. Screenings are FREE and open to the public and last approximately 1 hour. For the complete schedule please visit www.beaufortfilmfestival.com.
URL:https://explorebeaufortsc.com/event/shorts-at-high-noon-wednesday-sept-3rd/
LOCATION:921 Ribaut Rd\, Beaufort\, SC 29902-5441\, United States
END:VEVENT
BEGIN:VEVENT
DTSTART;TZID=America/New_York:20250903T170000
DTEND;TZID=America/New_York:20250903T200000
DTSTAMP:20260425T112605
CREATED:20250814T191848Z
LAST-MODIFIED:20250904T171017Z
UID:23999-1756918800-1756929600@explorebeaufortsc.com
SUMMARY:Make Your Own Mosaic Turtle or Butterfly
DESCRIPTION:Add some charm to your space with your own handmade mosaic turtle or butterfly! In this playful\, hands-on workshop\, you’ll create a colorful decorative piece using glass tiles. Whether you choose the graceful wings of a butterfly or the whimsical shell of a turtle\, you’ll leave with a vibrant mosaic critter full of personality. No experience needed—just bring your creativity! All materials and instruction included\, along with one cocktail tasting.The Turtle is 12″x11″The Butterfly is 16″x11″\, only 6 available\, this is an exciting upgrade for returning guests\, as it teaches a new technique with colored grout\, there is an additional $30 charge due to size and groutUnder 21 must be accompanied by an adult; closed toed shoes are recommended
URL:https://explorebeaufortsc.com/event/make-your-own-mosaic-turtle-or-butterfly/
LOCATION:2139 Boundary Street Unit 102\, Beaufort\, SC\, United States\, South Carolina 29902\, 2139 Boundary Street Unit 102\, Beaufort\, SC\, United States\, South Carolina 29902
ORGANIZER;CN="Rotten Little Bastard Distillery":MAILTO:noreply@facebookmail.com
END:VEVENT
BEGIN:VEVENT
DTSTART;TZID=America/New_York:20250903T173000
DTEND;TZID=America/New_York:20250903T193000
DTSTAMP:20260425T112605
CREATED:20250825T211206Z
LAST-MODIFIED:20250825T211206Z
UID:24128-1756920600-1756927800@explorebeaufortsc.com
SUMMARY:Beaufort Women in Tech Meetup: Art Therapy with Camilla
DESCRIPTION:We’re starting off September with a little creativity and relaxation! 🎨✨ On the first Wednesday of the month\, gather with us for an evening of art therapy with Camilla from Create with Camilla. She’ll guide us through a hands-on workshop where you’ll paint your very own wine glass. Choose between a coastal-inspired starfish or sea turtle design. \nYour $35 ticket includes:• All art supplies needed to complete your design• Step-by-step instructions from Camilla• Lite bites to enjoy while you paint \nThis is the perfect chance to unwind\, get creative\, and connect with the women in our tech community. \nOnly 10 spots are available! Grab your ticket today!
URL:https://explorebeaufortsc.com/event/beaufort-women-in-tech-meetup-art-therapy-with-camilla/
LOCATION:500 Carteret Street\, Beaufort\, SC\, United States\, South Carolina 29902\, 500 Carteret Street\, Beaufort\, SC\, United States\, South Carolina 29902
ORGANIZER;CN="Beaufort Digital Corridor":MAILTO:noreply@facebookmail.com
END:VEVENT
END:VCALENDAR