BEGIN:VCALENDAR
VERSION:2.0
PRODID:-//Explore Beaufort SC - ECPv6.15.20//NONSGML v1.0//EN
CALSCALE:GREGORIAN
METHOD:PUBLISH
X-ORIGINAL-URL:https://explorebeaufortsc.com
X-WR-CALDESC:Events for Explore Beaufort SC
REFRESH-INTERVAL;VALUE=DURATION:PT1H
X-Robots-Tag:noindex
X-PUBLISHED-TTL:PT1H
BEGIN:VTIMEZONE
TZID:America/New_York
BEGIN:DAYLIGHT
TZOFFSETFROM:-0500
TZOFFSETTO:-0400
TZNAME:EDT
DTSTART:20240310T070000
END:DAYLIGHT
BEGIN:STANDARD
TZOFFSETFROM:-0400
TZOFFSETTO:-0500
TZNAME:EST
DTSTART:20241103T060000
END:STANDARD
BEGIN:DAYLIGHT
TZOFFSETFROM:-0500
TZOFFSETTO:-0400
TZNAME:EDT
DTSTART:20250309T070000
END:DAYLIGHT
BEGIN:STANDARD
TZOFFSETFROM:-0400
TZOFFSETTO:-0500
TZNAME:EST
DTSTART:20251102T060000
END:STANDARD
BEGIN:DAYLIGHT
TZOFFSETFROM:-0500
TZOFFSETTO:-0400
TZNAME:EDT
DTSTART:20260308T070000
END:DAYLIGHT
BEGIN:STANDARD
TZOFFSETFROM:-0400
TZOFFSETTO:-0500
TZNAME:EST
DTSTART:20261101T060000
END:STANDARD
END:VTIMEZONE
BEGIN:VEVENT
DTSTART;TZID=America/New_York:20250909T150000
DTEND;TZID=America/New_York:20250909T163000
DTSTAMP:20260425T112839
CREATED:20250723T220451Z
LAST-MODIFIED:20250904T171024Z
UID:23763-1757430000-1757435400@explorebeaufortsc.com
SUMMARY:The Prince of Tides Book Club Discussion -- Presented by Jonathan Haupt & Ellen Malphrus
DESCRIPTION:“Wholeness. It all comes back. It’s all a circle.”–Pat Conroy\, The Prince of Tides \nPat Conroy’s 1986 masterwork The Prince of Tides is the quintessential lowcountry novel\, beloved by millions as their point of entrance into the lush southern geography\, lyrical voice\, and complex interweaving of fact and fiction which define the author’s literary legacy.  \nJoin Pat Conroy Literary Center executive director Jonathan Haupt and USC Beaufort English professor and Writer in Residence Ellen Malphrus for a book club discussion of the novel\, its major themes\, its 1991 Academy Award-nominated film adaptation\, its place in the Conroy literary canon\, and its lasting impact on lowcountry literature and lore.  \nThis event will be held at the Port Royal Sound Foundation Maritime Center (310 Okatie Hwy) on Tuesday\, September 9\, at 3:00-4:30 p.m. Attendees are encourage to read or re-read the novel prior to the event to better facilitate the book club discussion. $10/person. To register\, visit portroyalsoundfoundation.org and click the orange “Book A Program” button. \nAbout Our PresentersJonathan Haupt is the executive director of the nonprofit Pat Conroy Literary Center\, the past director of the University of South Carolina Press\, and co-editor of the anthology Our Prince of Scribes: Writers Remember Pat Conroy\, winner of 17 book awards. He is a frequent guest book reviewer for the Pulitzer Prize-winning Charleston Post and Courier. Under Jonathan’s leadership\, the Conroy Center has been recognized as an American Library Association Literary Landmark\, an affiliate of the American Writers Museum\, and winner of the Civitas Award for Tourism Leadership. \nDr. Ellen Malphrus is a professor of English and the Writer in Residence at the University of South Carolina Beaufort\, where she was honored as the 2022 Professor of the Year. Malphrus is the author of the novel Untying the Moon\, a contributing writer to Our Prince of Scribes: Writers Remember Pat Conroy\, and the author of poetry\, creative prose\, and scholarly work published in Poetry South\, Haight Ashbury Review\, Natural Bridge\, James Dickey Review\, Southern Literary Journal\, William & Mary Review\, Blue Mountain Review\, Fall Lines\, Review of Contemporary Fiction\, Weber—the Contemporary West\, and Literature: Reading and Writing with Critical Strategies.  \nAbout The Prince of Tides (from the publisher):Set in New York City and the low country of South Carolina\, The Prince of Tides opens when Tom\, a high school football coach whose marriage and career are crumbling\, flies from South Carolina to New York after learning of his twin sister’s suicide attempt. Savannah is one of the most gifted poets of her generation\, and both the cadenced beauty of her art and the jumbled cries of her illness are clues to the too-long-hidden story of her wounded family. In the paneled offices and luxurious restaurants of New York City\, Tom and Susan Lowenstein\, Savannah’s psychiatrist\, unravel a history of violence\, abandonment\, commitment\, and love. And Tom realizes that trying to save his sister is perhaps his last chance to save himself. \nWith passion and a rare gift of language\, Pat Conroy moves from present to past\, tracing the amazing history of the Wingos from World War II through the final days of the war in Vietnam and into the 1980s\, drawing a rich range of characters: the lovable\, crazy Mr. Fruit\, who for decades has wordlessly directed traffic at the same intersection in the southern town of Colleton; Reese Newbury\, the ruthless\, patrician land speculator who threatens the Wingos’ only secure worldly possession\, Melrose Island; Herbert Woodruff\, Susan Lowenstein’s husband\, a world-famous violinist; Tolitha Wingo\, Savannah’s mentor and eccentric grandmother\, the first real feminist in the Wingo family. \nPat Conroy reveals the lives of his characters with surpassing depth and power\, capturing the vanishing beauty of the South Carolina low country and a lost way of life.
URL:https://explorebeaufortsc.com/event/the-prince-of-tides-book-club-discussion-presented-by-jonathan-haupt-ellen-malphrus/
LOCATION:Port Royal Sound Foundation
ORGANIZER;CN="Pat Conroy Literary Center":MAILTO:noreply@facebookmail.com
END:VEVENT
BEGIN:VEVENT
DTSTART;TZID=America/New_York:20250909T150000
DTEND;TZID=America/New_York:20250909T170000
DTSTAMP:20260425T112839
CREATED:20250723T220452Z
LAST-MODIFIED:20250904T171024Z
UID:23764-1757430000-1757437200@explorebeaufortsc.com
SUMMARY:The Prince of Tides Book Club Discussion
DESCRIPTION:RSVP Required. Tickets $10/person.Click the orange “Book a Program” button to get tickets: Portroyalsoundfoundation.org \n“Wholeness. It all comes back. It’s all a circle.”–Pat Conroy\, The Prince of Tides \nPat Conroy’s 1986 masterwork The Prince of Tides is the quintessential Lowcountry novel\, beloved by millions as their point of entrance into the lush southern geography\, lyrical voice\, and complex interweaving of fact and fiction which define the author’s literary legacy. Join Pat Conroy Literary Center executive director Jonathan Haupt and USC Beaufort English professor and Writer in Residence Ellen Malphrus for a book club discussion of the novel\, its major themes\, its 1991 Academy Award-nominated film adaptation\, its place in the Conroy literary canon\, and its lasting impact on Lowcountry literature and lore. \nAbout Our Presenters: \nJonathan Haupt is the executive director of the nonprofit Pat Conroy Literary Center\, the past director of the University of South Carolina Press\, and co-editor of the anthology Our Prince of Scribes: Writers Remember Pat Conroy\, winner of 17 book awards. He is a frequent guest book reviewer for the Pulitzer Prize-winning Charleston Post and Courier. Under Jonathan’s leadership\, the Conroy Center has been recognized as an American Library Association Literary Landmark\, an affiliate of the American Writers Museum\, and winner of the Civitas Award for Tourism Leadership. \nDr. Ellen Malphrus is a professor of English and the Writer in Residence at the University of South Carolina Beaufort\, where she was honored as the 2022 Professor of the Year. Malphrus is the author of the novel Untying the Moon\, a contributing writer to Our Prince of Scribes: Writers Remember Pat Conroy\, and the author of poetry\, creative prose\, and scholarly work published in Poetry South\, Haight Ashbury Review\, Natural Bridge\, James Dickey Review\, Southern Literary Journal\, William & Mary Review\, Blue Mountain Review\, Fall Lines\, Review of Contemporary Fiction\, Weber—the Contemporary West\, and Literature: Reading and Writing with Critical Strategies.
URL:https://explorebeaufortsc.com/event/the-prince-of-tides-book-club-discussion/
LOCATION:310 Okatie Hwy\, Okatie\, SC\, United States\, South Carolina 29909\, 310 Okatie Hwy\, Okatie\, SC\, United States\, South Carolina 29909
ORGANIZER;CN="Port Royal Sound Foundation":MAILTO:noreply@facebookmail.com
END:VEVENT
BEGIN:VEVENT
DTSTART;TZID=America/New_York:20250909T180000
DTEND;TZID=America/New_York:20250909T180000
DTSTAMP:20260425T112839
CREATED:20250904T173537Z
LAST-MODIFIED:20250904T173537Z
UID:24267-1757440800-1757440800@explorebeaufortsc.com
SUMMARY:Reconstruction Era National Park Presentation at Penn Center
DESCRIPTION:On Tuesday\, September 9 at 6pm at Darrah Hall at the Penn Center National Historic Landmark District on St. Helena Island\, Park Historian Eric Ellis will be giving a presentation on some research he’s been doing with Tax Maps drawn around Beaufort and the surrounding Islands in the 1870s. \nFor additional information check out:  Mapping Reconstruction Era Beaufort by Park Historian Eric Ellis Also some of the staff from the National Parks Conservation Association will be in town that day and are planning to provide some refreshments during this event. If you have any questions about this presentation please reach out to Eric at eric_ellis@nps.gov
URL:https://explorebeaufortsc.com/event/reconstruction-era-national-park-presentation-at-penn-center/
LOCATION:Darrah Hall\, 24 Penn Center Circle West\, St Helena Island\, SC 29920\, Darrah Hall\, 24 Penn Center Circle West\, St Helena Island\, SC 29920
ATTACH;FMTTYPE=image/jpeg:https://explorebeaufortsc.com/wp-content/uploads/2025/09/reconstructioneranationalparkbeaufortsc.jpg
END:VEVENT
END:VCALENDAR