BEGIN:VCALENDAR
VERSION:2.0
PRODID:-//Explore Beaufort SC - ECPv6.15.20//NONSGML v1.0//EN
CALSCALE:GREGORIAN
METHOD:PUBLISH
X-WR-CALNAME:Explore Beaufort SC
X-ORIGINAL-URL:https://explorebeaufortsc.com
X-WR-CALDESC:Events for Explore Beaufort SC
REFRESH-INTERVAL;VALUE=DURATION:PT1H
X-Robots-Tag:noindex
X-PUBLISHED-TTL:PT1H
BEGIN:VTIMEZONE
TZID:America/New_York
BEGIN:DAYLIGHT
TZOFFSETFROM:-0500
TZOFFSETTO:-0400
TZNAME:EDT
DTSTART:20240310T070000
END:DAYLIGHT
BEGIN:STANDARD
TZOFFSETFROM:-0400
TZOFFSETTO:-0500
TZNAME:EST
DTSTART:20241103T060000
END:STANDARD
BEGIN:DAYLIGHT
TZOFFSETFROM:-0500
TZOFFSETTO:-0400
TZNAME:EDT
DTSTART:20250309T070000
END:DAYLIGHT
BEGIN:STANDARD
TZOFFSETFROM:-0400
TZOFFSETTO:-0500
TZNAME:EST
DTSTART:20251102T060000
END:STANDARD
BEGIN:DAYLIGHT
TZOFFSETFROM:-0500
TZOFFSETTO:-0400
TZNAME:EDT
DTSTART:20260308T070000
END:DAYLIGHT
BEGIN:STANDARD
TZOFFSETFROM:-0400
TZOFFSETTO:-0500
TZNAME:EST
DTSTART:20261101T060000
END:STANDARD
END:VTIMEZONE
BEGIN:VEVENT
DTSTART;TZID=America/New_York:20250913T090000
DTEND;TZID=America/New_York:20250913T120000
DTSTAMP:20260425T112255
CREATED:20250805T132605Z
LAST-MODIFIED:20250913T011134Z
UID:23867-1757754000-1757764800@explorebeaufortsc.com
SUMMARY:2025 Walk for Water in Beaufort (Port Royal)
DESCRIPTION:Register today: https://walkforwater.rallybound.org/2025-beaufort-walk-for-water \nPort Royal – Live Oaks Park\, SCSaturday\, September 13\, 2025 9 a.m. \nMillions of women and children continue to walk more than three miles to collect their family’s daily water needs. \nBut there is hope. \nSince 2007\, the Walk for Water has brought safe water and God’s love to thousands of people in need. This year\, we will join together to bring clean\, safe water to more than 2\,000 people in need around the world. \nWe walk\, so others don’t have to.
URL:https://explorebeaufortsc.com/event/2025-walk-for-water-in-beaufort-port-royal/
LOCATION:Live Oak Park\, Live Oak Park
END:VEVENT
BEGIN:VEVENT
DTSTART;TZID=America/New_York:20250913T090000
DTEND;TZID=America/New_York:20250913T103000
DTSTAMP:20260425T112255
CREATED:20250806T204347Z
LAST-MODIFIED:20250913T011133Z
UID:23926-1757754000-1757759400@explorebeaufortsc.com
SUMMARY:FREE Master Naturalist Tour
DESCRIPTION:Take a tour of the Port Royal Cypress Wetlands with Master Naturalist Jill Moore. Jill\, a certified master naturalist and founder of Moore2Life\, provides nature-based programs to local residents\, communities and tourists here in the magnificent Lowcountry – a setting unlike any place on Earth. With research showing that people function best when they have access to and a connection with nature\, Jill is committed to helping people discover a passion and appreciation for the unique area that surrounds us. \nTours are free to the public! Please RSVP here: https://friendsofportroyalcypresswetlands.org/tours/  \nhttps://www.facebook.com/events/31142091905389266/?event_time_id=31142158135382643
URL:https://explorebeaufortsc.com/event/free-master-naturalist-tour-8/
LOCATION:1700 Paris Ave\, Port Royal\, SC\, United States\, South Carolina 29935\, 1700 Paris Ave\, Port Royal\, SC\, United States\, South Carolina 29935
ORGANIZER;CN="Friends of Port Royal Cypress Wetlands":MAILTO:noreply@facebookmail.com
END:VEVENT
BEGIN:VEVENT
DTSTART;TZID=America/New_York:20250913T100000
DTEND;TZID=America/New_York:20250913T130000
DTSTAMP:20260425T112255
CREATED:20250712T034924Z
LAST-MODIFIED:20250913T011134Z
UID:23687-1757757600-1757768400@explorebeaufortsc.com
SUMMARY:LMS PTO Auto Show
DESCRIPTION:Hello everyone! We are hosting a car show at our School. All proceeds go towards providing services to our students and staff.Please join us if you can!
URL:https://explorebeaufortsc.com/event/lms-pto-auto-show/
LOCATION:Lowcountry Montessori School\, Lowcountry Montessori School
END:VEVENT
BEGIN:VEVENT
DTSTART;TZID=America/New_York:20250913T100000
DTEND;TZID=America/New_York:20250913T140000
DTSTAMP:20260425T112255
CREATED:20250904T171026Z
LAST-MODIFIED:20250913T011134Z
UID:24222-1757757600-1757772000@explorebeaufortsc.com
SUMMARY:2nd Saturday Shop & Stroll
DESCRIPTION:The Shops of Paris Ave Present: 2nd Saturday Shop & Stroll \nGather\, Stroll\, and Shop the Heart of Port Royal—Meet Your Neighbors\, Support Local\, Love Where You Live \nParticipating Shops Include:Mrs B & CompanyThe Arts / Stone Wilson GalleryPort Royal Wellness CollectiveMayard’s Ice CreamGG’s Restaurant & BarJennifer JL Jones Fine ArtWindhorse ~ Gallery & MarketplaceNuancesZen DenThe Gas LanternEffervescence Yoga & Spa \nhttps://www.facebook.com/events/1436426397586085/?event_time_id=1438010527427672
URL:https://explorebeaufortsc.com/event/2nd-saturday-shop-stroll/
LOCATION:809 Paris Ave\, Port Royal\, SC\, United States\, South Carolina\, 809 Paris Ave\, Port Royal\, SC\, United States\, South Carolina
ORGANIZER;CN="Windhorse Gallery & Marketplace":MAILTO:noreply@facebookmail.com
END:VEVENT
BEGIN:VEVENT
DTSTART;TZID=America/New_York:20250913T163000
DTEND;TZID=America/New_York:20250913T183000
DTSTAMP:20260425T112255
CREATED:20250904T171026Z
LAST-MODIFIED:20250913T011134Z
UID:24223-1757781000-1757788200@explorebeaufortsc.com
SUMMARY:Silent Book Club Beaufort
DESCRIPTION:Silent Book Club Beaufort\, a unique take on the traditional book club\, will meet on Saturday\, September 13\, from 4:30 to 6:30PM at the nonprofit Pat Conroy Literary Center (601 Bladen St.). A relaxed and pressure-free space for readers of all types\, this community gathering invites book lovers to enjoy their current reads in a welcoming and peaceful atmosphere. \nSilent Book Club Beaufort is co-sponsored by the Conroy Center and the student book club DAYLO (Diversity Awareness Youth Literacy Organization). \nUnlike traditional book clubs\, Silent Book Club Beaufort has no assigned reading\, no deadlines\, and no discussions required. Whether you prefer ebooks\, audiobooks\, comic books\, textbooks\, or paperbacks\, readers are invited to bring their book of choice\, settle in\, and savor the joy of uninterrupted reading among like-minded individuals. \nSilent Book Club Beaufort also features a book swap: Leave a book\, take a book.  \nThe casual meetups provide an excellent opportunity to discover new book recommendations\, make friends\, and reconnect with the love of reading. Whether you’re a lifelong bookworm or just getting back into reading\, everyone is welcome.  \nSilent Book Club Beaufort is free to attend and proudly supports local businesses and organizations. Additional dates and locations will be announced via the SBCB Instagram page at www.instagram.com/silentbookclubbeaufort.
URL:https://explorebeaufortsc.com/event/silent-book-club-beaufort-10/
LOCATION:601 Bladen Street\, Beaufort\, SC\, United States\, South Carolina 29902\, 601 Bladen Street\, Beaufort\, SC\, United States\, South Carolina 29902
ORGANIZER;CN="Pat Conroy Literary Center":MAILTO:noreply@facebookmail.com
END:VEVENT
BEGIN:VEVENT
DTSTART;TZID=America/New_York:20250913T170000
DTEND;TZID=America/New_York:20250913T190000
DTSTAMP:20260425T112255
CREATED:20250814T191850Z
LAST-MODIFIED:20250913T011134Z
UID:24004-1757782800-1757790000@explorebeaufortsc.com
SUMMARY:Encaustic Echos: An Exhibit by Emily Scott
DESCRIPTION:In her newest solo exhibit\, Emily Scott invites us to explore the ever-shifting landscapes of the human experience. Drawing from the rhythms of nature and the nuances of daily life\, her pieces offer a meditation on presence—where moments of calm and chaos\, joy and vulnerability\, are held together in delicate balance. \nThrough her signature layering techniques—rich with wax\, pigment\, and instinct—Emily creates surfaces that feel both ancient and immediate. Each work is a tactile journey\, inviting viewers to slow down\, breathe deeply\, and connect with what’s beneath the surface—not just of the artwork\, but of themselves. \n✨ Come experience her latest collection! It’s art that doesn’t just decorate a space—it speaks to the soul. Raw. Real. Beautifully layered. \n*We kindly accept RSVP’s for this event / Wine & Beer Available for Purchase
URL:https://explorebeaufortsc.com/event/encaustic-echos-an-exhibit-by-emily-scott/
LOCATION:809 Paris Ave\, Port Royal\, SC\, United States\, South Carolina\, 809 Paris Ave\, Port Royal\, SC\, United States\, South Carolina
ORGANIZER;CN="Windhorse Gallery & Marketplace":MAILTO:noreply@facebookmail.com
END:VEVENT
BEGIN:VEVENT
DTSTART;TZID=America/New_York:20250913T180000
DTEND;TZID=America/New_York:20250913T210000
DTSTAMP:20260425T112255
CREATED:20250904T171028Z
LAST-MODIFIED:20250913T011134Z
UID:24224-1757786400-1757797200@explorebeaufortsc.com
SUMMARY:Salt Marsh Hounds Launch Party
DESCRIPTION:Join Salt Marsh Hounds for our launch party!  \nThe newest foxhunting club on the Carolina coast is kicking off our first season – and you’re invited to help us celebrate.  \nWhere:Coosaw Plantation When:Saturday\, September 13th @ 6 pm*Please RSVP to info@saltmarshhounds.com \nEnjoy light bites and cocktails while meeting our community of fellow riders and hearing lots of exciting news.  \n	•	Meet the Team — Meet our Masters\, huntsman\, staff and members who have already joined.	•	Find Out More About the Upcoming Season — Learn what’s in store for Opening Meet\, hunting days\, and the special events on the calendar. Spoiler alert – all disciplines are welcome to hunt with us\, including Western riders! 	•	Experience the Spirit of the Sport — Hear about our desire to preserve and celebrate the foxhunting community here on the coast and how we’re going to have fun doing it!  \nEveryone is welcome\, whether you’re a lifelong rider and are already familiar with our sport\, contemplating joining us\, or just curious about foxhunting and looking for a new riding or social adventure.  \nBring a friend\, come say hi\, learn more\, and help us kick off our inaugural season.
URL:https://explorebeaufortsc.com/event/salt-marsh-hounds-launch-party/
LOCATION:154 Coosaw Plantation Rd\, Seabrook\, SC 29940\, 154 Coosaw Plantation Rd\, Seabrook\, SC 29940
END:VEVENT
BEGIN:VEVENT
DTSTART;TZID=America/New_York:20250913T190000
DTEND;TZID=America/New_York:20250913T220000
DTSTAMP:20260425T112255
CREATED:20250805T132606Z
LAST-MODIFIED:20250913T011134Z
UID:23871-1757790000-1757800800@explorebeaufortsc.com
SUMMARY:Revolution Ballroom September Dance Party 🎉
DESCRIPTION:You’re invited to our Revolution Ballroom Dance Party 🎉 Our parties are held every 2nd Saturday. \nRevolution Ballroom Dance Party 🎉〰️ Saturday\, September 13th 〰️ \n◽️ 7:00 – 7:30 PM Beginner West Coast Swing lesson◽️ 7:30 – 10:00 PM Social Dancing◽️ Our playlist features a mix of Ballroom\, Latin\, Swing\, Salsa\, Bachata\, and Argentine Tango◽️ Light refreshments & iced tea◽️ Admission: $20 (online or at the door)◽️ Open to the public (ages 18+)◽️ Singles & couples welcome◽️ Attire: Dressy or Cocktail \n➡️ Sign up here: https://www.revolutionballroom.com/sept-party \nEvent Location:Revolution Ballroom2121 Boundary StSuite 207Beaufort\, SC 29902
URL:https://explorebeaufortsc.com/event/september-dance-party/
LOCATION:Revolution Ballroom\, 2121 Boundary St\, Ste 207\, Beaufort\, SC\, 29902\, US
ORGANIZER;CN="Revolution Ballroom":MAILTO:noreply@facebookmail.com
END:VEVENT
END:VCALENDAR