BEGIN:VCALENDAR
VERSION:2.0
PRODID:-//Explore Beaufort SC - ECPv6.15.20//NONSGML v1.0//EN
CALSCALE:GREGORIAN
METHOD:PUBLISH
X-ORIGINAL-URL:https://explorebeaufortsc.com
X-WR-CALDESC:Events for Explore Beaufort SC
REFRESH-INTERVAL;VALUE=DURATION:PT1H
X-Robots-Tag:noindex
X-PUBLISHED-TTL:PT1H
BEGIN:VTIMEZONE
TZID:America/New_York
BEGIN:DAYLIGHT
TZOFFSETFROM:-0500
TZOFFSETTO:-0400
TZNAME:EDT
DTSTART:20240310T070000
END:DAYLIGHT
BEGIN:STANDARD
TZOFFSETFROM:-0400
TZOFFSETTO:-0500
TZNAME:EST
DTSTART:20241103T060000
END:STANDARD
BEGIN:DAYLIGHT
TZOFFSETFROM:-0500
TZOFFSETTO:-0400
TZNAME:EDT
DTSTART:20250309T070000
END:DAYLIGHT
BEGIN:STANDARD
TZOFFSETFROM:-0400
TZOFFSETTO:-0500
TZNAME:EST
DTSTART:20251102T060000
END:STANDARD
BEGIN:DAYLIGHT
TZOFFSETFROM:-0500
TZOFFSETTO:-0400
TZNAME:EDT
DTSTART:20260308T070000
END:DAYLIGHT
BEGIN:STANDARD
TZOFFSETFROM:-0400
TZOFFSETTO:-0500
TZNAME:EST
DTSTART:20261101T060000
END:STANDARD
END:VTIMEZONE
BEGIN:VEVENT
DTSTART;TZID=America/New_York:20250916T150000
DTEND;TZID=America/New_York:20250916T163000
DTSTAMP:20260425T112845
CREATED:20250825T211220Z
LAST-MODIFIED:20250916T151038Z
UID:24136-1758034800-1758040200@explorebeaufortsc.com
SUMMARY:Jayme Waldron & Emily Gray - Eastern Diamondback Rattlesnakes
DESCRIPTION:Presented by 303 Associates \nClick the orange “Book A Program” button on our website to RSVPportroyalsoundfoundation.org \n$10/person (plus fees) \nLearn about eastern diamondback rattlesnakes in the South Carolina Lowcountry. Travel through their history in the region\, biology & behavior\, and what has been learned through long-term collaborations with the South Carolina Department of Natural Resources\, the Marine Corps Recruit Depot at Parris Island\, and other partners.
URL:https://explorebeaufortsc.com/event/jayme-waldron-emily-gray-eastern-diamondback-rattlesnakes/
LOCATION:Port Royal Sound Foundation
ORGANIZER;CN="Port Royal Sound Foundation":MAILTO:noreply@facebookmail.com
END:VEVENT
END:VCALENDAR