BEGIN:VCALENDAR
VERSION:2.0
PRODID:-//Explore Beaufort SC - ECPv6.15.20//NONSGML v1.0//EN
CALSCALE:GREGORIAN
METHOD:PUBLISH
X-ORIGINAL-URL:https://explorebeaufortsc.com
X-WR-CALDESC:Events for Explore Beaufort SC
REFRESH-INTERVAL;VALUE=DURATION:PT1H
X-Robots-Tag:noindex
X-PUBLISHED-TTL:PT1H
BEGIN:VTIMEZONE
TZID:America/New_York
BEGIN:DAYLIGHT
TZOFFSETFROM:-0500
TZOFFSETTO:-0400
TZNAME:EDT
DTSTART:20240310T070000
END:DAYLIGHT
BEGIN:STANDARD
TZOFFSETFROM:-0400
TZOFFSETTO:-0500
TZNAME:EST
DTSTART:20241103T060000
END:STANDARD
BEGIN:DAYLIGHT
TZOFFSETFROM:-0500
TZOFFSETTO:-0400
TZNAME:EDT
DTSTART:20250309T070000
END:DAYLIGHT
BEGIN:STANDARD
TZOFFSETFROM:-0400
TZOFFSETTO:-0500
TZNAME:EST
DTSTART:20251102T060000
END:STANDARD
BEGIN:DAYLIGHT
TZOFFSETFROM:-0500
TZOFFSETTO:-0400
TZNAME:EDT
DTSTART:20260308T070000
END:DAYLIGHT
BEGIN:STANDARD
TZOFFSETFROM:-0400
TZOFFSETTO:-0500
TZNAME:EST
DTSTART:20261101T060000
END:STANDARD
END:VTIMEZONE
BEGIN:VEVENT
DTSTART;TZID=America/New_York:20250918T170000
DTEND;TZID=America/New_York:20250918T190000
DTSTAMP:20260425T112232
CREATED:20250723T220453Z
LAST-MODIFIED:20250825T211220Z
UID:23768-1758214800-1758222000@explorebeaufortsc.com
SUMMARY:Monthly Wine Club Social & Pick-Up Party
DESCRIPTION:Club Members are invited to join us every third Thursday of the month for a drop-in style social & tasting event where you can sip & sample this month’s club selections (along with a few more of our favorites) while you mix & mingle with fellow wine enthusiasts!!!!  \n~~~~ \nNot a member yet? Don’t worry! Join the club by visiting the store or signing up online and receive three exceptional club wines with your membership each month. Spots are filling up fast for this month’s exclusive Curations Club!  \nExpand your palate and discover new favorites with Windhorse Monthly Wine Club. \nSign up to receive exclusive access to special promotions\, early releases\, monthly tasting events\, and much more…
URL:https://explorebeaufortsc.com/event/monthly-wine-club-social-pick-up-party-2/
LOCATION:809 Paris Ave\, Port Royal\, SC\, United States\, South Carolina\, 809 Paris Ave\, Port Royal\, SC\, United States\, South Carolina
ORGANIZER;CN="Windhorse Gallery & Marketplace":MAILTO:noreply@facebookmail.com
END:VEVENT
BEGIN:VEVENT
DTSTART;TZID=America/New_York:20250918T180000
DTEND;TZID=America/New_York:20250918T193000
DTSTAMP:20260425T112232
CREATED:20250916T151039Z
LAST-MODIFIED:20250916T151039Z
UID:24393-1758218400-1758223800@explorebeaufortsc.com
SUMMARY:African American Religious & Spiritual Traditions
DESCRIPTION:Join the Institute for the Study of the Reconstruction Era and their host partner\, Beaufort SC’s First African Baptist Church\, for an interactive discussion on the origins of African American religious and spiritual traditions from the Reconstruction Era to the present day.  \nGuest presenters include Dr. Chanda Powell\, Interpretive Ranger at the Reconstruction Era National Historical Park\, and Dr. Harry H. Singleton III\, Lilly Director of Faith-Based Education and Engagement at the International African American Museum. \nThis event is free and open to everyone.  \nNeed more information? Visit uscb.edu/isre and check out our “Events & Outreach” page OR email isre@uscb.edu.  \nLet’s Talk Reconstruction is a three-part speaker series presented by USCB’s Institute for the Study of the Reconstruction Era. The series features guest speakers from a variety of backgrounds who will explore topics central to understanding the untold stories and unsung figures of the Reconstruction Era\, as well as its relevance to modern society.  \nUpcoming Dates: \nThursday\, September 18\, 2025\, 6 PMFirst African Baptist Church\, Beaufort\, SCDr. Chanda Powell & Dr. Harry Singleton \nThursday\, November 20\, 2025\, 6 PMDr. Francena Turner\, location TBD \nThursday\, January 15\, 2026\, 6 PMDr. Mollie Barnes\, location TBD
URL:https://explorebeaufortsc.com/event/african-american-religious-spiritual-traditions/
LOCATION:601 New St\, Beaufort\, SC 29902-4731\, United States\, 601 New St\, Beaufort\, SC 29902-4731\, United States
ORGANIZER;CN="USC Beaufort Institute for the Study of the Reconstruction Era":MAILTO:noreply@facebookmail.com
END:VEVENT
BEGIN:VEVENT
DTSTART;TZID=America/New_York:20250918T180000
DTEND;TZID=America/New_York:20250918T200000
DTSTAMP:20260425T112232
CREATED:20250909T153636Z
LAST-MODIFIED:20250909T153636Z
UID:24287-1758218400-1758225600@explorebeaufortsc.com
SUMMARY:Chinoiserie Pumpkin Class at Marshview Mercantile
DESCRIPTION:Give your pumpkins a pop of Mahjong magic! \nLove the timeless elegance of chinoiserie—or the vibrant blues\, greens\, oranges\, and pinks that bring a Mahjong set to life? Join Augusta artist\, Kate Gary\, for a playful fall workshop where you’ll hand-paint chinoiserie designs on two 8” pumpkins. You choose your color. \nNo experience needed—Kate will guide you step-by-step so you can create a one-of-a-kind piece perfect for your table\, entryway\, or game night corner. \nA fresh twist on fall décor\nRelaxed\, creative atmosphere\nPerfect for anyone who loves bold\, colorful style \nSept. 18\, 6-8p\nMarshview Mercantile\n2631 Boundary Street\, Beaufort \nRegister at https://marshviewmercantile.commentsold.com/products/chinoiserie-pumpkin-workshop?variant=8579
URL:https://explorebeaufortsc.com/event/chinoiserie-pumpkin-class-at-marshview-mercantile/
LOCATION:Marshiew Mercantile\, 2631 Boundary Street\, Beaufort\, SC\, 29906\, United States
ATTACH;FMTTYPE=image/jpeg:https://explorebeaufortsc.com/wp-content/uploads/2025/09/marshviewpumpkin.jpg
END:VEVENT
END:VCALENDAR