BEGIN:VCALENDAR
VERSION:2.0
PRODID:-//Explore Beaufort SC - ECPv6.15.20//NONSGML v1.0//EN
CALSCALE:GREGORIAN
METHOD:PUBLISH
X-ORIGINAL-URL:https://explorebeaufortsc.com
X-WR-CALDESC:Events for Explore Beaufort SC
REFRESH-INTERVAL;VALUE=DURATION:PT1H
X-Robots-Tag:noindex
X-PUBLISHED-TTL:PT1H
BEGIN:VTIMEZONE
TZID:America/New_York
BEGIN:DAYLIGHT
TZOFFSETFROM:-0500
TZOFFSETTO:-0400
TZNAME:EDT
DTSTART:20240310T070000
END:DAYLIGHT
BEGIN:STANDARD
TZOFFSETFROM:-0400
TZOFFSETTO:-0500
TZNAME:EST
DTSTART:20241103T060000
END:STANDARD
BEGIN:DAYLIGHT
TZOFFSETFROM:-0500
TZOFFSETTO:-0400
TZNAME:EDT
DTSTART:20250309T070000
END:DAYLIGHT
BEGIN:STANDARD
TZOFFSETFROM:-0400
TZOFFSETTO:-0500
TZNAME:EST
DTSTART:20251102T060000
END:STANDARD
BEGIN:DAYLIGHT
TZOFFSETFROM:-0500
TZOFFSETTO:-0400
TZNAME:EDT
DTSTART:20260308T070000
END:DAYLIGHT
BEGIN:STANDARD
TZOFFSETFROM:-0400
TZOFFSETTO:-0500
TZNAME:EST
DTSTART:20261101T060000
END:STANDARD
END:VTIMEZONE
BEGIN:VEVENT
DTSTART;TZID=America/New_York:20250919T160000
DTEND;TZID=America/New_York:20250919T190000
DTSTAMP:20260425T112231
CREATED:20250814T191851Z
LAST-MODIFIED:20250919T234005Z
UID:24006-1758297600-1758308400@explorebeaufortsc.com
SUMMARY:1st Annual Fall Festival
DESCRIPTION:Join us for food trucks\, fun and a raffle to welcome Fall! \nJoin us and Gloria’s Filipino Food\, Sunset Slush\, Kraze Lemon Lab\, Gullah Express and Piece of Yard and Abroad food/drink trucks for our ANNUAL FALL FESTIVAL!! \nWe will have a TREASURE HUNT\, SIDEWALK ART for the kids\, a raffle for Fall-themed gift basket and MUSIC! \nDon’t miss this FUN event to welcome Fall and thank our wonderful residents for choosing THE best property to rent from in Northern Beaufort County!! \nBring your wallets\, your appetites\, your dancing shoes and your ‘treasure hunting’ skills as we enjoy some time together as a community!
URL:https://explorebeaufortsc.com/event/1st-annual-fall-festival/
LOCATION:100 Pinckney Marsh Lane\, Beaufort\, SC\, United States\, South Carolina 29906\, 100 Pinckney Marsh Lane\, Beaufort\, SC\, United States\, South Carolina 29906
END:VEVENT
BEGIN:VEVENT
DTSTART;TZID=America/New_York:20250919T160000
DTEND;TZID=America/New_York:20250919T190000
DTSTAMP:20260425T112231
CREATED:20250916T151039Z
LAST-MODIFIED:20250919T234007Z
UID:24394-1758297600-1758308400@explorebeaufortsc.com
SUMMARY:September Market
DESCRIPTION:join us for our monthly 3rd Friday market on September 19th from 4-7pm. live music\, food trucks and local vendors!
URL:https://explorebeaufortsc.com/event/september-market/
LOCATION:Habersham Marketplace\, Habersham Marketplace
ORGANIZER;CN="Habersham Farmers Market":MAILTO:noreply@facebookmail.com
END:VEVENT
END:VCALENDAR