BEGIN:VCALENDAR
VERSION:2.0
PRODID:-//Explore Beaufort SC - ECPv6.15.20//NONSGML v1.0//EN
CALSCALE:GREGORIAN
METHOD:PUBLISH
X-WR-CALNAME:Explore Beaufort SC
X-ORIGINAL-URL:https://explorebeaufortsc.com
X-WR-CALDESC:Events for Explore Beaufort SC
REFRESH-INTERVAL;VALUE=DURATION:PT1H
X-Robots-Tag:noindex
X-PUBLISHED-TTL:PT1H
BEGIN:VTIMEZONE
TZID:America/New_York
BEGIN:DAYLIGHT
TZOFFSETFROM:-0500
TZOFFSETTO:-0400
TZNAME:EDT
DTSTART:20240310T070000
END:DAYLIGHT
BEGIN:STANDARD
TZOFFSETFROM:-0400
TZOFFSETTO:-0500
TZNAME:EST
DTSTART:20241103T060000
END:STANDARD
BEGIN:DAYLIGHT
TZOFFSETFROM:-0500
TZOFFSETTO:-0400
TZNAME:EDT
DTSTART:20250309T070000
END:DAYLIGHT
BEGIN:STANDARD
TZOFFSETFROM:-0400
TZOFFSETTO:-0500
TZNAME:EST
DTSTART:20251102T060000
END:STANDARD
BEGIN:DAYLIGHT
TZOFFSETFROM:-0500
TZOFFSETTO:-0400
TZNAME:EDT
DTSTART:20260308T070000
END:DAYLIGHT
BEGIN:STANDARD
TZOFFSETFROM:-0400
TZOFFSETTO:-0500
TZNAME:EST
DTSTART:20261101T060000
END:STANDARD
END:VTIMEZONE
BEGIN:VEVENT
DTSTART;TZID=America/New_York:20250920T000000
DTEND;TZID=America/New_York:20250920T030000
DTSTAMP:20260425T112254
CREATED:20250913T011135Z
LAST-MODIFIED:20250919T234008Z
UID:24344-1758326400-1758337200@explorebeaufortsc.com
SUMMARY:Oktoberfest on the River
DESCRIPTION:Oktoberfest On The River is just around the corner! On September 20th\, our annual celebration returns with German style beers\, German inspired food\, games\, new ceramic steins\, and more! Be on the lookout for more details. \n#shellringaleworks #portroyalsc #craftbeer #lowcountry #taproom #lowcountryliving #riverfront #beaufortsc #beaufortcounty #nauticallight
URL:https://explorebeaufortsc.com/event/oktoberfest-on-the-river/
LOCATION:1111 11th street\, Port Royal\, SC\, United States\, South Carolina 29935\, 1111 11th street\, Port Royal\, SC\, United States\, South Carolina 29935
ORGANIZER;CN="Shellring Ale Works":MAILTO:noreply@facebookmail.com
END:VEVENT
BEGIN:VEVENT
DTSTART;TZID=America/New_York:20250920T063000
DTEND;TZID=America/New_York:20250920T093000
DTSTAMP:20260425T112254
CREATED:20250825T211221Z
LAST-MODIFIED:20250920T003139Z
UID:24137-1758349800-1758360600@explorebeaufortsc.com
SUMMARY:Fall Sheepshead Tournament
DESCRIPTION:SAVE THE DATE. More details to follow! \nJoin us for a random Fall Sheepshead Tournament\nHigh Tide: 8:49am Low Tide: 2:34pm \nThis is a LIVE WEIGH IN Tournament. All fish MUST BE ALIVE. Photos must be taken of each fish with an identifier and a bump board at the time fish is caught. This is to prevent cheating. NO EXCEPTIONS! \nBoat Entry Fee is $150\nMANDATORY Captains Meeting Friday September 19th at 6pm.\nLive weigh in will be conducted at the Sea Sea’s Honey Hole end of tournament. \nFood and drinks will be available at weigh in.
URL:https://explorebeaufortsc.com/event/fall-sheepshead-tournament/
LOCATION:901 8th Street\, Port Royal\, SC\, United States\, South Carolina 29935\, 901 8th Street\, Port Royal\, SC\, United States\, South Carolina 29935
ATTACH;FMTTYPE=image/jpeg:https://explorebeaufortsc.com/wp-content/uploads/2025/08/sheepsheadtourney.jpg
END:VEVENT
BEGIN:VEVENT
DTSTART;TZID=America/New_York:20250920T074500
DTEND;TZID=America/New_York:20250920T104500
DTSTAMP:20260425T112254
CREATED:20250919T234010Z
LAST-MODIFIED:20250919T234010Z
UID:24423-1758354300-1758365100@explorebeaufortsc.com
SUMMARY:Bird Walk
DESCRIPTION:7:45am- Meet in WBU\, Beaufort parking lotWalk starts at 8am- location is decided that morning \nSpots are still available\, so stop by the store to sign up- TODAY! $5 dollars per person
URL:https://explorebeaufortsc.com/event/bird-walk/
LOCATION:2139 Boundary St. Suite 106\, Beaufort\, SC 29902\, 2139 Boundary St. Suite 106\, Beaufort\, SC 29902
END:VEVENT
BEGIN:VEVENT
DTSTART;TZID=America/New_York:20250920T090000
DTEND;TZID=America/New_York:20250920T113000
DTSTAMP:20260425T112254
CREATED:20250814T191851Z
LAST-MODIFIED:20250919T234010Z
UID:24008-1758358800-1758367800@explorebeaufortsc.com
SUMMARY:36th Annual Beach Sweep/ River Sweep
DESCRIPTION:The Town of Bluffton\, Lowcountry Stormwater Partners\, South Carolina Sea Grant Consortium\, and the South Carolina Department of Natural Resources (SCDNR) invite all greater Bluffton residents and business owners to participate in the 36th Annual Beach Sweep/River Sweep on Saturday\, September 20th from 9 a.m. – 11:30 a.m. \nResidents can help clean up the May River\, her shores\, nearby streets\, and the Bluffton Historic District parks.FREE coffee for volunteers. Lunch and snacks will also be available courtesy of The Town of Bluffton. \nCleanup supplies\, including gloves\, bags\, vests\, water\, sunscreen\, and bug spray\, will be provided.
URL:https://explorebeaufortsc.com/event/36th-annual-beach-sweep-river-sweep/
LOCATION:Bluffton Oyster Factory Park
ORGANIZER;CN="Town of Bluffton Government":MAILTO:noreply@facebookmail.com
END:VEVENT
BEGIN:VEVENT
DTSTART;TZID=America/New_York:20250920T090000
DTEND;TZID=America/New_York:20250920T120000
DTSTAMP:20260425T112254
CREATED:20250825T211221Z
LAST-MODIFIED:20250919T234010Z
UID:24138-1758358800-1758369600@explorebeaufortsc.com
SUMMARY:9/20/25 Autumn Trail Ride Series Kick Off with Salt Marsh Hounds
DESCRIPTION:We are excited to announce our Autumn Trail Ride Series! Starting Saturday September 20th\, we will be riding together on Saturdays and the last Sunday of each month in September and October.  \nThese rides are open to everyone- an opportunity to enjoy the scenic coastal countryside\, spend time with friends\, and sample the fall riding season with Salt Marsh Hounds.  \nThe full schedule will be coming soon\, so stay tuned! In the meantime\, please save the upcoming dates\, invite a friend\, and get ready to saddle up with us this fall! \nTo participate\, you’ll need your helmet and a signed waiver. A suggested donation of $25 is greatly appreciated\, but is never required.
URL:https://explorebeaufortsc.com/event/salt-marsh-hounds-autumn-trail-ride-series-kick-off-9-20-25/
LOCATION:154 Coosaw Plantation Dr\, Seabrook\, SC 29940-3708\, United States\, 154 Coosaw Plantation Dr\, Seabrook\, SC 29940-3708\, United States
END:VEVENT
BEGIN:VEVENT
DTSTART;TZID=America/New_York:20250920T090000
DTEND;TZID=America/New_York:20250920T140000
DTSTAMP:20260425T112254
CREATED:20250919T234010Z
LAST-MODIFIED:20250919T234010Z
UID:24426-1758358800-1758376800@explorebeaufortsc.com
SUMMARY:Beaufort County Youth Conference
DESCRIPTION:6 days left………….2025 Beaufort County Youth Conference for middle and high school students. USC-B (9:00 a.m.-2:00 p.m.)
URL:https://explorebeaufortsc.com/event/beaufort-county-youth-conference/
LOCATION:Beaufort\, SC\, United States\, South Carolina\, Beaufort\, SC\, United States\, South Carolina
END:VEVENT
BEGIN:VEVENT
DTSTART;TZID=America/New_York:20250920T090000
DTEND;TZID=America/New_York:20250920T143000
DTSTAMP:20260425T112254
CREATED:20250825T211222Z
LAST-MODIFIED:20250920T003246Z
UID:24141-1758358800-1758378600@explorebeaufortsc.com
SUMMARY:Active Fishing Clinic with SCDNR
DESCRIPTION:**The fishing clinic is FREE to attend\, but reservations are required in advance. You *MUST* have a valid SC saltwater fishing license if you are 16 and older. Sign up for only one time slot:\nhttps://www.eventbrite.com/e/active-fishing-clinic-tickets-1591311568739?aff=oddtdtcreator \nJoin SCDNR and Certified Fishing Instructors for a hands-on\, active fishing clinic! Free entry into the fishing tournament if attended. \n—–\nFrom SCDNR: “In partnership with the Port Royal Sound Foundation Maritime Center\, we’re offering an active fishing clinic as a component with the Inshore Slam fishing tournament. Participants that register and attend the clinic get free entry into the tournament. To read more\, the link below takes you to their website:\nportroyalsoundfoundation.org/inshore-slam \nWe will teach you how to tie knots\, rig your rod\, how to cast\, what bait to use\, and what fish you can catch! \nDetails for the event: \n• Time Slots: We will only have 2 time slots available for this clinic. \n• Clinic: We will be on one of the piers at the maritime center. We will have signs. We will help you with casting\, tying knots\, baiting\, and what to do if you catch a fish. Rods and reels\, bait\, and tackle are provided for the duration of the clinic. This is a catch-and-release clinic. You *MUST* have a valid SC saltwater fishing license if you are 16 and older. \n• Costs: The program is free of charge. \n• Weather: This clinic will be held if the weather is good; if it is too windy and/or rainy\, we will postpone.”
URL:https://explorebeaufortsc.com/event/active-fishing-clinic-with-scdnr/
LOCATION:310 Okatie Hwy\, Okatie\, SC\, United States\, South Carolina 29909\, 310 Okatie Hwy\, Okatie\, SC\, United States\, South Carolina 29909
ATTACH;FMTTYPE=image/jpeg:https://explorebeaufortsc.com/wp-content/uploads/2025/08/fishingclinic.jpg
ORGANIZER;CN="Port Royal Sound Foundation":MAILTO:noreply@facebookmail.com
END:VEVENT
BEGIN:VEVENT
DTSTART;TZID=America/New_York:20250920T100000
DTEND;TZID=America/New_York:20250920T140000
DTSTAMP:20260425T112254
CREATED:20250919T234011Z
LAST-MODIFIED:20250919T234011Z
UID:24428-1758362400-1758376800@explorebeaufortsc.com
SUMMARY:SIQ Kimekomi Workshop
DESCRIPTION:Bring an Exacto knife and some small scissors to create a 7″x7″ snowman block and ornament!For more details and to register online\, go to www.seaislandquilters.com/workshops.
URL:https://explorebeaufortsc.com/event/siq-kimekomi-workshop/
LOCATION:18 John Galt Rd\, Beaufort\, SC 29906-4290\, United States\, 18 John Galt Rd\, Beaufort\, SC 29906-4290\, United States
ORGANIZER;CN="Sea Island Quilters":MAILTO:noreply@facebookmail.com
END:VEVENT
BEGIN:VEVENT
DTSTART;TZID=America/New_York:20250920T103000
DTEND;TZID=America/New_York:20250920T120000
DTSTAMP:20260425T112254
CREATED:20250904T171030Z
LAST-MODIFIED:20250904T171030Z
UID:24230-1758364200-1758369600@explorebeaufortsc.com
SUMMARY:Nature Hike - RSVP Required
DESCRIPTION:Click the orange “Book A Program” button on our website to RSVPportroyalsoundfoundation.org \n$10 per participant (plus fees) – THIS INCLUDES CHILDREN AND ADULTS.  \nMeet at the Maritime Center and enjoy a nice morning hike! This Naturalist-led hike is roughly 1.5 miles through maritime forest and salt marsh. \nLong sleeves\, pants\, sunscreen\, water\, and bug spray are highly recommended. Closed toed shoes are required and they will get muddy! Absolutely NO flip flops or sandals. We will not be providing binoculars so please plan to bring your own. \nAll ages welcome\, children must be accompanied by an adult.
URL:https://explorebeaufortsc.com/event/nature-hike-rsvp-required-11/
LOCATION:310 Okatie Hwy\, Okatie\, SC\, United States\, South Carolina 29909\, 310 Okatie Hwy\, Okatie\, SC\, United States\, South Carolina 29909
ORGANIZER;CN="Port Royal Sound Foundation":MAILTO:noreply@facebookmail.com
END:VEVENT
BEGIN:VEVENT
DTSTART;TZID=America/New_York:20250920T103000
DTEND;TZID=America/New_York:20250920T123000
DTSTAMP:20260425T112254
CREATED:20250831T144657Z
LAST-MODIFIED:20250831T144657Z
UID:24199-1758364200-1758371400@explorebeaufortsc.com
SUMMARY:Sweetgrass Basket Making Class at Marshview Mercantile
DESCRIPTION:Join us for instruction on sewing your own Sweetgrass Basket with Andrea Cayetano-Jefferson. Andrea represents the intricate artwork of Gullah culture as a sixth generation sweetgrass artist. She has recently been featured in Southern Living Magazine and has proudly added her work to the Smithsonian Museum and the Charleston Idea House. \nAndrea will get you started by providing a 5 inch wide base for your basket. She will instruct you in the art of sewing and help you complete your project. The size (depth) of your basket will depend on how much sewing you complete during this two hour class. Everyone leaves with a ready to use basket! \n\nSept 20\, 10:30a-12:30\n2631 Boundary Street\, Beaufort \n\nRegister \nhttps://marshviewmercantile.commentsold.com/products/sweetgrass-basket-class-saturday-september-20-1030a-1230
URL:https://explorebeaufortsc.com/event/sweetgrass-basket-making-class-at-marshview-mercantile/
LOCATION:Marshview Mercantile\, 2631 Boundary St\, Beaufort\, SC\, 29906\, US
ATTACH;FMTTYPE=image/jpeg:https://explorebeaufortsc.com/wp-content/uploads/2025/08/marshviewsweetgrassbasketclass2.jpg
END:VEVENT
BEGIN:VEVENT
DTSTART;TZID=America/New_York:20250920T110000
DTEND;TZID=America/New_York:20250920T140000
DTSTAMP:20260425T112254
CREATED:20250814T191852Z
LAST-MODIFIED:20250919T234011Z
UID:24009-1758366000-1758376800@explorebeaufortsc.com
SUMMARY:Miracles in the Making Suncatcher or Door Sign Charity Fundraiser event!
DESCRIPTION:🎨 Suncatcher or Door Sign Fundraiser Craft Event 🎨Hosted by Madison’s Miracles Inc. & Southern Palette Art Studio \n📅 Date: Saturday\, September 20🕚 Time: 11:00 AM📍 Location: 2121 Boundary St\, Suite 100B\, Beaufort\, SC💲 Cost: $75 per person \nJoin us for a fun and meaningful morning of creativity! Choose to make a vibrant suncatcher or a custom door sign while supporting a great cause. \n💖 Bonus Giving Opportunity!Bring a bag of cat or dog food to donate to Jasper Jarm and receive $3 off your registration! \nAll proceeds benefit Madison’s Miracles Inc.\, a nonprofit dedicated to honoring the lives of Madison Klepesky and JonPaul through community support and outreach. \nSpots are limited — reserve yours today and let’s craft for a cause! 🎨💕Reserve your spot by commenting below or texting 267-226-9500!
URL:https://explorebeaufortsc.com/event/miracles-in-the-making-suncatcher-or-door-sign-charity-fundraiser-event/
LOCATION:Southern Palette Art Studio\, Beaufort\,  SC – Paint Parties For All Ages\, 2121 Boundary Street\, Suite 100B\, Beaufort\, SC\, 29902\, US
ORGANIZER;CN="Madisonsmiraclesinc":MAILTO:noreply@facebookmail.com
END:VEVENT
BEGIN:VEVENT
DTSTART;TZID=America/New_York:20250920T160000
DTEND;TZID=America/New_York:20250920T190000
DTSTAMP:20260425T112254
CREATED:20250904T171030Z
LAST-MODIFIED:20250919T234011Z
UID:24231-1758384000-1758394800@explorebeaufortsc.com
SUMMARY:BookChat with Mary Martha Greene\, the Cheese Biscuit Queen
DESCRIPTION:Mary Martha Greene will be at RLB to share stories\, recipes and her famous cheese biscuits. A native Beaufortonian\, she has published two books as the Cheese Biscuit Queen. Join us for an engaging discussion. Come a bit early and grab a cocktail to sip during the chat.
URL:https://explorebeaufortsc.com/event/bookchat-with-mary-martha-greene-the-cheese-biscuit-queen/
LOCATION:2139 Boundary Street Unit 102\, Beaufort\, SC\, United States\, South Carolina 29902\, 2139 Boundary Street Unit 102\, Beaufort\, SC\, United States\, South Carolina 29902
ORGANIZER;CN="Rotten Little Bastard Distillery":MAILTO:noreply@facebookmail.com
END:VEVENT
BEGIN:VEVENT
DTSTART;TZID=America/New_York:20250920T180000
DTEND;TZID=America/New_York:20250920T220000
DTSTAMP:20260425T112254
CREATED:20250913T011136Z
LAST-MODIFIED:20250919T234012Z
UID:24347-1758391200-1758405600@explorebeaufortsc.com
SUMMARY:Bluffton Chapter's 11th Annual Celebrating Conservation Banquet
DESCRIPTION:Time: 6 p.m. to 10 p.m.Location: Martin Family Park \nJoin us for the Coastal Conservation Association Bluffton Banquet — an evening of fun\, fellowship\, and fundraising to protect our South Carolina coast. Guests will enjoy a great dinner\, drinks\, raffles\, and exciting live and silent auctions featuring exclusive trips\, coastal experiences\, and top-quality gear. \nProceeds from the banquet directly support CCA South Carolina’s mission to conserve marine habitats\, strengthen coastal fisheries\, and protect the rights of saltwater anglers. Together\, we’re working to ensure that healthy fisheries and abundant coastal resources will be here for generations to come. \nCome celebrate\, connect\, and make a difference for our coast\, our anglers\, and our future!
URL:https://explorebeaufortsc.com/event/bluffton-chapters-11th-annual-celebrating-conservation-banquet/
LOCATION:Martin Family Park Historic Bluffton SC
ORGANIZER;CN="Bluffton Chapter - CCA South Carolina":MAILTO:noreply@facebookmail.com
END:VEVENT
BEGIN:VEVENT
DTSTART;TZID=America/New_York:20250920T193000
DTEND;TZID=America/New_York:20250920T220000
DTSTAMP:20260425T112254
CREATED:20250723T220453Z
LAST-MODIFIED:20250920T003418Z
UID:23769-1758396600-1758405600@explorebeaufortsc.com
SUMMARY:Beaufort Theatre Company Presents: 9 to 5 the Musical
DESCRIPTION:Get ready to laugh\, sing\, and cheer! Beaufort Theatre Company presents 9 to 5 The Musical\, the hit Broadway show inspired by the iconic film. With music and lyrics by Dolly Parton\, this high-energy production celebrates friendship\, empowerment\, and standing up for what’s right—all set to a toe-tapping country-pop score. Don’t miss this wildly funny ride through the workday!​\n​​\nTickets:\nAdult $35\nSenior/Military $350\nStudent $20 \nhttps://www.facebook.com/events/1073577408084131/?event_time_id=1073577414750797
URL:https://explorebeaufortsc.com/event/beaufort-theatre-company-presents-9-to-5-the-musical/
LOCATION:801 Carteret St\, Beaufort\, SC\, United States\, South Carolina 29902\, 801 Carteret St\, Beaufort\, SC\, United States\, South Carolina 29902
ATTACH;FMTTYPE=image/jpeg:https://explorebeaufortsc.com/wp-content/uploads/2025/07/ninetofive-1.jpg
ORGANIZER;CN="USCB Center for the Arts":MAILTO:noreply@facebookmail.com
END:VEVENT
END:VCALENDAR