BEGIN:VCALENDAR
VERSION:2.0
PRODID:-//Explore Beaufort SC - ECPv6.15.20//NONSGML v1.0//EN
CALSCALE:GREGORIAN
METHOD:PUBLISH
X-ORIGINAL-URL:https://explorebeaufortsc.com
X-WR-CALDESC:Events for Explore Beaufort SC
REFRESH-INTERVAL;VALUE=DURATION:PT1H
X-Robots-Tag:noindex
X-PUBLISHED-TTL:PT1H
BEGIN:VTIMEZONE
TZID:America/New_York
BEGIN:DAYLIGHT
TZOFFSETFROM:-0500
TZOFFSETTO:-0400
TZNAME:EDT
DTSTART:20240310T070000
END:DAYLIGHT
BEGIN:STANDARD
TZOFFSETFROM:-0400
TZOFFSETTO:-0500
TZNAME:EST
DTSTART:20241103T060000
END:STANDARD
BEGIN:DAYLIGHT
TZOFFSETFROM:-0500
TZOFFSETTO:-0400
TZNAME:EDT
DTSTART:20250309T070000
END:DAYLIGHT
BEGIN:STANDARD
TZOFFSETFROM:-0400
TZOFFSETTO:-0500
TZNAME:EST
DTSTART:20251102T060000
END:STANDARD
BEGIN:DAYLIGHT
TZOFFSETFROM:-0500
TZOFFSETTO:-0400
TZNAME:EDT
DTSTART:20260308T070000
END:DAYLIGHT
BEGIN:STANDARD
TZOFFSETFROM:-0400
TZOFFSETTO:-0500
TZNAME:EST
DTSTART:20261101T060000
END:STANDARD
END:VTIMEZONE
BEGIN:VEVENT
DTSTART;TZID=America/New_York:20250922T211500
DTEND;TZID=America/New_York:20250923T001500
DTSTAMP:20260425T112231
CREATED:20250919T234013Z
LAST-MODIFIED:20250919T234013Z
UID:24429-1758575700-1758586500@explorebeaufortsc.com
SUMMARY:SBB’s Pumpkin & Petals
DESCRIPTION:We are soooo excited to announce our very first after hours event! Space is super limited as we will only take six guest each night. You will get to take your pumpkin home as well as enjoy a classic mini box 🧀💖One of the perks of being a Charcuterie of the Month is those who are part of the club get first access to events. To RSVP your spot and hold your spot for either night (or both!) comment or message us! 🎃
URL:https://explorebeaufortsc.com/event/sbbs-pumpkin-petals/
LOCATION:Newpoint Neighborhood\, Newpoint Neighborhood
END:VEVENT
BEGIN:VEVENT
DTSTART;TZID=America/New_York:20250923T100000
DTEND;TZID=America/New_York:20250923T140000
DTSTAMP:20260425T112231
CREATED:20250919T234013Z
LAST-MODIFIED:20250919T234013Z
UID:24432-1758621600-1758636000@explorebeaufortsc.com
SUMMARY:TCL’s College Transfer Fair
DESCRIPTION:Join us for TCL’s College Transfer Fair and meet representatives from four-year colleges and universities from around the state and beyond. \nOpen to TCL students and anyone in the area interested in attending a four-year college or university! \nWhen: 10 a.m. – 2 p.m. \nWhere: Building 12\, Beaufort Mather Campus104 Reynolds StreetBeaufort\, SC 29902 \nColleges that will be represented at the fair include: \nUSC ColumbiaUSC BeaufortCollege of CharlestonCoastal Carolina UniversityUSC UpstateNorth Greenville UniversityCharleston Southern UniversityAnderson UniversityLanderAnd more!
URL:https://explorebeaufortsc.com/event/tcls-college-transfer-fair/
LOCATION:921 Ribaut Rd\, Beaufort\, SC\, United States\, South Carolina 29902\, 921 Ribaut Rd\, Beaufort\, SC\, United States\, South Carolina 29902
ORGANIZER;CN="Technical College of the Lowcountry - TCL":MAILTO:noreply@facebookmail.com
END:VEVENT
BEGIN:VEVENT
DTSTART;TZID=America/New_York:20250923T170000
DTEND;TZID=America/New_York:20250923T200000
DTSTAMP:20260425T112231
CREATED:20250814T191853Z
LAST-MODIFIED:20250919T234014Z
UID:24012-1758646800-1758657600@explorebeaufortsc.com
SUMMARY:Keynote Speaker Dinner with David Allen Sibley
DESCRIPTION:September 23 we are honored to have David Allen Sibley as our featured Keynote Speaker\, for the Wings Over Beaufort festival! � �  \n-Plated\, sit down dinner with premium bar selection at The Port Royal Sound Foundation’s Weezie Educational Pavilion -Book signing with David following his presentation \nWe have 14 tour opportunities available for you to enjoy from September 23-26 as well!  \nWhat an incredible way to support our birds\, meet new people and learn more about our 501(c)3 nonprofit\, as we introduce the world to the future Carolina Bight Birding Center! � � �  \nTickets � available @ https://carolinabightbirdingcenter.org/bird-tours/ \n#beaufortsc #luvbft #visitbeaufort #southcarolina #lowcountry #audubonsociety #audubonsc #carolinabightbirdingcenter #birds #bird #birdnerd #visitbeaufortsc #migratorybirds #education #conservation #birdwatching #birdwatcher #nature #outdoors #explore #birdphotography #luvbft #sunrise #gardenandgun #birdphotography #apnews #nonprofit #save #new #news #thegreatoutdoors #sibley
URL:https://explorebeaufortsc.com/event/keynote-speaker-dinner-with-david-allen-sibley/
LOCATION:Port Royal Sound Foundation
END:VEVENT
BEGIN:VEVENT
DTSTART;TZID=America/New_York:20250923T170000
DTEND;TZID=America/New_York:20250923T200000
DTSTAMP:20260425T112231
CREATED:20250825T211223Z
LAST-MODIFIED:20250919T234014Z
UID:24143-1758646800-1758657600@explorebeaufortsc.com
SUMMARY:Keynote Speaker Dinner featuring David Allen Sibley
DESCRIPTION:Our Keynote Speaker for The Wings Over Beaufort Festival is none other than David Allen Sibley! ���� \nOur first birding book � was David’s “The Sibley Guide to Birds”\, and I know that many birders first books were a Sibley too! \nJoin us on September 23\, 2025 at The Port Royal Sound Foundations “Weezie Educational Pavilion” for a plated\, sit down dinner\, open bar & to hear David Allen Sibley. There will be a book signing following his keynote.  \nThere are 96 million birdwatchers in the United States\, but there is only one David Allen Sibley. He is the world’s leading authority on birds and birdwatching. David Allen Sibley has sold nearly 2 million books and is the most recognized name amongst North American birders. Used by millions of birders\, from novices to the most expert\, The Sibley Guide\, is now the standard by which natural history guides are measured. \nLink � in bio for tickets to the Keynote Speaker Dinner & more!  \n#beaufortsc #luvbft #visitbeaufort #southcarolina #lowcountry #audubonsociety #audubonsc #carolinabightbirdingcenter #birds #bird #birdnerd #visitbeaufortsc #migratorybirds #education #conservation #birdwatching #birdwatcher #thankyou #nature #outdoors #explore #birdphotography #luvbft #sibley #apnews #keynote #festival #learning #nightout
URL:https://explorebeaufortsc.com/event/keynote-speaker-dinner-featuring-david-allen-sibley-2/
LOCATION:Port Royal Sound Foundation
END:VEVENT
BEGIN:VEVENT
DTSTART;TZID=America/New_York:20250923T173000
DTEND;TZID=America/New_York:20250923T200000
DTSTAMP:20260425T112231
CREATED:20250712T034924Z
LAST-MODIFIED:20250919T234014Z
UID:23690-1758648600-1758657600@explorebeaufortsc.com
SUMMARY:Keynote Speaker Dinner featuring David Allen Sibley
DESCRIPTION:Our Keynote Speaker for The Wings Over Beaufort Festival is none other than David Allen Sibley! ���� \nOur first birding book � was David’s “The Sibley Guide to Birds”\, and I know that many birders first books were a Sibley too! \nJoin us on September 23\, 2025 at The Port Royal Sound Foundations “Weezie Educational Pavilion” for a plated\, sit down dinner\, open bar & to hear David Allen Sibley. There will be a book signing following his keynote.  \nThere are 96 million birdwatchers in the United States\, but there is only one David Allen Sibley. He is the world’s leading authority on birds and birdwatching. David Allen Sibley has sold nearly 2 million books and is the most recognized name amongst North American birders. Used by millions of birders\, from novices to the most expert\, The Sibley Guide\, is now the standard by which natural history guides are measured. \nLink � in bio for tickets to the Keynote Speaker Dinner & more!  \n#beaufortsc #luvbft #visitbeaufort #southcarolina #lowcountry #audubonsociety #audubonsc #carolinabightbirdingcenter #birds #bird #birdnerd #visitbeaufortsc #migratorybirds #education #conservation #birdwatching #birdwatcher #thankyou #nature #outdoors #explore #birdphotography #luvbft #sibley #apnews #keynote #festival #learning #nightout
URL:https://explorebeaufortsc.com/event/keynote-speaker-dinner-featuring-david-allen-sibley/
LOCATION:Port Royal Sound Foundation
END:VEVENT
BEGIN:VEVENT
DTSTART;TZID=America/New_York:20250923T180000
DTEND;TZID=America/New_York:20250923T190000
DTSTAMP:20260425T112231
CREATED:20250919T234014Z
LAST-MODIFIED:20250920T005723Z
UID:24433-1758650400-1758654000@explorebeaufortsc.com
SUMMARY:Beaufort's First Historian: An Evening with Dr. John A. Johnson (1819-93)
DESCRIPTION:In 1873\, during the heyday of Radical Reconstruction\, a physician and former Confederate soldier named Dr. John A. Johnson wrote a history of Beaufort\, South Carolina. The resulting work — Beaufort and the Sea Islands: Their History and Traditions — is informative\, eloquent\, and deeply strange. It offers a unique window into how one white Beaufortonian tried to cope with a difficult post-Civil War present by immersing himself in a more congenial pre-Civil War past. \nAbout the Presenter \nDr. James Shinn\, Jr. is an Assistant Professor of History at the University of South Carolina Beaufort\, where he teaches a range of courses in U.S. history. He has researched and written extensively about the history of the United States in the 19th century. Shinn received his PhD in History from Yale University in 2020.
URL:https://explorebeaufortsc.com/event/beauforts-first-historian-an-evening-with-dr-john-a-johnson-1819-93/
LOCATION:913 West St\, Beaufort\, SC 29902-4664\, United States
ATTACH;FMTTYPE=image/jpeg:https://explorebeaufortsc.com/wp-content/uploads/2025/09/recon4.jpg
ORGANIZER;CN="Reconstruction Era National Historical Park":MAILTO:noreply@facebookmail.com
END:VEVENT
END:VCALENDAR