BEGIN:VCALENDAR
VERSION:2.0
PRODID:-//Explore Beaufort SC - ECPv6.15.20//NONSGML v1.0//EN
CALSCALE:GREGORIAN
METHOD:PUBLISH
X-ORIGINAL-URL:https://explorebeaufortsc.com
X-WR-CALDESC:Events for Explore Beaufort SC
REFRESH-INTERVAL;VALUE=DURATION:PT1H
X-Robots-Tag:noindex
X-PUBLISHED-TTL:PT1H
BEGIN:VTIMEZONE
TZID:America/New_York
BEGIN:DAYLIGHT
TZOFFSETFROM:-0500
TZOFFSETTO:-0400
TZNAME:EDT
DTSTART:20240310T070000
END:DAYLIGHT
BEGIN:STANDARD
TZOFFSETFROM:-0400
TZOFFSETTO:-0500
TZNAME:EST
DTSTART:20241103T060000
END:STANDARD
BEGIN:DAYLIGHT
TZOFFSETFROM:-0500
TZOFFSETTO:-0400
TZNAME:EDT
DTSTART:20250309T070000
END:DAYLIGHT
BEGIN:STANDARD
TZOFFSETFROM:-0400
TZOFFSETTO:-0500
TZNAME:EST
DTSTART:20251102T060000
END:STANDARD
BEGIN:DAYLIGHT
TZOFFSETFROM:-0500
TZOFFSETTO:-0400
TZNAME:EDT
DTSTART:20260308T070000
END:DAYLIGHT
BEGIN:STANDARD
TZOFFSETFROM:-0400
TZOFFSETTO:-0500
TZNAME:EST
DTSTART:20261101T060000
END:STANDARD
END:VTIMEZONE
BEGIN:VEVENT
DTSTART;TZID=America/New_York:20250924T173000
DTEND;TZID=America/New_York:20250924T183000
DTSTAMP:20260425T112317
CREATED:20250919T234014Z
LAST-MODIFIED:20250920T005329Z
UID:24434-1758735000-1758738600@explorebeaufortsc.com
SUMMARY:Community Clean-up With Beaufort Litter Patrol
DESCRIPTION:Join us for a community clean-up at our adopted section of the Spanish Moss Trail at Roseida Rd. (trail parking behind Parkers gas station on Trask Pkwy). \nSupplies provided:\n-Gloves\n-Bags\n-Some grabbers\n-Hand sanitizer \nWhat you need:\n-Sneakers or boots that you don’t mind getting dirty\n-Reusable water bottle to stay hydrated \nThere’s power in numbers so be sure to share and invite! \nThank you to Shellring Aleworks for sponsoring our clean-ups. If you would like to join\, meet us at Shellring after the clean-up for a cold drink!
URL:https://explorebeaufortsc.com/event/community-clean-up-2/
LOCATION:Spanish Moss Trail\, Spanish Moss Trail
ATTACH;FMTTYPE=image/jpeg:https://explorebeaufortsc.com/wp-content/uploads/2025/09/blp22.jpg
ORGANIZER;CN="Beaufort Litter Patrol":MAILTO:noreply@facebookmail.com
END:VEVENT
END:VCALENDAR