BEGIN:VCALENDAR
VERSION:2.0
PRODID:-//Explore Beaufort SC - ECPv6.15.20//NONSGML v1.0//EN
CALSCALE:GREGORIAN
METHOD:PUBLISH
X-ORIGINAL-URL:https://explorebeaufortsc.com
X-WR-CALDESC:Events for Explore Beaufort SC
REFRESH-INTERVAL;VALUE=DURATION:PT1H
X-Robots-Tag:noindex
X-PUBLISHED-TTL:PT1H
BEGIN:VTIMEZONE
TZID:America/New_York
BEGIN:DAYLIGHT
TZOFFSETFROM:-0500
TZOFFSETTO:-0400
TZNAME:EDT
DTSTART:20240310T070000
END:DAYLIGHT
BEGIN:STANDARD
TZOFFSETFROM:-0400
TZOFFSETTO:-0500
TZNAME:EST
DTSTART:20241103T060000
END:STANDARD
BEGIN:DAYLIGHT
TZOFFSETFROM:-0500
TZOFFSETTO:-0400
TZNAME:EDT
DTSTART:20250309T070000
END:DAYLIGHT
BEGIN:STANDARD
TZOFFSETFROM:-0400
TZOFFSETTO:-0500
TZNAME:EST
DTSTART:20251102T060000
END:STANDARD
BEGIN:DAYLIGHT
TZOFFSETFROM:-0500
TZOFFSETTO:-0400
TZNAME:EDT
DTSTART:20260308T070000
END:DAYLIGHT
BEGIN:STANDARD
TZOFFSETFROM:-0400
TZOFFSETTO:-0500
TZNAME:EST
DTSTART:20261101T060000
END:STANDARD
END:VTIMEZONE
BEGIN:VEVENT
DTSTART;TZID=America/New_York:20250926T170000
DTEND;TZID=America/New_York:20250927T150000
DTSTAMP:20260425T112843
CREATED:20250805T132608Z
LAST-MODIFIED:20250919T234015Z
UID:23877-1758906000-1758985200@explorebeaufortsc.com
SUMMARY:Ninth Annual Lowcountry Book Club Convention | Beaufort & Bluffton
DESCRIPTION:The nonprofit Pat Conroy Literary Center will host our 9th annual Lowcountry Book Club Convention on Friday\, September 26\, at the Beaufort County Black Chamber of Commerce in Beaufort\, and Saturday\, September 27\, at the Culinary Institute of the South at the Technical College of the Lowcountry in Bluffton. Ideal for book club members\, those interested in joining a book club\, or anyone who simply loves the joy of reading\, the Lowcountry Book Club Convention is presented in partnership with NeverMore Books and the student book club DAYLO. \nThe Lowcountry Book Club Convention will begin on Friday evening with a panel discussion among local authors: biographer Nancy Thode (Ahead of Her Time: The Trailblazing Life and Literary Legacy of Ann Head)\, novelist Karin Gillespie (The Pitch Queen)\, and travel writers Lynn and Cele Seldon (100 Things to Do in the South Carolina Lowcountry Before You Die). This opening session will be followed by a book signing\, with refreshments. This is a ticketed event\, held at the Beaufort County Black Chamber of Commerce (711 Bladen St.\, Beaufort). \nThe Convention continues Saturday at the Culinary Institute of the South (1 Venture Dr.\, Bluffton)\, with three author keynote conversations and gourmet box lunches catered by Debbi Covington. The program will feature a morning discussion with USA Today bestselling novelist Renée Rosen\, author of Let’s Call Her Barbie\, an afternoon discussion with New York Times bestselling novelist Marie Bostwick\, author of The Book Club for Troublesome Women\, and a midday conversation between Food Network star Kardea Brown\, author of The Way Home\, and local favorite Mary Martha Greene\, author of The Cheese Biscuit Queen: Kiss My Aspic! Each author conversation will be followed by a book signing. This is a ticketed event. \nAdvance registration is required by September 20 for this year’s Lowcountry Book Club Convention. Learn more and register at https://lowcountrybookclubconvention2025.eventbrite.com.  \nSCHEDULE OF EVENTS \nFriday\, September 26Beaufort County Black Chamber of Commerce (711 Boundary St.\, Beaufort) \n5:00-6:00 p.m. Local author panel discussion with Nancy Thode (Ahead of Her Time: The Trailblazing Life and Literary Legacy of Ann Head)\, Karin Gillespie (The Pitch Queen)\, and Lynn and Cele Seldon (100 Things to Do in the South Carolina Lowcountry Before You Die). \n6:00-7:00 p.m. Book signing with refreshments \nSaturday\, September 27Culinary Institute of the South (1 Venture Dr.\, Bluffton) \n9:30-10:00 a.m. Check-in begins \n10:00-11:00 a.m. Keynote conversation with USA Today bestselling novelist Renée Rosen\, author of Let’s Call Her Barbie \n11:00-11:30 a.m. Book signing break \n11:30-12:30 p.m. Keynote conversation between New York Times bestselling cookbook writer and Food Network star Kardea Brown\, author of The Way Home\, and local favorite Mary Martha Greene\, author of The Cheese Biscuit Queen: Kiss My Aspic! \n12:30-1:30 p.m. Book signing break and lunch: gourmet box lunches\, catering by Debbi Covington. (Register by September 22 for lunch) \n1:30-2:30 p.m. Keynote conversation with New York Times and USA Today bestselling novelist Marie Bostwick\, author of The Book Club for Troublesome Women \n2:30-3:00 p.m. Final book signing break \nABOUT THE AUTHORSFeatured Local Authors \nKarin Gillespie is the author of nine novels\, most recently The Pitch Queen. She’s a former book columnist for the Augusta Chronicle\, a former humor columnist for Augusta Magazine\, and a recipient of a 2016 Georgia Author of the Year Award. Her non-fiction work has appeared in the New York Times\, the Washington Post and Writer Magazine\, and she also has a popular Substack called “Pitch Your Novel.” Gillespie earned her MFA in Creative Writing from Converse College; she now lives and writes in Savannah. \nLynn and Cele Seldon are veteran travel journalists and published authors of many travel guidebooks\, including 100 Things to Do in Charleston Before You Die\, 100 Things to Do in Savannah Before You Die\, and the forthcoming 100 Things to Do in the South Carolina Lowcountry Before You Die. The duo has spent more than 35 years covering all aspects of travel\, with their work appearing in Southern Living\, Garden & Gun\, The Local Palate\, South Carolina Living\, USA Today\, the Atlanta Journal-Constitution\, FoodNetwork.com\, USA Today\, and many others. The Seldons are based in Beaufort. \nA native of Beaufort\, Nancy Head Thode is a graduate of Ashley Hall School\, Towson State University\, and the University of Maryland School of Social Work. An early advocate for family mediation\, she was a founding board member of the Academy of Family Mediators and continues her work today as a practicing family psychotherapist. Ahead of Her Time\, the biography of her mother Ann Head\, is her first book. \nKeynote Authors \nMarie Bostwick is the New York Times and USA TODAY bestselling author of more than twenty works of uplifting contemporary and historical fiction—most recently The Book Club for Troublesome Women\, USA Today and Southern Independent Booksellers Alliance bestseller. It was a monthly pick for large national book clubs including the AARP Girlfriends Book Club\, Gloss Book Club\, and Brenda Novak’s Book Club\, and has been includes on numerous “most anticipated” lists\, including BookBub’s Best Historical Fiction of 2025. Translated into a dozen languages\, Marie’s novels are beloved by readers across the globe. Her 2009 book\, A Thread of Truth\, was an Indie Next Notable pick. Three of her books were published as Reader’s Digest Select Editions. In addition to books\, Marie writes a popular lifestyle blog\, Fiercely Marie\, that encourages readers to “live every minute and love every moment”. Marie lives in Washington state with her husband and a beautiful but moderately spoiled Cavalier King Charles spaniel. \nKardea Brown is a contemporary Southern Chef\, author of the New York Times bestseller The Way Home and the forthcoming Make Do with What You Have (November 2025). She and the creator of the New Gullah Supper Club pop-up\, where her menu pays homage to dishes her grandmother and mother passed down to her. She is the host of the hit show Delicious Miss Brown and Kids Baking Championship. She is also a resident judge on Spring Baking Championship and co-hosted seasonal specials\, including Kids Baking Championship Thanksgiving in 2023. Kardea lives in Charleston with her husband Bryon and their fur baby Rhubarb. \nMary Martha Greene is a South Carolina native and government relations consultant who perfected her entertaining skills for making friends and engaging clients during her forty-year career. The author of The Cheese Biscuit Queen Tells All: Southern Recipes\, Sweet Remembrances\, and a Little Rambunctious Behavior\, and its sequel\, The Cheese Biscuit Queen: Kiss My Aspic\, Greene divides her time between Beaufort and Columbia. \nRenée Rosen is a USA Today bestselling author. Her novels include Fifth Avenue Glamour Girl\, The Social Graces\, Park Avenue Summer\, Windy City Blues\, White Collar Girl\, What the Lady Wants and Dollface as well as the young adult novel\, Every Crooked Pot. Her newest novel\, Let’s Call Her Barbie\, about the origin story of the popular doll\, is a USA Today bestseller featured in the New York Post\, RuPaul’s Book Club\, Book Riot\, the Nerd Daily\, and the Chicago Review of Books. She is a native of Akron\, Ohio\, and a graduate of American University in Washington\, D.C. Rosen now lives and writes in Chicago. \nLearn more about the nonprofit Pat Conroy Literary Center at www.patconroyliterarycenter.org.
URL:https://explorebeaufortsc.com/event/ninth-annual-lowcountry-book-club-convention-beaufort-bluffton/
LOCATION:Beaufort County\, Beaufort County
ORGANIZER;CN="Pat Conroy Literary Center":MAILTO:noreply@facebookmail.com
END:VEVENT
BEGIN:VEVENT
DTSTART;TZID=America/New_York:20250927T100000
DTEND;TZID=America/New_York:20250927T130000
DTSTAMP:20260425T112843
CREATED:20250814T191854Z
LAST-MODIFIED:20250919T234016Z
UID:24017-1758967200-1758978000@explorebeaufortsc.com
SUMMARY:Grand Opening
DESCRIPTION:🎉 GRAND OPENING CELEBRATION – YOU’RE INVITED! 🎉Join us as we officially open the doors – your new favorite spot for gifts\, artisan goods\, coastal treasures\, plants\, and so much more! \n📍 1406 Paris Ave\, Port Royal\, SC📅 Saturday\, September 27🕙 10:00 AM – 4:00 PM  \n✨ Be among the first to experience the new space\, meet the owners\, and explore everything! \n💙 Enjoy:– Local treats & refreshments– Free gift with purchase (while supplies last)– Giveaways \nWhether you’re shopping\, browsing\, or just stopping by to say hello\, we’d love to celebrate this exciting new beginning with YOU! \n📣 Spread the word\, bring a friend\, and let’s make it a weekend to remember in Port Royal! \n#AnchoredVessel #GrandOpening #ShopLocal #PortRoyalSC #GiftBoutique #CoastalStyle
URL:https://explorebeaufortsc.com/event/grand-opening-2/
LOCATION:1406 Paris Avenue \, Port Royal\, SC\, United States\, South Carolina 29935\, 1406 Paris Avenue \, Port Royal\, SC\, United States\, South Carolina 29935
END:VEVENT
BEGIN:VEVENT
DTSTART;TZID=America/New_York:20250927T100000
DTEND;TZID=America/New_York:20250927T140000
DTSTAMP:20260425T112843
CREATED:20250814T191855Z
LAST-MODIFIED:20250919T234016Z
UID:24020-1758967200-1758981600@explorebeaufortsc.com
SUMMARY:FREE Will & Health Care Power of Attorney Clinic
DESCRIPTION:Live or work on Hilton Head? Apply today to get your FREE Will!https://lowcountrylegalvolunteers.org/apply-for-our…/Thank you to Community Foundation of the Lowcountry for supporting our Wills & Heirs’ Property Education Impact Program!
URL:https://explorebeaufortsc.com/event/free-will-health-care-power-of-attorney-clinic/
LOCATION:Cherry Hill School\, Cherry Hill School
ORGANIZER;CN="Lowcountry Legal Volunteers":MAILTO:noreply@facebookmail.com
END:VEVENT
BEGIN:VEVENT
DTSTART;TZID=America/New_York:20250927T100000
DTEND;TZID=America/New_York:20250927T150000
DTSTAMP:20260425T112843
CREATED:20250904T171033Z
LAST-MODIFIED:20250919T234016Z
UID:24233-1758967200-1758985200@explorebeaufortsc.com
SUMMARY:STEAM Saturday Drop In
DESCRIPTION:Stop into the Maritime Center during a STEAM Saturday for a variety of educational Naturalist-led activities. \nConduct a science experiment from 10am – 11am\, get creative with a craft from 12pm – 1pm\, or meet a critter from 2pm – 3pm! \nColoring sheets will be available to color and take home all day. \nAll activities are free and no RSVP is required. Activities are suited for all ages\, but children must be accompanied by an adult.  \nhttps://www.facebook.com/events/766907962724960/?event_time_id=766907969391626
URL:https://explorebeaufortsc.com/event/steam-saturday-drop-in-2/
LOCATION:310 Okatie Hwy\, Okatie\, SC\, United States\, South Carolina 29909\, 310 Okatie Hwy\, Okatie\, SC\, United States\, South Carolina 29909
ORGANIZER;CN="Port Royal Sound Foundation":MAILTO:noreply@facebookmail.com
END:VEVENT
BEGIN:VEVENT
DTSTART;TZID=America/New_York:20250927T110000
DTEND;TZID=America/New_York:20250927T170000
DTSTAMP:20260425T112843
CREATED:20250805T132608Z
LAST-MODIFIED:20250919T234016Z
UID:23879-1758970800-1758992400@explorebeaufortsc.com
SUMMARY:11th Annual OktoPRfest "Party Port Royal Style"
DESCRIPTION:Port Royal\, S.C. — The Town of Port Royal invites the community to the 11th Annual OktoPRfest: “Party Port Royal Style” on Saturday\, September 27\, 2025\, from 11 a.m. to 5 p.m. on historic Paris Avenue in the heart of the Old Village. \nFestivalgoers can enjoy German-inspired favorites — including brats and pretzels — alongside classic American festival fare served up by local chefs\, restaurants\, and food trucks. A wide variety of beers will also be available. \nLive music and entertainment will take place throughout the day with Charles Maring performing from 11 a.m. to 1:30 p.m.\, followed by Greg Keys & Company from 2 p.m. to 5 p.m. Guests can also explore the festival’s Craft Market Area\, featuring local artisans and non-profits showcasing their work and mission. \nFamilies won’t want to miss the Kids Zone\, open from 12 p.m. to 4 p.m.\, including a special appearance by Lollipop the Clown. \nAdmission is free.Please\, no pets.
URL:https://explorebeaufortsc.com/event/11th-annual-oktoprfest-party-port-royal-style/
LOCATION:Port Royal SC
ORGANIZER;CN="Old Village Association of Port Royal":MAILTO:noreply@facebookmail.com
END:VEVENT
BEGIN:VEVENT
DTSTART;TZID=America/New_York:20250927T150000
DTEND;TZID=America/New_York:20250927T200000
DTSTAMP:20260425T112843
CREATED:20250825T211224Z
LAST-MODIFIED:20250919T234016Z
UID:24146-1758985200-1759003200@explorebeaufortsc.com
SUMMARY:Blufftemberfest
DESCRIPTION:BlufftemberFest – Bluffton’s Annual Music Festival & Oktoberfest Celebration on the May River is on September 28th from 3:00 pm to 8:00 pm.  \nBlufftemberFest\, a Bluffton tradition since 2012\, is always a crowd favorite! Octoberfest Beer Garden\, Food Truck Court\, Arts & Crafts and Small Business Village\, where local artisans and entrepreneurs showcase their coolest creations. \nWe’ve got three fantastic bands: Chillakaya\, The Rick Nelson Band\, and a special guest that’s sure to get everyone parting and having a good time
URL:https://explorebeaufortsc.com/event/blufftemberfest-4/
LOCATION:Bluffton Oyster Factory Park
ORGANIZER;CN="Bluffton Sunset Parties":MAILTO:noreply@facebookmail.com
END:VEVENT
BEGIN:VEVENT
DTSTART;TZID=America/New_York:20250927T193000
DTEND;TZID=America/New_York:20250927T220000
DTSTAMP:20260425T112843
CREATED:20250814T191855Z
LAST-MODIFIED:20250919T234016Z
UID:24022-1759001400-1759010400@explorebeaufortsc.com
SUMMARY:Beaufort Theatre Company Presents: 9 to 5 the Musical
DESCRIPTION:Get ready to laugh\, sing\, and cheer! Beaufort Theatre Company presents 9 to 5 The Musical\, the hit Broadway show inspired by the iconic film. With music and lyrics by Dolly Parton\, this high-energy production celebrates friendship\, empowerment\, and standing up for what’s right—all set to a toe-tapping country-pop score. Don’t miss this wildly funny ride through the workday!​​​Tickets:Adult $35Senior/Military $350Student $20 \nhttps://www.facebook.com/events/1073577408084131/?event_time_id=1073577428084129
URL:https://explorebeaufortsc.com/event/beaufort-theatre-company-presents-9-to-5-the-musical-4/
LOCATION:801 Carteret St\, Beaufort\, SC\, United States\, South Carolina 29902\, 801 Carteret St\, Beaufort\, SC\, United States\, South Carolina 29902
ORGANIZER;CN="USCB Center for the Arts":MAILTO:noreply@facebookmail.com
END:VEVENT
END:VCALENDAR