BEGIN:VCALENDAR
VERSION:2.0
PRODID:-//Explore Beaufort SC - ECPv6.15.20//NONSGML v1.0//EN
CALSCALE:GREGORIAN
METHOD:PUBLISH
X-WR-CALNAME:Explore Beaufort SC
X-ORIGINAL-URL:https://explorebeaufortsc.com
X-WR-CALDESC:Events for Explore Beaufort SC
REFRESH-INTERVAL;VALUE=DURATION:PT1H
X-Robots-Tag:noindex
X-PUBLISHED-TTL:PT1H
BEGIN:VTIMEZONE
TZID:America/New_York
BEGIN:DAYLIGHT
TZOFFSETFROM:-0500
TZOFFSETTO:-0400
TZNAME:EDT
DTSTART:20240310T070000
END:DAYLIGHT
BEGIN:STANDARD
TZOFFSETFROM:-0400
TZOFFSETTO:-0500
TZNAME:EST
DTSTART:20241103T060000
END:STANDARD
BEGIN:DAYLIGHT
TZOFFSETFROM:-0500
TZOFFSETTO:-0400
TZNAME:EDT
DTSTART:20250309T070000
END:DAYLIGHT
BEGIN:STANDARD
TZOFFSETFROM:-0400
TZOFFSETTO:-0500
TZNAME:EST
DTSTART:20251102T060000
END:STANDARD
BEGIN:DAYLIGHT
TZOFFSETFROM:-0500
TZOFFSETTO:-0400
TZNAME:EDT
DTSTART:20260308T070000
END:DAYLIGHT
BEGIN:STANDARD
TZOFFSETFROM:-0400
TZOFFSETTO:-0500
TZNAME:EST
DTSTART:20261101T060000
END:STANDARD
END:VTIMEZONE
BEGIN:VEVENT
DTSTART;TZID=America/New_York:20250929T140000
DTEND;TZID=America/New_York:20250929T170000
DTSTAMP:20260425T112606
CREATED:20250723T220454Z
LAST-MODIFIED:20250919T234018Z
UID:23772-1759154400-1759165200@explorebeaufortsc.com
SUMMARY:Nature Writing: Kayak on the Chechessee and Write about It\, with Katherine Tandy Brown
DESCRIPTION:RSVP Required. Click the orange “Book a Program” button on our website to sign up!portroyalsoundfoundation.org \nWe who live in the South Carolina Lowcountry are fortunate to be surrounded by its extraordinary nature – the marsh and its seasons\, live oaks dripping with Spanish moss\, 180 degrees of ever-changing sky\, marsh and shore birds\, crabs and dolphins and fish\, the bright sunshine that lights this southern world\, and of course\, water…the ocean and rivers and their tides. In this workshop you’ll kayak on the Chechessee River with guides from the Maritime Center for an afternoon immersion in Carolina’s nature at its finest.Then – like Henry David Thoreau on Walden Pond – you’ll take pen to paper and write about any part of the adventure you choose. Anyone at any level of writing\, from rank beginner to pretty darn good\, can write using a method called writing practice\, developed by writing workshop guru Natalie Goldberg and presented in her classic book\, Writing Down the Bones. You’ll learn how to get rid of the self-critic so that your thoughts flow freely onto the page. And you’ll leave with a chunk of nature writing and a memory of time well spent.Dress for a journey on the water\, and be sure to bring sunscreen\, a water bottle\, notebook or journal\, and several pens. \nKatherine Tandy Brown has explored the world as a freelance travel writer for 20-plus years. She has taught memoir writing\, travel writing\, writing practice\, et al\, in the USCB’s OLLI Continuing Ed program\, Tech College of the Lowcountry\, Pat Conroy Literary Center\, Palm Key and Thera Vista Retreat Centers\, her downtown Beaufort cottage…and nature writing on a sandbar in the Beaufort River\, her favorite classroom so far!
URL:https://explorebeaufortsc.com/event/nature-writing-kayak-on-the-chechessee-and-write-about-it/
LOCATION:310 Okatie Hwy\, Okatie\, SC\, United States\, South Carolina 29909\, 310 Okatie Hwy\, Okatie\, SC\, United States\, South Carolina 29909
ORGANIZER;CN="Port Royal Sound Foundation":MAILTO:noreply@facebookmail.com
END:VEVENT
BEGIN:VEVENT
DTSTART;TZID=America/New_York:20250929T190000
DTEND;TZID=America/New_York:20250929T220000
DTSTAMP:20260425T112606
CREATED:20250919T234018Z
LAST-MODIFIED:20250919T234018Z
UID:24438-1759172400-1759183200@explorebeaufortsc.com
SUMMARY:OCCASIONAL MONDAY NIGHT MOVIE: The Last Class
DESCRIPTION:‼️OCCASIONAL MONDAY NIGHT MOVIE ALERT‼️Join us for “The Last Class” by Richard Reich Monday\, September 29 at 7p.All seats $8\, same great price whether online or at the door.Get yours early at uscbcenterforthearts.com!
URL:https://explorebeaufortsc.com/event/occasional-monday-night-movie-the-last-class/
LOCATION:801 Carteret St\, Beaufort\, SC\, United States\, South Carolina 29902\, 801 Carteret St\, Beaufort\, SC\, United States\, South Carolina 29902
ORGANIZER;CN="USCB Center for the Arts":MAILTO:noreply@facebookmail.com
END:VEVENT
END:VCALENDAR