BEGIN:VCALENDAR
VERSION:2.0
PRODID:-//Explore Beaufort SC - ECPv6.15.20//NONSGML v1.0//EN
CALSCALE:GREGORIAN
METHOD:PUBLISH
X-ORIGINAL-URL:https://explorebeaufortsc.com
X-WR-CALDESC:Events for Explore Beaufort SC
REFRESH-INTERVAL;VALUE=DURATION:PT1H
X-Robots-Tag:noindex
X-PUBLISHED-TTL:PT1H
BEGIN:VTIMEZONE
TZID:America/New_York
BEGIN:DAYLIGHT
TZOFFSETFROM:-0500
TZOFFSETTO:-0400
TZNAME:EDT
DTSTART:20240310T070000
END:DAYLIGHT
BEGIN:STANDARD
TZOFFSETFROM:-0400
TZOFFSETTO:-0500
TZNAME:EST
DTSTART:20241103T060000
END:STANDARD
BEGIN:DAYLIGHT
TZOFFSETFROM:-0500
TZOFFSETTO:-0400
TZNAME:EDT
DTSTART:20250309T070000
END:DAYLIGHT
BEGIN:STANDARD
TZOFFSETFROM:-0400
TZOFFSETTO:-0500
TZNAME:EST
DTSTART:20251102T060000
END:STANDARD
BEGIN:DAYLIGHT
TZOFFSETFROM:-0500
TZOFFSETTO:-0400
TZNAME:EDT
DTSTART:20260308T070000
END:DAYLIGHT
BEGIN:STANDARD
TZOFFSETFROM:-0400
TZOFFSETTO:-0500
TZNAME:EST
DTSTART:20261101T060000
END:STANDARD
END:VTIMEZONE
BEGIN:VEVENT
DTSTART;TZID=America/New_York:20251001T170000
DTEND;TZID=America/New_York:20251001T190000
DTSTAMP:20260425T112854
CREATED:20250814T191856Z
LAST-MODIFIED:20251001T231222Z
UID:24024-1759338000-1759345200@explorebeaufortsc.com
SUMMARY:Beaufort Book Launch of 100 Things to Do in the South Carolina Lowcountry Before You Die
DESCRIPTION:Join us as we celebrate the Beaufort launch of our new book\, 100 Things to Do in the South Carolina Lowcountry Before You Die. Held in the courtyard of The Beaufort Arsenal\, home to the Visit Beaufort Visitor Center and the Beaufort History Museum\, two of the entries in our book\, there will be refreshments from restaurants\, breweries\, and wine shops featured in the book\, along with books for sale.  \nAlthough the event is free and open to the public\, we’d love to have an idea of how many people will be joining us so we have enough food and beverages (and books!). So we ask that you register and let us know that you are coming https://www.eventbrite.com/e/beaufort-book-launch-of-100-things-lowcountry-tickets-1567760587119?aff=oddtdtcreator
URL:https://explorebeaufortsc.com/event/beaufort-book-launch-of-100-things-to-do-in-the-south-carolina-lowcountry-before-you-die/
LOCATION:The Beaufort Arsenal\, 713 Craven St\, Beaufort\, SC\, 29902\, US
END:VEVENT
END:VCALENDAR