BEGIN:VCALENDAR
VERSION:2.0
PRODID:-//Explore Beaufort SC - ECPv6.15.20//NONSGML v1.0//EN
CALSCALE:GREGORIAN
METHOD:PUBLISH
X-WR-CALNAME:Explore Beaufort SC
X-ORIGINAL-URL:https://explorebeaufortsc.com
X-WR-CALDESC:Events for Explore Beaufort SC
REFRESH-INTERVAL;VALUE=DURATION:PT1H
X-Robots-Tag:noindex
X-PUBLISHED-TTL:PT1H
BEGIN:VTIMEZONE
TZID:America/New_York
BEGIN:DAYLIGHT
TZOFFSETFROM:-0500
TZOFFSETTO:-0400
TZNAME:EDT
DTSTART:20240310T070000
END:DAYLIGHT
BEGIN:STANDARD
TZOFFSETFROM:-0400
TZOFFSETTO:-0500
TZNAME:EST
DTSTART:20241103T060000
END:STANDARD
BEGIN:DAYLIGHT
TZOFFSETFROM:-0500
TZOFFSETTO:-0400
TZNAME:EDT
DTSTART:20250309T070000
END:DAYLIGHT
BEGIN:STANDARD
TZOFFSETFROM:-0400
TZOFFSETTO:-0500
TZNAME:EST
DTSTART:20251102T060000
END:STANDARD
BEGIN:DAYLIGHT
TZOFFSETFROM:-0500
TZOFFSETTO:-0400
TZNAME:EDT
DTSTART:20260308T070000
END:DAYLIGHT
BEGIN:STANDARD
TZOFFSETFROM:-0400
TZOFFSETTO:-0500
TZNAME:EST
DTSTART:20261101T060000
END:STANDARD
END:VTIMEZONE
BEGIN:VEVENT
DTSTART;TZID=America/New_York:20251004T080000
DTEND;TZID=America/New_York:20251004T100000
DTSTAMP:20260425T112559
CREATED:20250712T034925Z
LAST-MODIFIED:20251001T231222Z
UID:23692-1759564800-1759572000@explorebeaufortsc.com
SUMMARY:Run Forrest Run 5K
DESCRIPTION:Grab your running shoes and your best Gump Getup – the Beaufort Shrimp Festival’s Run Forrest Run 5K returns Saturday\, Oct. 4\, 2025! 🍤👟 Captivating Forrest Gump fans and avid runners alike\, this race is the Beaufort Digital Corridor’s grandest fundraiser. All proceeds support advancing economic growth and social equity by empowering individuals from all backgrounds to pursue careers in technology. Get your early bird tickets today! \nDonations AppreciatedIf you would like to support our mission further\, please consider making a tax-deductible donation to the Beaufort Digital Corridor Foundation (BDCF) by visiting https://runsignup.com/Race/Donate/SC/Beaufort/2019RunForrestRun5k. \nSponsorship Opportunities AvailableIf you’re interested in sponsoring the Run Forrest Run 5K this year\, please complete the sponsorship form at https://runsignup.com/CreateRaceSponsor/78083/t/KsgWtxj38UjWdNCzTFVPUsnmaf7gfGyf.
URL:https://explorebeaufortsc.com/event/run-forrest-run-5k/
LOCATION:1015 Bay St\, Beaufort\, SC 29902\, 1015 Bay St\, Beaufort\, SC 29902
CATEGORIES:Fitness - Run/Walk,Fundraiser
ORGANIZER;CN="Beaufort Digital Corridor":MAILTO:noreply@facebookmail.com
END:VEVENT
BEGIN:VEVENT
DTSTART;TZID=America/New_York:20251004T100000
DTEND;TZID=America/New_York:20251004T140000
DTSTAMP:20260425T112559
CREATED:20250919T234020Z
LAST-MODIFIED:20251001T231223Z
UID:24440-1759572000-1759586400@explorebeaufortsc.com
SUMMARY:Stocking Work Sessions
DESCRIPTION:Join us at the Clemson Extension to make holiday stockings for the Beaufort Memorial Birthing Center!Stockings are given to each baby born in December.  \nhttps://www.facebook.com/events/1707091489995879/?event_time_id=1707092219995806
URL:https://explorebeaufortsc.com/event/stocking-work-sessions/
LOCATION:18 John Galt Rd\, Beaufort\, SC 29906-4290\, United States\, 18 John Galt Rd\, Beaufort\, SC 29906-4290\, United States
ORGANIZER;CN="Sea Island Quilters":MAILTO:noreply@facebookmail.com
END:VEVENT
BEGIN:VEVENT
DTSTART;TZID=America/New_York:20251004T120000
DTEND;TZID=America/New_York:20251004T180000
DTSTAMP:20260425T112559
CREATED:20250611T142925Z
LAST-MODIFIED:20251001T231223Z
UID:23451-1759579200-1759600800@explorebeaufortsc.com
SUMMARY:The Lowcountry Fish and Grits
DESCRIPTION:Fall’s Can’t-Miss Celebration is Back!Fish and Grits Music Festival 2025📍 Lowcountry Celebration Park • Hilton Head Island \nThe Lowcountry’s favorite homecoming returns! A full day of flavor\, culture\, and community—where the music moves you\, the food feeds your soul\, and the Gullah Geechee legacy takes center stage. \nLive performances • Food trucks • Local artisans • Culture you can feel \n🎟️ The more you buy\, the more you save—so grab your crew and join us at the park! Tickets on sale now 👉 FGMFest.com \nJoin our mailing list for exclusive discounts\, festival news\, and more: eepurl.com/h-FtFz \nWelcome back home—let’s fill the park with love. \nEat. Dance. Explore. Celebrate. \n#FGMF2025 #FishAndGritsFestival #GullahGeecheeCulture #LowcountryLiving #HiltonHead #LiveMusic #FoodTrucks
URL:https://explorebeaufortsc.com/event/the-lowcountry-fish-and-grits/
LOCATION:94 Pope Avenue\, Hilton Head Island\, SC\, United States\, South Carolina 29928\, 94 Pope Avenue\, Hilton Head Island\, SC\, United States\, South Carolina 29928
ORGANIZER;CN="The Lowcountry Fish & Grits Music Festival":MAILTO:noreply@facebookmail.com
END:VEVENT
BEGIN:VEVENT
DTSTART;TZID=America/New_York:20251004T120000
DTEND;TZID=America/New_York:20251004T170000
DTSTAMP:20260425T112559
CREATED:20251003T200900Z
LAST-MODIFIED:20251003T200900Z
UID:24582-1759579200-1759597200@explorebeaufortsc.com
SUMMARY:31st Annual Beaufort Shrimp Festival
DESCRIPTION:It’s finally here. The 31st Annual Beaufort Shrimp Festival is happening this weekend\, Friday and Saturday\, October 3rd and 4th\, at downtown Beaufort’s picturesque Henry C. Chambers Waterfront Park. \nBeaufort’s annual Shrimp Festival celebrates Lowcountry cuisine and incorporates lots of fun activities for all ages. The festivities always includes concerts\, arts & crafts\, educational activities and two fun days of several local cookers filling Henry C. Chambers Waterfront Park offering samples of Lowcountry dishes featuring local wild-caught shrimp. \nOne of Beaufort’s most popular festivals\, the excitement kicks off at 5pm Friday and includes live music starting at 5:15 by Threshold Party Band and then Billy and the Jets takes the stage with the music of Elton John & Billy Joel at 7:15pm along with several area cookers previewing their creative shrimp concoctions for Saturday’s serious competitions. \nBut\, you don’t have to wait until this evening arrives because you can enjoy browsing through the festival’s Arts & Crafts Market\, which starts at 12pm. \nThe event will continue on Saturday with the popular Run Forrest Run 5K race starting at 8am\, followed by live music throughout the day starting at 12pm featuring The Parris Island Marine Band\, followed by The Deckhands\, and Lyn Avenue. There will also be a Kids Corner festuring Rogue Magician\, and the Arts & Crafts Market…and lots and lots and lots of SHRIMP! \nLocal cookers will be set up throughout the park serving their best while vying for the trophies including Best Shrimp Dish\, which is voted on by a panel of shrimp-familiar judges\, and the People’s Choice award\, which is voted on by you. The overall winner will be awarded the Silver Cup and will have a full year of bragging rights. \nThis year’s line up of delicious seafood and other delectable food includes offerings from Bellyfull By Tyger\, Mother Smokin’ Good\, Food Savvy Spices\, Sea Eagle Market\, Sea Eagle Fusion\, and treats from Meg’s Sweet Treats and Sassy Sweets\, and many more. \nAlso at the event on Saturday\, you can enter in the Sea Island Rotary Club’s annual Charity Shrimp Race at 3pm and check out thousands of rubber shrimp racing as they float down the Beaufort River towards a finish line full of fabulous prizes with a Grand Prize of $30\,000. \nIf you need help with parking in downtown\, because it can be a challenge sometimes\, visit our Downtown Beaufort Parking Map. \nThe 31st Annual Beaufort Shrimp Festival ….celebrating our local food and culture with tons of family fun….Beaufort-style.
URL:https://explorebeaufortsc.com/event/31st-annual-beaufort-shrimp-festival-2/
LOCATION:Henry C Chambers Waterfront Park\, Beaufort\, SC\, US
ATTACH;FMTTYPE=image/jpeg:https://explorebeaufortsc.com/wp-content/uploads/2025/10/beaufortshrimpfestivalericrsmith.jpg
END:VEVENT
BEGIN:VEVENT
DTSTART;TZID=America/New_York:20251004T140000
DTEND;TZID=America/New_York:20251004T160000
DTSTAMP:20260425T112559
CREATED:20250929T201614Z
LAST-MODIFIED:20250929T201614Z
UID:24491-1759586400-1759593600@explorebeaufortsc.com
SUMMARY:Shell Ornament Workshop at Marshview Mercantile
DESCRIPTION:New Date\, Same Coastal Magic!\nBack by popular demand at Marshview Mercantile— our shell ornament workshop in Beaufort\, SC! \nSaturday\, October 4\, 2-4p \nYou’ll create two handmade ornaments from oyster and sea shells\, choosing from a sea turtle\, pineapple\, and cross. Each piece is a keepsake of the Lowcountry\, perfect for your tree or as a heartfelt gift.  \n  \nSeats fill quickly\, so don’t wait!\n Sign up today —  \nhttps://marshviewmercantile.commentsold.com/products/shell-ornament-workshop-oct-4-2-4p
URL:https://explorebeaufortsc.com/event/shell-ornament-workshop-at-marshview-mercantile-3/
LOCATION:Marshview Mercantile\, 2631 Boundary St\, Beaufort\, SC\, 29906\, US
ATTACH;FMTTYPE=image/jpeg:https://explorebeaufortsc.com/wp-content/uploads/2025/09/marshviewshellornament1-1.jpg
END:VEVENT
BEGIN:VEVENT
DTSTART;TZID=America/New_York:20251004T180000
DTEND;TZID=America/New_York:20251004T210000
DTSTAMP:20260425T112559
CREATED:20250919T234021Z
LAST-MODIFIED:20251001T231223Z
UID:24441-1759600800-1759611600@explorebeaufortsc.com
SUMMARY:Broke Locals 20 Year Anniversary Celebration
DESCRIPTION:Hard to believe\, but Broke Locals have been together for 20 years\, and we’re still broke. You are invited to come out to celebrate with us and all of our friends over the years. We will be playing all your favorite tunes from our catalog and maybe bring back a few familiar faces from past line-ups. We hope to see you there.
URL:https://explorebeaufortsc.com/event/broke-locals-20-year-anniversary-celebration/
LOCATION:Shellring Ale Works\, 1111 11th street\, Port Royal\, SC\, 29935\, US
ORGANIZER;CN="Broke Locals":MAILTO:noreply@facebookmail.com
END:VEVENT
END:VCALENDAR