BEGIN:VCALENDAR
VERSION:2.0
PRODID:-//Explore Beaufort SC - ECPv6.15.20//NONSGML v1.0//EN
CALSCALE:GREGORIAN
METHOD:PUBLISH
X-ORIGINAL-URL:https://explorebeaufortsc.com
X-WR-CALDESC:Events for Explore Beaufort SC
REFRESH-INTERVAL;VALUE=DURATION:PT1H
X-Robots-Tag:noindex
X-PUBLISHED-TTL:PT1H
BEGIN:VTIMEZONE
TZID:America/New_York
BEGIN:DAYLIGHT
TZOFFSETFROM:-0500
TZOFFSETTO:-0400
TZNAME:EDT
DTSTART:20240310T070000
END:DAYLIGHT
BEGIN:STANDARD
TZOFFSETFROM:-0400
TZOFFSETTO:-0500
TZNAME:EST
DTSTART:20241103T060000
END:STANDARD
BEGIN:DAYLIGHT
TZOFFSETFROM:-0500
TZOFFSETTO:-0400
TZNAME:EDT
DTSTART:20250309T070000
END:DAYLIGHT
BEGIN:STANDARD
TZOFFSETFROM:-0400
TZOFFSETTO:-0500
TZNAME:EST
DTSTART:20251102T060000
END:STANDARD
BEGIN:DAYLIGHT
TZOFFSETFROM:-0500
TZOFFSETTO:-0400
TZNAME:EDT
DTSTART:20260308T070000
END:DAYLIGHT
BEGIN:STANDARD
TZOFFSETFROM:-0400
TZOFFSETTO:-0500
TZNAME:EST
DTSTART:20261101T060000
END:STANDARD
END:VTIMEZONE
BEGIN:VEVENT
DTSTART;TZID=America/New_York:20251005T130000
DTEND;TZID=America/New_York:20251005T160000
DTSTAMP:20260425T112854
CREATED:20250929T202904Z
LAST-MODIFIED:20250929T202904Z
UID:24504-1759669200-1759680000@explorebeaufortsc.com
SUMMARY:Marshside Fall Picnic at Marshview Mercantile
DESCRIPTION:Marshside Fall Picnic! \nSaturday\, October 5 | 1–4 PM — our tent by the marsh will be the place to be! \nLobster Dog Food Truck is back (with double the lobster & double the crew)\nMeg’s Sweet Treats Pop Up — Lowcountry’s Best cupcakes & desserts\nFree tea & lemonade from Marshview Mercantile \nMarshview Mercantile\, 2631 Boundary Street\, Beaufort\, SC \nCome celebrate the beauty of fall with great food\, sweet treats\, and marshside views — the perfect way to spend an autumn afternoon.
URL:https://explorebeaufortsc.com/event/marshside-fall-picnic-at-marshview-mercantile/
LOCATION:Marshview Mercantile\, 2631 Boundary St\, Beaufort\, SC\, 29906\, US
ATTACH;FMTTYPE=image/jpeg:https://explorebeaufortsc.com/wp-content/uploads/2025/09/marshviewpicnic.jpg
END:VEVENT
BEGIN:VEVENT
DTSTART;TZID=America/New_York:20251005T180000
DTEND;TZID=America/New_York:20251005T210000
DTSTAMP:20260425T112854
CREATED:20250919T234021Z
LAST-MODIFIED:20251001T231223Z
UID:24442-1759687200-1759698000@explorebeaufortsc.com
SUMMARY:SBB’s Pumpkin & Petals
DESCRIPTION:We are soooo excited to announce our very first after hours event! Space is super limited as we will only take six guest each night. You will get to take your pumpkin home as well as enjoy a classic mini box 🧀💖One of the perks of being a Charcuterie of the Month is those who are part of the club get first access to events. To RSVP your spot and hold your spot for either night (or both!) comment or message us! 🎃
URL:https://explorebeaufortsc.com/event/sbbs-pumpkin-petals-2/
LOCATION:Newpoint Neighborhood\, Newpoint Neighborhood
END:VEVENT
END:VCALENDAR