BEGIN:VCALENDAR
VERSION:2.0
PRODID:-//Explore Beaufort SC - ECPv6.15.20//NONSGML v1.0//EN
CALSCALE:GREGORIAN
METHOD:PUBLISH
X-WR-CALNAME:Explore Beaufort SC
X-ORIGINAL-URL:https://explorebeaufortsc.com
X-WR-CALDESC:Events for Explore Beaufort SC
REFRESH-INTERVAL;VALUE=DURATION:PT1H
X-Robots-Tag:noindex
X-PUBLISHED-TTL:PT1H
BEGIN:VTIMEZONE
TZID:America/New_York
BEGIN:DAYLIGHT
TZOFFSETFROM:-0500
TZOFFSETTO:-0400
TZNAME:EDT
DTSTART:20240310T070000
END:DAYLIGHT
BEGIN:STANDARD
TZOFFSETFROM:-0400
TZOFFSETTO:-0500
TZNAME:EST
DTSTART:20241103T060000
END:STANDARD
BEGIN:DAYLIGHT
TZOFFSETFROM:-0500
TZOFFSETTO:-0400
TZNAME:EDT
DTSTART:20250309T070000
END:DAYLIGHT
BEGIN:STANDARD
TZOFFSETFROM:-0400
TZOFFSETTO:-0500
TZNAME:EST
DTSTART:20251102T060000
END:STANDARD
BEGIN:DAYLIGHT
TZOFFSETFROM:-0500
TZOFFSETTO:-0400
TZNAME:EDT
DTSTART:20260308T070000
END:DAYLIGHT
BEGIN:STANDARD
TZOFFSETFROM:-0400
TZOFFSETTO:-0500
TZNAME:EST
DTSTART:20261101T060000
END:STANDARD
END:VTIMEZONE
BEGIN:VEVENT
DTSTART;TZID=America/New_York:20251009T110000
DTEND;TZID=America/New_York:20251011T210000
DTSTAMP:20260425T130507
CREATED:20250913T011141Z
LAST-MODIFIED:20251009T010237Z
UID:24353-1760007600-1760216400@explorebeaufortsc.com
SUMMARY:74th Annual Savannah Greek Festival 2025
DESCRIPTION:Join us for the 74th Annual Savannah Greek Festival\, happening October 9-11\, 2025\, from 11 AM to 9 PM! \nEnjoy three days of delicious homemade Greek food\, music\, dancing\, and a taste of Greek culture right here in Savannah! Whether you’re craving a gyro\, baklava\, or just want to shout “OPA!” with us\, there’s something for everyone to enjoy.For sponsorship opportunities: https://www.savannahgreekfest.com
URL:https://explorebeaufortsc.com/event/74th-annual-savannah-greek-festival-2025/
LOCATION:Savannah Greek Festival\, Savannah Greek Festival
END:VEVENT
BEGIN:VEVENT
DTSTART;TZID=America/New_York:20251009T173000
DTEND;TZID=America/New_York:20251009T203000
DTSTAMP:20260425T130507
CREATED:20251009T010239Z
LAST-MODIFIED:20251009T010239Z
UID:24608-1760031000-1760041800@explorebeaufortsc.com
SUMMARY:Egret & Iron Ribbon Cutting + Open House
DESCRIPTION:Come celebrate with us as we cut the ribbon and open the doors at Egret & Iron Golf. Drop in for free play on our TrackMan simulators and enjoy light appetizers while you check out the lounge\, meet the team\, and see what indoor golf in Beaufort is all about. \nWhat to expect: \nFree play demo sessions on all simulators so everyone gets a turn \nLight appetizers on us; beer and wine available for purchase \nAll skill levels welcome\, from first swings to scratch golfers \nBring your clubs if you want; clean closed toe shoes\, please
URL:https://explorebeaufortsc.com/event/egret-iron-ribbon-cutting-open-house/
LOCATION:2139 Boundary St. Suite 118\, Beaufort\, SC\, United States\, South Carolina 29902\, 2139 Boundary St. Suite 118\, Beaufort\, SC\, United States\, South Carolina 29902
END:VEVENT
BEGIN:VEVENT
DTSTART;TZID=America/New_York:20251009T180000
DTEND;TZID=America/New_York:20251009T193000
DTSTAMP:20260425T130507
CREATED:20250814T191857Z
LAST-MODIFIED:20251009T010242Z
UID:24027-1760032800-1760038200@explorebeaufortsc.com
SUMMARY:Open Mic Night--Featuring Debut Novelist Mary J. Nestor\, Author of Bus No. 7
DESCRIPTION:The Pat Conroy Literary Center’s monthly Open Mic Night will be held at the Conroy Center (601 Bladen St.) on Thursday\, October 9\, from 6:00 to 7:30 p.m. Our featured novelist will be Mary J. Nestor\, author of Bus No. 7. Open Mic will also include short readings of 3 to 5 minutes each by other writers in many genres. \nInterested in reading as part of Open Mic? Let us know at contact@patconroyliterarycenter.org. \nAbout Our Featured AuthorMary J. Nestor attended Marquette University in Wisconsin\, and has a bachelor of Business Administration from Washington Adventist University. She has previously published a children’s book\, Emily’s Best Birthday Party Ever! Her career as a manager\, consultant\, and human resources director inspired her second book\, Say It Now! Say It Right! How to Handle Tough and Tender Conversations. Nestor enrolled in a writer’s conference in 2016\, resulting in Bus No. 7\, a finalist in the Novel-In-Progress category of the 2022 William Faulkner Literary Competition.Nestor lives on Hilton Head Island\, where she also sings with the Hilton Head Symphony Orchestra Chorus and the Hilton Head Choral Society. \n“Mary Nestor’s debut novel introduces a collection of unsavory and dangerous characters that sweep the reader into a dark landscape of crime and addiction where even the savvy detective has to play catch-up. Bus No. 7 has readers wondering—what awaits when they turn the next page?”—Karen Dove Barr\, author of Burnt Pot Island  \n“Bus No. 7 is an action-packed ride filled with high-voltage suspense and characters who aren’t always what they seem. The twists and turns in this edgy thriller had me riveted past my bedtime. Mary J. Nestor is a masterful storyteller\, and I hope she’s writing a sequel.”—Helen P. Bradley\, author of Breach of Trust
URL:https://explorebeaufortsc.com/event/open-mic-night-featuring-debut-novelist-mary-j-nestor-author-of-bus-no-7/
LOCATION:601 Bladen Street\, Beaufort\, SC\, United States\, South Carolina 29902\, 601 Bladen Street\, Beaufort\, SC\, United States\, South Carolina 29902
ORGANIZER;CN="Pat Conroy Literary Center":MAILTO:noreply@facebookmail.com
END:VEVENT
END:VCALENDAR