BEGIN:VCALENDAR
VERSION:2.0
PRODID:-//Explore Beaufort SC - ECPv6.15.20//NONSGML v1.0//EN
CALSCALE:GREGORIAN
METHOD:PUBLISH
X-WR-CALNAME:Explore Beaufort SC
X-ORIGINAL-URL:https://explorebeaufortsc.com
X-WR-CALDESC:Events for Explore Beaufort SC
REFRESH-INTERVAL;VALUE=DURATION:PT1H
X-Robots-Tag:noindex
X-PUBLISHED-TTL:PT1H
BEGIN:VTIMEZONE
TZID:America/New_York
BEGIN:DAYLIGHT
TZOFFSETFROM:-0500
TZOFFSETTO:-0400
TZNAME:EDT
DTSTART:20240310T070000
END:DAYLIGHT
BEGIN:STANDARD
TZOFFSETFROM:-0400
TZOFFSETTO:-0500
TZNAME:EST
DTSTART:20241103T060000
END:STANDARD
BEGIN:DAYLIGHT
TZOFFSETFROM:-0500
TZOFFSETTO:-0400
TZNAME:EDT
DTSTART:20250309T070000
END:DAYLIGHT
BEGIN:STANDARD
TZOFFSETFROM:-0400
TZOFFSETTO:-0500
TZNAME:EST
DTSTART:20251102T060000
END:STANDARD
BEGIN:DAYLIGHT
TZOFFSETFROM:-0500
TZOFFSETTO:-0400
TZNAME:EDT
DTSTART:20260308T070000
END:DAYLIGHT
BEGIN:STANDARD
TZOFFSETFROM:-0400
TZOFFSETTO:-0500
TZNAME:EST
DTSTART:20261101T060000
END:STANDARD
END:VTIMEZONE
BEGIN:VEVENT
DTSTART;TZID=America/New_York:20251009T110000
DTEND;TZID=America/New_York:20251011T210000
DTSTAMP:20260425T180844
CREATED:20250913T011141Z
LAST-MODIFIED:20251009T010237Z
UID:24353-1760007600-1760216400@explorebeaufortsc.com
SUMMARY:74th Annual Savannah Greek Festival 2025
DESCRIPTION:Join us for the 74th Annual Savannah Greek Festival\, happening October 9-11\, 2025\, from 11 AM to 9 PM! \nEnjoy three days of delicious homemade Greek food\, music\, dancing\, and a taste of Greek culture right here in Savannah! Whether you’re craving a gyro\, baklava\, or just want to shout “OPA!” with us\, there’s something for everyone to enjoy.For sponsorship opportunities: https://www.savannahgreekfest.com
URL:https://explorebeaufortsc.com/event/74th-annual-savannah-greek-festival-2025/
LOCATION:Savannah Greek Festival\, Savannah Greek Festival
END:VEVENT
BEGIN:VEVENT
DTSTART;TZID=America/New_York:20251010T100000
DTEND;TZID=America/New_York:20251010T130000
DTSTAMP:20260425T180844
CREATED:20250825T211227Z
LAST-MODIFIED:20251009T010242Z
UID:24150-1760090400-1760101200@explorebeaufortsc.com
SUMMARY:Pumpkin Painting - Family Day
DESCRIPTION:Bring your own pumpkin and we will supply all the paint and space for you to get messy!We will have many designs for your to choose from or you can create your own design.This is an open house family themed event.Light refreshments will be served.
URL:https://explorebeaufortsc.com/event/pumpkin-painting-family-day/
LOCATION:2712 Bull Street\, Beaufort\, SC\, United States\, South Carolina 29902\, 2712 Bull Street\, Beaufort\, SC\, United States\, South Carolina 29902
ORGANIZER;CN="Happy Art Studio":MAILTO:noreply@facebookmail.com
END:VEVENT
BEGIN:VEVENT
DTSTART;TZID=America/New_York:20251010T160000
DTEND;TZID=America/New_York:20251012T180000
DTSTAMP:20260425T180844
CREATED:20250814T191857Z
LAST-MODIFIED:20251009T010242Z
UID:24028-1760112000-1760292000@explorebeaufortsc.com
SUMMARY:2025 Habersham Harvest Festival
DESCRIPTION:🎡 Habersham Harvest Festival 🎡📍 Habersham Marketplace | Beaufort\, SC📅 October 10–12\, 2025🔗 habershamharvestfestival.com \nGet ready for three full days of fall fun in the Lowcountry! \nJoin us in the heart of Habersham Marketplace—just minutes from downtown Beaufort—as we celebrate the season with the return of our annual Habersham Harvest Festival! 🍂 \n🎟️ Friday\, October 10 | 4–10 PMKick off the weekend with our Friday Night Carnival:🎠 Thrilling rides🎶 Live music🌮 Local food trucks💥 All-you-can-ride bracelets (Friday only!) \n🛍️ Saturday & Sunday\, October 11–12 | 10 AM–6 PMEnjoy two full days of:🧺 Artisan + craft vendors🍁 Seasonal treats🎨 Kids’ activities🎵 Entertainment for all ages \n✨ Family-friendly. Free entry. Walkable village charm.This is your official invite to Beaufort’s favorite fall tradition—don’t miss it! \n#HabershamHarvestFestival #BeaufortSC #FallFestivalFun
URL:https://explorebeaufortsc.com/event/2025-habersham-harvest-festival/
LOCATION:13 Market\, Beaufort\, SC\, United States\, South Carolina 29906\, 13 Market\, Beaufort\, SC\, United States\, South Carolina 29906
ORGANIZER;CN="Habersham Marketplace":MAILTO:noreply@facebookmail.com
END:VEVENT
BEGIN:VEVENT
DTSTART;TZID=America/New_York:20251010T170000
DTEND;TZID=America/New_York:20251011T220000
DTSTAMP:20260425T180844
CREATED:20250913T011142Z
LAST-MODIFIED:20251009T010242Z
UID:24356-1760115600-1760220000@explorebeaufortsc.com
SUMMARY:Festival on Main 2025
DESCRIPTION:Festival on Main isn’t just about food and music—it’s also a celebration of community spirit and togetherness. Families come together to enjoy carnival games\, face painting\, and other kid-friendly activities\, while neighbors catch up with one another and newcomers are welcomed with open arms. Whether you’re a long-time resident or just passing through\, Hardeeville’s Festival on Main is an experience you won’t soon forget. So come join us as we celebrate the best of our community and create cherished memories that will last a lifetime.
URL:https://explorebeaufortsc.com/event/festival-on-main-2025/
LOCATION:205 E Main St\, Hardeeville\, SC 29927-5930\, United States\, 205 E Main St\, Hardeeville\, SC 29927-5930\, United States
ORGANIZER;CN="Hardeeville Parks%2C Recreation%2C and Tourism Department":MAILTO:noreply@facebookmail.com
END:VEVENT
BEGIN:VEVENT
DTSTART;TZID=America/New_York:20251010T180000
DTEND;TZID=America/New_York:20251019T160000
DTSTAMP:20260425T180844
CREATED:20250904T171036Z
LAST-MODIFIED:20251016T021830Z
UID:24238-1760119200-1760889600@explorebeaufortsc.com
SUMMARY:Historic Bluffton Arts & Seafood Festival
DESCRIPTION:We are gearing up for this year’s festival which will run from October 10 – 19\, 2025.Have you booked your hotel or rental yet?We are again looking forward to another successful 10 day celebration “WHERE FINE ART MEETS THE BOUNTY OF THE SEA”! \nSee our events on FB or at blufftonartsandseafoodfestival.org for more information about all of our various gatherings\, entertainment\, and events!
URL:https://explorebeaufortsc.com/event/historic-bluffton-arts-seafood-festival/
LOCATION:Bluffton\, SC\, United States\, South Carolina 29910\, Bluffton\, SC\, United States\, South Carolina 29910
ORGANIZER;CN="Historic Bluffton Arts and Seafood Festival":MAILTO:noreply@facebookmail.com
END:VEVENT
BEGIN:VEVENT
DTSTART;TZID=America/New_York:20251010T180000
DTEND;TZID=America/New_York:20251010T200000
DTSTAMP:20260425T180844
CREATED:20250919T234019Z
LAST-MODIFIED:20251009T010243Z
UID:24439-1760119200-1760126400@explorebeaufortsc.com
SUMMARY:Intro to Crochet - Make a Pumpkin
DESCRIPTION:Learn to crochet and leave with an adorable pumpkin!This is an event for adults.You are welcome to bring beverages and snacks of your choice.All supplies included.
URL:https://explorebeaufortsc.com/event/intro-to-crochet-make-a-pumpkin/
LOCATION:2712 Bull Street\, Beaufort\, SC\, United States\, South Carolina 29902\, 2712 Bull Street\, Beaufort\, SC\, United States\, South Carolina 29902
ORGANIZER;CN="Happy Art Studio":MAILTO:noreply@facebookmail.com
END:VEVENT
END:VCALENDAR