BEGIN:VCALENDAR
VERSION:2.0
PRODID:-//Explore Beaufort SC - ECPv6.15.20//NONSGML v1.0//EN
CALSCALE:GREGORIAN
METHOD:PUBLISH
X-ORIGINAL-URL:https://explorebeaufortsc.com
X-WR-CALDESC:Events for Explore Beaufort SC
REFRESH-INTERVAL;VALUE=DURATION:PT1H
X-Robots-Tag:noindex
X-PUBLISHED-TTL:PT1H
BEGIN:VTIMEZONE
TZID:America/New_York
BEGIN:DAYLIGHT
TZOFFSETFROM:-0500
TZOFFSETTO:-0400
TZNAME:EDT
DTSTART:20240310T070000
END:DAYLIGHT
BEGIN:STANDARD
TZOFFSETFROM:-0400
TZOFFSETTO:-0500
TZNAME:EST
DTSTART:20241103T060000
END:STANDARD
BEGIN:DAYLIGHT
TZOFFSETFROM:-0500
TZOFFSETTO:-0400
TZNAME:EDT
DTSTART:20250309T070000
END:DAYLIGHT
BEGIN:STANDARD
TZOFFSETFROM:-0400
TZOFFSETTO:-0500
TZNAME:EST
DTSTART:20251102T060000
END:STANDARD
BEGIN:DAYLIGHT
TZOFFSETFROM:-0500
TZOFFSETTO:-0400
TZNAME:EDT
DTSTART:20260308T070000
END:DAYLIGHT
BEGIN:STANDARD
TZOFFSETFROM:-0400
TZOFFSETTO:-0500
TZNAME:EST
DTSTART:20261101T060000
END:STANDARD
END:VTIMEZONE
BEGIN:VEVENT
DTSTART;TZID=America/New_York:20251010T180000
DTEND;TZID=America/New_York:20251019T160000
DTSTAMP:20260425T130635
CREATED:20250904T171036Z
LAST-MODIFIED:20251016T021830Z
UID:24238-1760119200-1760889600@explorebeaufortsc.com
SUMMARY:Historic Bluffton Arts & Seafood Festival
DESCRIPTION:We are gearing up for this year’s festival which will run from October 10 – 19\, 2025.Have you booked your hotel or rental yet?We are again looking forward to another successful 10 day celebration “WHERE FINE ART MEETS THE BOUNTY OF THE SEA”! \nSee our events on FB or at blufftonartsandseafoodfestival.org for more information about all of our various gatherings\, entertainment\, and events!
URL:https://explorebeaufortsc.com/event/historic-bluffton-arts-seafood-festival/
LOCATION:Bluffton\, SC\, United States\, South Carolina 29910\, Bluffton\, SC\, United States\, South Carolina 29910
ORGANIZER;CN="Historic Bluffton Arts and Seafood Festival":MAILTO:noreply@facebookmail.com
END:VEVENT
BEGIN:VEVENT
DTSTART;TZID=America/New_York:20251014T173000
DTEND;TZID=America/New_York:20251014T190000
DTSTAMP:20260425T130635
CREATED:20251009T010244Z
LAST-MODIFIED:20251014T160559Z
UID:24614-1760463000-1760468400@explorebeaufortsc.com
SUMMARY:Neighbor Night @ The Shed
DESCRIPTION:An evening to welcome\, connect\, and celebrate community \nNew to the neighborhood? Let’s get acquainted!  \nWhether you’re new to the neighborhood or have been here a while\, this relaxed gathering is all about bringing neighbors together. Join us for an easygoing evening of coastal camaraderie\, conversation\, and authentic community connection. \n~ Meet you neighbors~ Ask questions~ Get the inside scoop \nWines by the glass (or bottle) will be available for purchase\, along with a selection of craft beer and non-alcoholic options.  \nCome as you are—bring your curiosity\, your stories\, and maybe even a neighbor or two. We’ll see you there!
URL:https://explorebeaufortsc.com/event/neighbor-night-the-shed-2/
LOCATION:809 Paris Ave\, Port Royal\, SC\, United States\, South Carolina\, 809 Paris Ave\, Port Royal\, SC\, United States\, South Carolina
ORGANIZER;CN="Windhorse Gallery & Marketplace":MAILTO:noreply@facebookmail.com
END:VEVENT
BEGIN:VEVENT
DTSTART;TZID=America/New_York:20251014T180000
DTEND;TZID=America/New_York:20251014T200000
DTSTAMP:20260425T130635
CREATED:20250929T203703Z
LAST-MODIFIED:20250929T203703Z
UID:24510-1760464800-1760472000@explorebeaufortsc.com
SUMMARY:Sea Glass & Shell Ornament Workshop at Marshview Mercantile
DESCRIPTION:Get a Head Start on the Lowcountry Holiday Spirit!\nIt’s never too early to add a touch of coastal charm to your holiday season! Join us for a Sea Glass & Shell Ornament Workshop with local artist\, Carol Sanders\, and create keepsakes that celebrate the beauty of the Lowcountry. \nEach participant will make one angel and one tree ornament. You choose your design.\nThese ornaments are a beautiful way to bring the coast into your holiday home — or to gift someone special a handmade treasure. \nOct. 14\, 6-8p\n2631 Boundary Street\, Beaufort \nSign Up Here! https://marshviewmercantile.commentsold.com/products/sea-glass-shell-ornament-workshop?variant=8747
URL:https://explorebeaufortsc.com/event/sea-glass-shell-ornament-workshop-at-marshview-mercantile/
LOCATION:Marshview Mercantile\, 2631 Boundary St\, Beaufort\, SC\, 29906\, US
ATTACH;FMTTYPE=image/jpeg:https://explorebeaufortsc.com/wp-content/uploads/2025/09/marshviewseaglassornament.jpg
END:VEVENT
END:VCALENDAR