BEGIN:VCALENDAR
VERSION:2.0
PRODID:-//Explore Beaufort SC - ECPv6.15.20//NONSGML v1.0//EN
CALSCALE:GREGORIAN
METHOD:PUBLISH
X-ORIGINAL-URL:https://explorebeaufortsc.com
X-WR-CALDESC:Events for Explore Beaufort SC
REFRESH-INTERVAL;VALUE=DURATION:PT1H
X-Robots-Tag:noindex
X-PUBLISHED-TTL:PT1H
BEGIN:VTIMEZONE
TZID:America/New_York
BEGIN:DAYLIGHT
TZOFFSETFROM:-0500
TZOFFSETTO:-0400
TZNAME:EDT
DTSTART:20240310T070000
END:DAYLIGHT
BEGIN:STANDARD
TZOFFSETFROM:-0400
TZOFFSETTO:-0500
TZNAME:EST
DTSTART:20241103T060000
END:STANDARD
BEGIN:DAYLIGHT
TZOFFSETFROM:-0500
TZOFFSETTO:-0400
TZNAME:EDT
DTSTART:20250309T070000
END:DAYLIGHT
BEGIN:STANDARD
TZOFFSETFROM:-0400
TZOFFSETTO:-0500
TZNAME:EST
DTSTART:20251102T060000
END:STANDARD
BEGIN:DAYLIGHT
TZOFFSETFROM:-0500
TZOFFSETTO:-0400
TZNAME:EDT
DTSTART:20260308T070000
END:DAYLIGHT
BEGIN:STANDARD
TZOFFSETFROM:-0400
TZOFFSETTO:-0500
TZNAME:EST
DTSTART:20261101T060000
END:STANDARD
END:VTIMEZONE
BEGIN:VEVENT
DTSTART;TZID=America/New_York:20251010T180000
DTEND;TZID=America/New_York:20251019T160000
DTSTAMP:20260425T144729
CREATED:20250904T171036Z
LAST-MODIFIED:20251016T021830Z
UID:24238-1760119200-1760889600@explorebeaufortsc.com
SUMMARY:Historic Bluffton Arts & Seafood Festival
DESCRIPTION:We are gearing up for this year’s festival which will run from October 10 – 19\, 2025.Have you booked your hotel or rental yet?We are again looking forward to another successful 10 day celebration “WHERE FINE ART MEETS THE BOUNTY OF THE SEA”! \nSee our events on FB or at blufftonartsandseafoodfestival.org for more information about all of our various gatherings\, entertainment\, and events!
URL:https://explorebeaufortsc.com/event/historic-bluffton-arts-seafood-festival/
LOCATION:Bluffton\, SC\, United States\, South Carolina 29910\, Bluffton\, SC\, United States\, South Carolina 29910
ORGANIZER;CN="Historic Bluffton Arts and Seafood Festival":MAILTO:noreply@facebookmail.com
END:VEVENT
BEGIN:VEVENT
DTSTART;TZID=America/New_York:20251015T163000
DTEND;TZID=America/New_York:20251015T183000
DTSTAMP:20260425T144729
CREATED:20250904T171037Z
LAST-MODIFIED:20251014T160600Z
UID:24242-1760545800-1760553000@explorebeaufortsc.com
SUMMARY:Lowcountry Writers' Symposium: Fundraiser Supporting P.E.O.
DESCRIPTION:The Lowcountry Writers’ Symposium is now an annual event—supporting P.E.O.\, an organization with a mission to motivate\, educate\, and celebrate women through scholarships\, grants\, loans\, and stewardship. This year’s event will feature a conversation between poet Tim Conroy\, travel writers Lynn and Cele Seldon\, and biographer Nancy Thode\, in conversation with Pat Conroy Literary Center executive director Jonathan Haupt. Books by all of the writers will be available for sale and signing through NeverMore Books.  \nThis special event will be held on Wednesday\, October 15\, from 4:30 to 6:30 p.m. at the Park House at Habersham (2 Habersham Park\, Beaufort). Advance registration required: $50/person\, includes complimentary wine and charcuterie. For tickets\, please contact P.E.O. directly at ChapterAMpeoSC@gmail.com.  \nAbout the Authors \nTim Conroy\, the author of the collections Theologies of Terrain and No True Route\, is a former special educator. His poems have been included in numerous journals\, compilations\, and anthologies. His poems often explore themes of family and nature\, incorporating philosophical elements. In 2022\, he received the Broad River Prize for prose from Fall Lines\, Volume IX. A founding board member of the Pat Conroy Literary Center\, established in his brother’s honor\, Tim recently moved with his wife Terrye to the beautiful town of Beaufort\, South Carolina. \nTravel journalists Lynn and Cele Seldon have spent more than 30 years capturing the world through words and photography for hundreds of magazine\, newspaper\, and online features\, specializing in culinary\, cruise\, and adventure travel. They have co-authored several guidebooks\, including 100 Things to Do in Charleson Before You Die\, 100 Things to Do in Savannah Before You Die\, and their new book\, 100 Things to Do in the South Carolina Lowcountry Before You Die. Lynn is also a published novelist and was mentored by Pat Conroy. \nNancy Thode is the author of Ahead of Her Time\, a biography honoring her mother Ann Head’s enduring literacy legacy as author and as a mentor to Pat Conroy. A Beaufort native and longtime psychotherapist\, Nancy is passionate about community theater and fellowship\, dividing her time between Connecticut and Fripp Island. Ahead of Her Time is her debut book.  \nAbout the Interviewer \nJonathan Haupt is the executive director of the nonprofit Pat Conroy Literary Center\, the past director of the University of South Carolina Press\, and co-editor of the anthology Our Prince of Scribes: Writers Remember Pat Conroy\, winner of 17 book awards. He is a frequent guest book reviewer for the Pulitzer Prize-winning Charleston Post and Courier. Under Jonathan’s leadership\, the Conroy Center has been recognized as an American Library Association Literary Landmark\, an affiliate of the American Writers Museum\, and winner of the Civitas Award for Tourism Leadership.
URL:https://explorebeaufortsc.com/event/lowcountry-writers-symposium-fundraiser-supporting-p-e-o/
LOCATION:2 Habersham Park\, Beaufort\, SC 29906-9130\, United States\, 2 Habersham Park\, Beaufort\, SC 29906-9130\, United States
ORGANIZER;CN="Pat Conroy Literary Center":MAILTO:noreply@facebookmail.com
END:VEVENT
BEGIN:VEVENT
DTSTART;TZID=America/New_York:20251015T173000
DTEND;TZID=America/New_York:20251015T190000
DTSTAMP:20260425T144729
CREATED:20250806T204350Z
LAST-MODIFIED:20251014T160601Z
UID:23935-1760549400-1760554800@explorebeaufortsc.com
SUMMARY:FREE Master Naturalist Tour
DESCRIPTION:Take a tour of the Port Royal Cypress Wetlands with Master Naturalist Jill Moore. Jill\, a certified master naturalist and founder of Moore2Life\, provides nature-based programs to local residents\, communities and tourists here in the magnificent Lowcountry – a setting unlike any place on Earth. With research showing that people function best when they have access to and a connection with nature\, Jill is committed to helping people discover a passion and appreciation for the unique area that surrounds us. \nTours are free to the public! Please RSVP here: https://friendsofportroyalcypresswetlands.org/tours/  \nhttps://www.facebook.com/events/31142091905389266/?event_time_id=31142158158715974
URL:https://explorebeaufortsc.com/event/free-master-naturalist-tour-12/
LOCATION:1700 Paris Ave\, Port Royal\, SC\, United States\, South Carolina 29935\, 1700 Paris Ave\, Port Royal\, SC\, United States\, South Carolina 29935
ORGANIZER;CN="Friends of Port Royal Cypress Wetlands":MAILTO:noreply@facebookmail.com
END:VEVENT
BEGIN:VEVENT
DTSTART;TZID=America/New_York:20251015T183000
DTEND;TZID=America/New_York:20251015T213000
DTSTAMP:20260425T144729
CREATED:20251001T231225Z
LAST-MODIFIED:20251016T021824Z
UID:24528-1760553000-1760563800@explorebeaufortsc.com
SUMMARY:International Children's Choir Concert at CBC
DESCRIPTION:Community Bible Church is proud to present the Imani Milele Children’s Choir in concert! \nImani Milele Choir is a talented group of children from Uganda\, Africa\, that tour the U.S. each year\, raising awareness of the plight of orphaned and vulnerable children. The choir concerts feature uplifting and inspirational songs that share stories of the joy that they have received through God’s love and songs that are an exciting blend of original compositions\, praise and worship\, and unique African drum routines and dance. \nConcert admission is free\, and we have childcare for 0-3 years!
URL:https://explorebeaufortsc.com/event/international-childrens-choir-concert-at-cbc/
LOCATION:638 Parris Island Gateway\, Beaufort\, SC\, United States\, South Carolina 29906
ORGANIZER;CN="Community Bible Church":MAILTO:noreply@facebookmail.com
END:VEVENT
END:VCALENDAR