BEGIN:VCALENDAR
VERSION:2.0
PRODID:-//Explore Beaufort SC - ECPv6.15.20//NONSGML v1.0//EN
CALSCALE:GREGORIAN
METHOD:PUBLISH
X-ORIGINAL-URL:https://explorebeaufortsc.com
X-WR-CALDESC:Events for Explore Beaufort SC
REFRESH-INTERVAL;VALUE=DURATION:PT1H
X-Robots-Tag:noindex
X-PUBLISHED-TTL:PT1H
BEGIN:VTIMEZONE
TZID:America/New_York
BEGIN:DAYLIGHT
TZOFFSETFROM:-0500
TZOFFSETTO:-0400
TZNAME:EDT
DTSTART:20240310T070000
END:DAYLIGHT
BEGIN:STANDARD
TZOFFSETFROM:-0400
TZOFFSETTO:-0500
TZNAME:EST
DTSTART:20241103T060000
END:STANDARD
BEGIN:DAYLIGHT
TZOFFSETFROM:-0500
TZOFFSETTO:-0400
TZNAME:EDT
DTSTART:20250309T070000
END:DAYLIGHT
BEGIN:STANDARD
TZOFFSETFROM:-0400
TZOFFSETTO:-0500
TZNAME:EST
DTSTART:20251102T060000
END:STANDARD
BEGIN:DAYLIGHT
TZOFFSETFROM:-0500
TZOFFSETTO:-0400
TZNAME:EDT
DTSTART:20260308T070000
END:DAYLIGHT
BEGIN:STANDARD
TZOFFSETFROM:-0400
TZOFFSETTO:-0500
TZNAME:EST
DTSTART:20261101T060000
END:STANDARD
END:VTIMEZONE
BEGIN:VEVENT
DTSTART;TZID=America/New_York:20251010T180000
DTEND;TZID=America/New_York:20251019T160000
DTSTAMP:20260425T144741
CREATED:20250904T171036Z
LAST-MODIFIED:20251016T021830Z
UID:24238-1760119200-1760889600@explorebeaufortsc.com
SUMMARY:Historic Bluffton Arts & Seafood Festival
DESCRIPTION:We are gearing up for this year’s festival which will run from October 10 – 19\, 2025.Have you booked your hotel or rental yet?We are again looking forward to another successful 10 day celebration “WHERE FINE ART MEETS THE BOUNTY OF THE SEA”! \nSee our events on FB or at blufftonartsandseafoodfestival.org for more information about all of our various gatherings\, entertainment\, and events!
URL:https://explorebeaufortsc.com/event/historic-bluffton-arts-seafood-festival/
LOCATION:Bluffton\, SC\, United States\, South Carolina 29910\, Bluffton\, SC\, United States\, South Carolina 29910
ORGANIZER;CN="Historic Bluffton Arts and Seafood Festival":MAILTO:noreply@facebookmail.com
END:VEVENT
BEGIN:VEVENT
DTSTART;TZID=America/New_York:20251017T100000
DTEND;TZID=America/New_York:20251019T170000
DTSTAMP:20260425T144741
CREATED:20251014T160005Z
LAST-MODIFIED:20251014T160005Z
UID:24652-1760695200-1760893200@explorebeaufortsc.com
SUMMARY:Hinson Wu Trunk Show at Beverly's Off Bay
DESCRIPTION:Join us at Beverly’s Off Bay for a special weekend with designer Hinson Wu!\n Friday\, October 17:We’ll kick things off with an exclusive event in-store alongside Hinson Wu himself. Experience his signature bold prints\, impeccable tailoring\, and luxe fabrics firsthand. You’ll be able to shop his current collection\, place orders from his brand-new styles\, and hear directly from the designer about his inspirations.Enjoy bubbles & bites while you shop\, and don’t forget to invite your girlfriends to join the fun!\n Saturday & Sunday\, October 18 – 19Can’t make it Friday… or planning to have so much fun you’ll want to come back for round two? We’re keeping the celebration going all weekend long! The Hinson Wu incoming collection will remain in-store\, giving you plenty of time to explore\, try on your favorites\, and place special orders before Hinson takes it to market himself!We’ll also have a few extra surprises to make the weekend feel special\, so stay tuned for more details as the event gets closer.\n Beverly’s Off Bay | 219 Scott St. Beaufort\, SC
URL:https://explorebeaufortsc.com/event/hinson-wu-trunk-show-at-beverlys-off-bay/
LOCATION:Beverly’s Off bay\, 219 Scott Street\, Beaufort\, SC\, 29902\, United States
ATTACH;FMTTYPE=image/jpeg:https://explorebeaufortsc.com/wp-content/uploads/2025/10/hinsonwu.jpg
END:VEVENT
BEGIN:VEVENT
DTSTART;TZID=America/New_York:20251018T100000
DTEND;TZID=America/New_York:20251018T140000
DTSTAMP:20260425T144741
CREATED:20250825T211228Z
LAST-MODIFIED:20251016T021835Z
UID:24156-1760781600-1760796000@explorebeaufortsc.com
SUMMARY:Party Favors Workshop
DESCRIPTION:See www.seaislandquilters.com/workshops for more details
URL:https://explorebeaufortsc.com/event/party-favors-workshop/
LOCATION:18 John Galt Rd\, Beaufort\, SC 29906-4290\, United States\, 18 John Galt Rd\, Beaufort\, SC 29906-4290\, United States
ORGANIZER;CN="Sea Island Quilters":MAILTO:noreply@facebookmail.com
END:VEVENT
BEGIN:VEVENT
DTSTART;TZID=America/New_York:20251018T100000
DTEND;TZID=America/New_York:20251019T160000
DTSTAMP:20260425T144741
CREATED:20251014T160609Z
LAST-MODIFIED:20251016T021836Z
UID:24658-1760781600-1760889600@explorebeaufortsc.com
SUMMARY:Bluffton Art & Seafood Festival
DESCRIPTION:Art that speaks to your soul. \nImmerse yourself in the tranquil seascapes of local award-winning artist Rachael Newman. Learn more about her story and experience her artwork in person. She’s in Booth 86 in front of Spartina.
URL:https://explorebeaufortsc.com/event/bluffton-art-seafood-festival/
LOCATION:32 Calhoun St\, Bluffton\, SC\, 32 Calhoun St\, Bluffton\, SC
END:VEVENT
BEGIN:VEVENT
DTSTART;TZID=America/New_York:20251018T100000
DTEND;TZID=America/New_York:20251018T140000
DTSTAMP:20260425T144741
CREATED:20251001T233231Z
LAST-MODIFIED:20251001T233231Z
UID:24565-1760781600-1760796000@explorebeaufortsc.com
SUMMARY:Downtown Beaufort Trick Or Treat at Waterfront Park
DESCRIPTION:The City of Beaufort is hosting its 2025 Halloween Celebration on Saturday\, October 18 at beautiful Waterfront Park from 10 am to 2pm. \nBring your ghosts and ghouls to enjoy trick or treating\, Halloween crafts\, and some fun games with prizes. \n 
URL:https://explorebeaufortsc.com/event/downtown-beaufort-trick-or-treat-at-waterfront-park/
LOCATION:Henry C Chambers Waterfront Park\, Beaufort\, SC\, US
ATTACH;FMTTYPE=image/jpeg:https://explorebeaufortsc.com/wp-content/uploads/2025/10/downtownhalloween.jpg
END:VEVENT
BEGIN:VEVENT
DTSTART;TZID=America/New_York:20251018T103000
DTEND;TZID=America/New_York:20251018T123000
DTSTAMP:20260425T144741
CREATED:20250929T201857Z
LAST-MODIFIED:20250929T201857Z
UID:24496-1760783400-1760790600@explorebeaufortsc.com
SUMMARY:Sweetgrass Basket Workshop at Marshview Mercantile
DESCRIPTION:Join us for instruction on sewing your own Sweetgrass Basket with Andrea Cayetano-Jefferson. Andrea represents the intricate artwork of Gullah culture as a sixth generation sweetgrass artist. She has recently been featured in Southern Living Magazine and has proudly added her work to the Smithsonian Museum and the Charleston Idea House. \nAndrea will get you started by providing a 5 inch wide base for your basket. She will instruct you in the art of sewing and help you complete your project. The size (depth) of your basket will depend on how much sewing you complete during this two hour class. Everyone leaves with a ready to use basket! \n\nOctober 18\, 10:30-12:30\n2631 Boundary Street\, Beaufort\nRegister \n\nhttps://marshviewmercantile.commentsold.com/products/sweetgrass-basket-class-saturday-oct-18-1030-1230-
URL:https://explorebeaufortsc.com/event/sweetgrass-basket-workshop-at-marshview-mercantile/
LOCATION:Marshview Mercantile\, 2631 Boundary St\, Beaufort\, SC\, 29906\, US
ATTACH;FMTTYPE=image/jpeg:https://explorebeaufortsc.com/wp-content/uploads/2025/09/marshviewsweetgrassbasketclass2.jpg
END:VEVENT
BEGIN:VEVENT
DTSTART;TZID=America/New_York:20251018T140000
DTEND;TZID=America/New_York:20251018T170000
DTSTAMP:20260425T144741
CREATED:20250909T154930Z
LAST-MODIFIED:20250909T154930Z
UID:24294-1760796000-1760806800@explorebeaufortsc.com
SUMMARY:Kids\, Cops\, Cars & Candy Trunk or Treat - Bluffton
DESCRIPTION:The annual Kids\, Cops\, Cars & Candy Trunk or Treat is BACK — and bigger than ever!\nBecause of the amazing turnout and support year after year\, we’re doing it TWICE this year so more families can join in on the fun! \n\nEvent #1\nSaturday\, October 18\, 2025 | 2 PM – 5 PM\nBuckwalter Recreation Center\n905 Buckwalter Pkwy\, Bluffton\, SC 29910\n\nEvent #2\nSaturday\, October 25\, 2025 | 2 PM – 5 PM\nCharles Lind Brown Recreation Center\n1001 Hamar St\, Beaufort\, SC 29902\nBring the whole family for:\nSafe & fun trick-or-treating\nPolice cruisers & classic cars on display\nMusic & games\nFood trucks with tasty eats\nFace painting & activities for the kids
URL:https://explorebeaufortsc.com/event/kids-cops-cars-candy-trunk-or-treat-bluffton/
LOCATION:Buckwalter Recreation Center\, 905 Buckwalter Parkway\, Bluffton\, SC\, 29910\, US
ATTACH;FMTTYPE=image/jpeg:https://explorebeaufortsc.com/wp-content/uploads/2025/09/kidscopstrunk.jpg
END:VEVENT
BEGIN:VEVENT
DTSTART;TZID=America/New_York:20251018T170000
DTEND;TZID=America/New_York:20251018T190000
DTSTAMP:20260425T144741
CREATED:20251001T231226Z
LAST-MODIFIED:20251016T021837Z
UID:24530-1760806800-1760814000@explorebeaufortsc.com
SUMMARY:Pierogi's & Pet Nat: A Potluck Competition
DESCRIPTION:👑 Do you have a family Pierogi Recipe?Think You’ve Got What It Takes to Win People’s Choice?Now’s your chance to show off your culinary chops! We’re inviting talented home cooks\, foodies\, and flavor fanatics to step up to the plate for a fun and friendly food competition. Register in advance to secure your spot as a featured contestant.Participants will share samples of their Pierogi’s for guests to taste & cast their vote for People’s Choice!! \n🎟️ Not into cooking\, but love tasting?You don’t need to be behind the counter to be part of the fun. Purchase a ticket to attend as a Judge & Diner!Guests will sample each Pierogi Dish and vote for their favorite — and the winner will walk away with bragging rights as the official People’s Choice Champion! \n*Space is limited for both contestants and tasters — so don’t wait!Register or grab your ticket now and be part of this flavorful evening.
URL:https://explorebeaufortsc.com/event/pierogis-pet-nat-a-potluck-competition/
LOCATION:809 Paris Ave\, Port Royal\, SC\, United States\, South Carolina\, 809 Paris Ave\, Port Royal\, SC\, United States\, South Carolina
ORGANIZER;CN="Windhorse Gallery & Marketplace":MAILTO:noreply@facebookmail.com
END:VEVENT
BEGIN:VEVENT
DTSTART;TZID=America/New_York:20251018T180000
DTEND;TZID=America/New_York:20251018T210000
DTSTAMP:20260425T144741
CREATED:20250805T132609Z
LAST-MODIFIED:20251016T021838Z
UID:23882-1760810400-1760821200@explorebeaufortsc.com
SUMMARY:Night on the Sound
DESCRIPTION:Please join us for a special evening benefiting the Port Royal Sound Foundation. Since 2015\, this signature event has connected people to the important mission of the Foundation and raised critical dollars for educational programs and research initiatives.  \nEntering our 2nd decade\, we are revamping our annual event and amplifying our celebration of the Port Royal Sound! It’s an opportunity to come together in support of conservation efforts within the Sound while celebrating the individuals and initiatives working to protect the watershed.  \nThe evening will feature live music\, signature drinks\, and interactive food stations highlighting flavors from local fields\, farms\, and waters. Guests will enjoy a curated Lowcountry dining experience while meeting some of the farmers\, watermen and women\, and chefs who contribute to the region’s rich culinary heritage. Catering provided by SERG Restaurant Group. \nProceeds from the event support the Port Royal Sound Foundation and its mission to conserve the Sound for the environmental\, cultural\, and economic well-being of our community.  \nTickets: $275Click below to purchase\, or call our office (843) 645-7774givebutter.com/NOTS25 \nTickets are limited – purchase yours today to guarantee your spot.If you aren’t able to join us this year\, we hope you’ll enjoy our virtual auction. More details coming soon! \nTHANK YOU to our 2025 Sound Stewards Sponsors: The Boathouse\, 303 Associates\, and Marriott Vacations Worldwide
URL:https://explorebeaufortsc.com/event/night-on-the-sound-3/
LOCATION:Port Royal Sound Foundation
ORGANIZER;CN="Port Royal Sound Foundation":MAILTO:noreply@facebookmail.com
END:VEVENT
BEGIN:VEVENT
DTSTART;TZID=America/New_York:20251018T180000
DTEND;TZID=America/New_York:20251018T210000
DTSTAMP:20260425T144741
CREATED:20250913T011143Z
LAST-MODIFIED:20251016T021839Z
UID:24360-1760810400-1760821200@explorebeaufortsc.com
SUMMARY:Hocus Pocus Movie Night in the Park
DESCRIPTION:We are thrilled to bring you back “Movie Night in the Park” for a fourth year in a row!! We will once again be showing Hocus Pocus (The Original) – a family classic! \nWe will be serving you free drinks\, free popcorn\, and the movie is free to attend! We are working to bring you a dinner option for purchase as well. Stay tuned and RSVP to get the updates as we go!  \n🎃 Arrive around 6:00PM to save your spot! The movie will kick off at 7:00 PM.  \n👻What to bring:– Blankets– Jackets – You are welcome to bring your own snacks and unalcoholic beverages. – Your fun fall spirit!  \nWe can’t wait to kick off spooky season week with you!
URL:https://explorebeaufortsc.com/event/hocus-pocus-movie-night-in-the-park-2/
LOCATION:Henry C. Chambers Waterfront Park
ORGANIZER;CN="J.P. Signature Group - Keller Williams Realty":MAILTO:noreply@facebookmail.com
END:VEVENT
END:VCALENDAR