BEGIN:VCALENDAR
VERSION:2.0
PRODID:-//Explore Beaufort SC - ECPv6.15.20//NONSGML v1.0//EN
CALSCALE:GREGORIAN
METHOD:PUBLISH
X-WR-CALNAME:Explore Beaufort SC
X-ORIGINAL-URL:https://explorebeaufortsc.com
X-WR-CALDESC:Events for Explore Beaufort SC
REFRESH-INTERVAL;VALUE=DURATION:PT1H
X-Robots-Tag:noindex
X-PUBLISHED-TTL:PT1H
BEGIN:VTIMEZONE
TZID:America/New_York
BEGIN:DAYLIGHT
TZOFFSETFROM:-0500
TZOFFSETTO:-0400
TZNAME:EDT
DTSTART:20240310T070000
END:DAYLIGHT
BEGIN:STANDARD
TZOFFSETFROM:-0400
TZOFFSETTO:-0500
TZNAME:EST
DTSTART:20241103T060000
END:STANDARD
BEGIN:DAYLIGHT
TZOFFSETFROM:-0500
TZOFFSETTO:-0400
TZNAME:EDT
DTSTART:20250309T070000
END:DAYLIGHT
BEGIN:STANDARD
TZOFFSETFROM:-0400
TZOFFSETTO:-0500
TZNAME:EST
DTSTART:20251102T060000
END:STANDARD
BEGIN:DAYLIGHT
TZOFFSETFROM:-0500
TZOFFSETTO:-0400
TZNAME:EDT
DTSTART:20260308T070000
END:DAYLIGHT
BEGIN:STANDARD
TZOFFSETFROM:-0400
TZOFFSETTO:-0500
TZNAME:EST
DTSTART:20261101T060000
END:STANDARD
END:VTIMEZONE
BEGIN:VEVENT
DTSTART;TZID=America/New_York:20251010T180000
DTEND;TZID=America/New_York:20251019T160000
DTSTAMP:20260425T180846
CREATED:20250904T171036Z
LAST-MODIFIED:20251016T021830Z
UID:24238-1760119200-1760889600@explorebeaufortsc.com
SUMMARY:Historic Bluffton Arts & Seafood Festival
DESCRIPTION:We are gearing up for this year’s festival which will run from October 10 – 19\, 2025.Have you booked your hotel or rental yet?We are again looking forward to another successful 10 day celebration “WHERE FINE ART MEETS THE BOUNTY OF THE SEA”! \nSee our events on FB or at blufftonartsandseafoodfestival.org for more information about all of our various gatherings\, entertainment\, and events!
URL:https://explorebeaufortsc.com/event/historic-bluffton-arts-seafood-festival/
LOCATION:Bluffton\, SC\, United States\, South Carolina 29910\, Bluffton\, SC\, United States\, South Carolina 29910
ORGANIZER;CN="Historic Bluffton Arts and Seafood Festival":MAILTO:noreply@facebookmail.com
END:VEVENT
BEGIN:VEVENT
DTSTART;TZID=America/New_York:20251017T100000
DTEND;TZID=America/New_York:20251019T170000
DTSTAMP:20260425T180846
CREATED:20251014T160005Z
LAST-MODIFIED:20251014T160005Z
UID:24652-1760695200-1760893200@explorebeaufortsc.com
SUMMARY:Hinson Wu Trunk Show at Beverly's Off Bay
DESCRIPTION:Join us at Beverly’s Off Bay for a special weekend with designer Hinson Wu!\n Friday\, October 17:We’ll kick things off with an exclusive event in-store alongside Hinson Wu himself. Experience his signature bold prints\, impeccable tailoring\, and luxe fabrics firsthand. You’ll be able to shop his current collection\, place orders from his brand-new styles\, and hear directly from the designer about his inspirations.Enjoy bubbles & bites while you shop\, and don’t forget to invite your girlfriends to join the fun!\n Saturday & Sunday\, October 18 – 19Can’t make it Friday… or planning to have so much fun you’ll want to come back for round two? We’re keeping the celebration going all weekend long! The Hinson Wu incoming collection will remain in-store\, giving you plenty of time to explore\, try on your favorites\, and place special orders before Hinson takes it to market himself!We’ll also have a few extra surprises to make the weekend feel special\, so stay tuned for more details as the event gets closer.\n Beverly’s Off Bay | 219 Scott St. Beaufort\, SC
URL:https://explorebeaufortsc.com/event/hinson-wu-trunk-show-at-beverlys-off-bay/
LOCATION:Beverly’s Off bay\, 219 Scott Street\, Beaufort\, SC\, 29902\, United States
ATTACH;FMTTYPE=image/jpeg:https://explorebeaufortsc.com/wp-content/uploads/2025/10/hinsonwu.jpg
END:VEVENT
BEGIN:VEVENT
DTSTART;TZID=America/New_York:20251018T100000
DTEND;TZID=America/New_York:20251019T160000
DTSTAMP:20260425T180846
CREATED:20251014T160609Z
LAST-MODIFIED:20251016T021836Z
UID:24658-1760781600-1760889600@explorebeaufortsc.com
SUMMARY:Bluffton Art & Seafood Festival
DESCRIPTION:Art that speaks to your soul. \nImmerse yourself in the tranquil seascapes of local award-winning artist Rachael Newman. Learn more about her story and experience her artwork in person. She’s in Booth 86 in front of Spartina.
URL:https://explorebeaufortsc.com/event/bluffton-art-seafood-festival/
LOCATION:32 Calhoun St\, Bluffton\, SC\, 32 Calhoun St\, Bluffton\, SC
END:VEVENT
BEGIN:VEVENT
DTSTART;TZID=America/New_York:20251019T110000
DTEND;TZID=America/New_York:20251019T170000
DTSTAMP:20260425T180846
CREATED:20250919T234025Z
LAST-MODIFIED:20251016T021841Z
UID:24448-1760871600-1760893200@explorebeaufortsc.com
SUMMARY:Lowcountry Pride Festival
DESCRIPTION:We’re holding our annual Lowcountry Pride Festival this year on Sunday\, October 19th at Live Oaks Park in Port Royal.Mark your calendars! \nWe will have a number of non-profits\, local merchandise vendors\, live music\, food trucks\, bounce houses\, lawn games & more!  \n*If you are interested in joining the festival as a craft vendor or a nonprofit\, please email us at lcscpride@gmail.com*
URL:https://explorebeaufortsc.com/event/lowcountry-pride-festival/
LOCATION:Live Oaks Park\, Port Royal\, Port Royal\, SC\, US
END:VEVENT
BEGIN:VEVENT
DTSTART;TZID=America/New_York:20251019T130000
DTEND;TZID=America/New_York:20251019T163000
DTSTAMP:20260425T180846
CREATED:20250919T234025Z
LAST-MODIFIED:20251009T010246Z
UID:24450-1760878800-1760891400@explorebeaufortsc.com
SUMMARY:Adult Acrylic Painting Workshop
DESCRIPTION:This class is for all teens and adults who would like to learn how to compose a painting.We will study color\, values\, and composition.Upon completion\, you will be able to paint a painting independently.And\, we will have FUN!!!
URL:https://explorebeaufortsc.com/event/adult-acrylic-painting-workshop/
LOCATION:2712 Bull Street\, Beaufort\, SC\, United States\, South Carolina 29902\, 2712 Bull Street\, Beaufort\, SC\, United States\, South Carolina 29902
ORGANIZER;CN="Happy Art Studio":MAILTO:noreply@facebookmail.com
END:VEVENT
BEGIN:VEVENT
DTSTART;TZID=America/New_York:20251019T130000
DTEND;TZID=America/New_York:20251019T160000
DTSTAMP:20260425T180846
CREATED:20250929T203126Z
LAST-MODIFIED:20250929T203126Z
UID:24507-1760878800-1760889600@explorebeaufortsc.com
SUMMARY:Sourdough Class at Marshview Mercantile
DESCRIPTION:Join our hands-on workshop and learn how to create and care for your own sourdough starter- the heart of every great loaf!\nNo experience needed- just bring your own curiosity (and maybe an apron). Leave with the knowledge\, confidence\, and starter to begin your sourdough journey at home! \nIn addition to the loaf of bread you make during class\, you will receive these supplies to take home:\n*starter – fed\n*32 ounce mason jar\,\n*two bowls\, one mixing bowl\, one banneton bowl\n*tea towel\n*bench scraper \nOct. 19\, 1-4p \nWe only have 4 spots left\, so don’t wait- sign up today and let’s get fermenting!\nhttps://marshviewmercantile.commentsold.com/products/sourdough-starter-workshop-oct-19-1-4p
URL:https://explorebeaufortsc.com/event/sourdough-class-at-marshview-mercantile/
LOCATION:Marshview Mercantile\, 2631 Boundary St\, Beaufort\, SC\, 29906\, US
ATTACH;FMTTYPE=image/jpeg:https://explorebeaufortsc.com/wp-content/uploads/2025/09/marshviewsourdough1.jpg
END:VEVENT
BEGIN:VEVENT
DTSTART;TZID=America/New_York:20251019T150000
DTEND;TZID=America/New_York:20251019T180000
DTSTAMP:20260425T180846
CREATED:20250526T185338Z
LAST-MODIFIED:20251016T021842Z
UID:23142-1760886000-1760896800@explorebeaufortsc.com
SUMMARY:World Ballet Company: Cinderella
DESCRIPTION:Experience the magic of Cinderella live on stage! \nThis dazzling production by World Ballet Company brings the beloved fairy tale to life with 40 international dancers\, over 150 radiant costumes\, and breathtaking sets. From grand ballroom scenes to whimsical mischief\, it’s a ballet for all ages—full of charm\, romance\, and timeless wonder. \n“It was a treat to see probably some of the finest ballet artists in the world. This is probably as good as it gets” – Times-Advocate“… handpainted sets\, over 150 incredible costumes and brilliant artistry that is not to miss. ” – Modern Luxury San Diego \n*About the Company: Based in Los Angeles\, and led by Sasha Gorskaya and Gulya Hartwick\, the World Ballet Company presents the most beloved and iconic ballets of our time in cities nationwide. Driven by the belief that ballet is for everyone\, performances appeal to newcomers and seasoned ballet goers alike. The company attracts many international artists and comprises renowned professional dancers representing over ten countries.To date\, World Ballet Company has traveled to more than 300 cities\, reaching an audience of more than 500\,000\, many of whom are first-time attendees to a ballet. \nWorld Ballet Company – Ballet Everywhere\, Ballet For All. \nDuration: 2 hours (including 20-minute intermission)Audience: For ages 2 & overOfficial website: https://worldballetcompany.com
URL:https://explorebeaufortsc.com/event/world-ballet-company-cinderella/
LOCATION:Savannah Civic Center\, Savannah Civic Center
END:VEVENT
END:VCALENDAR