BEGIN:VCALENDAR
VERSION:2.0
PRODID:-//Explore Beaufort SC - ECPv6.15.20//NONSGML v1.0//EN
CALSCALE:GREGORIAN
METHOD:PUBLISH
X-WR-CALNAME:Explore Beaufort SC
X-ORIGINAL-URL:https://explorebeaufortsc.com
X-WR-CALDESC:Events for Explore Beaufort SC
REFRESH-INTERVAL;VALUE=DURATION:PT1H
X-Robots-Tag:noindex
X-PUBLISHED-TTL:PT1H
BEGIN:VTIMEZONE
TZID:America/New_York
BEGIN:DAYLIGHT
TZOFFSETFROM:-0500
TZOFFSETTO:-0400
TZNAME:EDT
DTSTART:20240310T070000
END:DAYLIGHT
BEGIN:STANDARD
TZOFFSETFROM:-0400
TZOFFSETTO:-0500
TZNAME:EST
DTSTART:20241103T060000
END:STANDARD
BEGIN:DAYLIGHT
TZOFFSETFROM:-0500
TZOFFSETTO:-0400
TZNAME:EDT
DTSTART:20250309T070000
END:DAYLIGHT
BEGIN:STANDARD
TZOFFSETFROM:-0400
TZOFFSETTO:-0500
TZNAME:EST
DTSTART:20251102T060000
END:STANDARD
BEGIN:DAYLIGHT
TZOFFSETFROM:-0500
TZOFFSETTO:-0400
TZNAME:EDT
DTSTART:20260308T070000
END:DAYLIGHT
BEGIN:STANDARD
TZOFFSETFROM:-0400
TZOFFSETTO:-0500
TZNAME:EST
DTSTART:20261101T060000
END:STANDARD
END:VTIMEZONE
BEGIN:VEVENT
DTSTART;TZID=America/New_York:20251020T180000
DTEND;TZID=America/New_York:20251020T200000
DTSTAMP:20260425T180841
CREATED:20250929T202553Z
LAST-MODIFIED:20250929T202553Z
UID:24500-1760983200-1760990400@explorebeaufortsc.com
SUMMARY:Polymer Jewelry Design Workshop at Marshview Mercantile
DESCRIPTION:Create your own statement jewelry!\n \n\nJoin us as Denise Palmer\, of Calilou Clay\, guides you in designing two beautiful pieces of polymer clay jewelry. Choose from earrings\, bracelets\, or a necklace charm — the colors and patterns are limited only by your imagination. \nOur inspiration photo features rich fall tones\, but you’ll have a rainbow of choices to make your pieces uniquely yours. \nNo experience needed — just bring your creativity and enjoy a fun\, hands-on class! \nOct. 20\, 6-8p \nMarshview Mercantile\n2631 Boundary Street\, Beaufort \nSign Up! https://marshviewmercantile.commentsold.com/products/clay-polymer-jewelry-design-workshop
URL:https://explorebeaufortsc.com/event/polymer-jewelry-design-workshop-at-marshview-mercantile/
LOCATION:Marshview Mercantile\, 2631 Boundary St\, Beaufort\, SC\, 29906\, US
ATTACH;FMTTYPE=image/jpeg:https://explorebeaufortsc.com/wp-content/uploads/2025/09/marshviewpolymer-1.jpg
END:VEVENT
END:VCALENDAR