BEGIN:VCALENDAR
VERSION:2.0
PRODID:-//Explore Beaufort SC - ECPv6.15.20//NONSGML v1.0//EN
CALSCALE:GREGORIAN
METHOD:PUBLISH
X-ORIGINAL-URL:https://explorebeaufortsc.com
X-WR-CALDESC:Events for Explore Beaufort SC
REFRESH-INTERVAL;VALUE=DURATION:PT1H
X-Robots-Tag:noindex
X-PUBLISHED-TTL:PT1H
BEGIN:VTIMEZONE
TZID:America/New_York
BEGIN:DAYLIGHT
TZOFFSETFROM:-0500
TZOFFSETTO:-0400
TZNAME:EDT
DTSTART:20240310T070000
END:DAYLIGHT
BEGIN:STANDARD
TZOFFSETFROM:-0400
TZOFFSETTO:-0500
TZNAME:EST
DTSTART:20241103T060000
END:STANDARD
BEGIN:DAYLIGHT
TZOFFSETFROM:-0500
TZOFFSETTO:-0400
TZNAME:EDT
DTSTART:20250309T070000
END:DAYLIGHT
BEGIN:STANDARD
TZOFFSETFROM:-0400
TZOFFSETTO:-0500
TZNAME:EST
DTSTART:20251102T060000
END:STANDARD
BEGIN:DAYLIGHT
TZOFFSETFROM:-0500
TZOFFSETTO:-0400
TZNAME:EDT
DTSTART:20260308T070000
END:DAYLIGHT
BEGIN:STANDARD
TZOFFSETFROM:-0400
TZOFFSETTO:-0500
TZNAME:EST
DTSTART:20261101T060000
END:STANDARD
END:VTIMEZONE
BEGIN:VEVENT
DTSTART;TZID=America/New_York:20251023T120000
DTEND;TZID=America/New_York:20251026T160000
DTSTAMP:20260425T144732
CREATED:20250916T151053Z
LAST-MODIFIED:20251016T021850Z
UID:24406-1761220800-1761494400@explorebeaufortsc.com
SUMMARY:Tenth Annual Pat Conroy Literary Festival
DESCRIPTION:“I’ve come home to the place I was always writing about. I’ve tried to make Beaufort\, South Carolina my own.”—Pat Conroy\, The Death of Santini \nHosted by the nonprofit Pat Conroy Literary Center\, this year’s Tenth Annual Pat Conroy Literary Festival will celebrate Pat Conroy’s 80th birthday with a weekend of special events featuring author panels\, book signings\, workshops\, readings\, tours\, exhibits\, and gatherings. \nFEATURING BESTSELLING AUTHORS: Adriana Trigiani (The View from Lake Como)\, Patti Callahan Henry (The Story She Left Behind)\, National Book Award Winner Jason Mott (People Like Us)\, Chris Pavone (The Doorman)\, Chris Whitaker (All the Colors of the Dark)\, John Hart (The Unwilling) and more \nCELEBRATE PAT CONROY AT 80 with Conroy’s family\, friends\, and fellow lowcountry authors: Cassandra King\, Tim Conroy\, Valerie Sayers\, John Warley\, Cliff Graubart\, Bernie Schein\, Stephanie Austin Edwards\, Ellen Malphrus\, and Lynn & Cele Seldon — plus special festival guest\, Academy Award-nominated actor Michael O’Keefe (scheduled to appear) \nThe Pat Conroy Literary Festival is made possible by the generous support and collaboration of the Robert S. Handler Charitable Trust; the South Carolina Arts Commission; Apollon Wealth Management; Publix Super Markets Charities; Bank of America Private Bank; Oyster Cay Collection; Rebecca Dwight Bruff\, Author; Gilbert Law Firm; Bay Street Jewelers; Lynn & Wheeler\, CPAs\, PA; Carolina Air\, Inc.; Lowcountry Real Estate; Eugene A. Rugala & Associates; Palmetto State Bank; Alice and Gene Howard; Alphagraphics; Lowcountry Weekly; the Rhett Gallery; the Beaufort Bookstore; and NeverMore Books. \n~ FESTIVAL SCHEDULE OF EVENTS ~ \nTHURSDAY\, OCTOBER 23Noon to 4:00 p.m. TOURS: Pat Conroy Literary Center open to the public for guided tours. Free. (601 Bladen St.\, Beaufort) \n5:30-8:00 p.m. Fundraiser event with special guest Academy Award-nominated actor Michael O’Keefe at Tidalholm\, benefiting the nonprofit Pat Conroy Literary Center — with catering by Debbi Covington and appearances by festival authors and friends. $500+/person https://conroyfest2025previewparty.eventbrite.com \nFRIDAY\, OCTOBER 2410:00 to 11:30 a.m. WORKSHOP: Firing the Clay poetry workshop with Tim Conroy\, Susan Madison\, and special guest Michael O’Keefe. $60/person (Conroy Center\, 601 Bladen St.\, Beaufort) Register: https://firingtheclayworkshop2.eventbrite.com \n11:00 a.m. to 1:00 p.m. TOUR & TASTINGS: Taste of the Lowcountry Crawl walking tour led by Lynn and Cele Seldon. $75/person (Meet at McIntosh Book Shoppe\, Beaufort) Register: https://tasteofthelowcountrycrawl.eventbrite.com \nNoon to 4:00 p.m. TOURS: Pat Conroy Literary Center open to the public for guided tours. Free. (601 Bladen St.\, Beaufort) \n12:30 to 2:00 p.m. WORKSHOP: Thriller Writers Playbook led by John Hart with Sean A. Scapellato. $75/person (Conroy Center\, 601 Bladen St.\, Beaufort) Register: https://thethrillerwritersplaybook.eventbrite.com \n2:00 to 3:00 p.m. POETRY IN THE PARK: Tim Conroy\, Susan Madison\, Jacquelyn Markham\, Jason Mott\, Brea Parker\, and more. Free. (Witness Tree Park\, across King Street from the Conroy Center\, 601 Bladen St.) Followed by a book signing. Register: https://patconroyliteraryfestival2025.eventbrite.com \n5:00 to 6:30 p.m. AUTHOR EVENT: National Book Award winner Jason Mott (People Like Us) in conversation with DAYLO on the Air podcast hosts Emily Alaia and Hernando Rizo\, with Conroy Center executive director Jonathan Haupt. $10/person. (Beaufort County Black Chamber of Commerce\, 711 Bladen St.\, Beaufort) Followed by a book signing. Register: https://patconroyliteraryfestival2025.eventbrite.com \nSATURDAY\, OCTOBER 2510:00 to 11:00 a.m. AUTHOR EVENT: Pat Conroy at 80 panel\, moderated by USC Beaufort Writer in Residence Ellen Malphrus\, in conversation with authors Stephanie Austin Edwards\, Cliff Graubart\, Valerie Sayers\, Bernie Schein\, and John Warley. $25/person. (USC Beaufort Center for the Arts\, 805 Carteret St.\, Beaufort) Followed by a book signing. Register: https://patconroyliteraryfestival2025.eventbrite.com \n11:30 to 12:30 p.m. AUTHOR EVENT: Writing for the Thrill of It All panel\, moderated by Conroy Center board chair Sean A. Scapellato\, in conversation with bestselling writers John Hart (The Unwilling)\, Chris Whitaker (All the Colors of the Dark)\, and Chris Pavone (The Doorman). $25/person. (USC Beaufort Center for the Arts\, 805 Carteret St.\, Beaufort) Followed by a book signing. Register: https://patconroyliteraryfestival2025.eventbrite.com \n11:30 a.m. to 1:30 p.m. FOOD TRUCK: Grub by Jay’s. (USC Beaufort Center for the Arts\, 805 Carteret St.\, Beaufort) \nNoon to 4:00 p.m. TOURS: Pat Conroy Literary Center open to the public for guided tours. Free. (601 Bladen St.\, Beaufort)12:30 to 2:00 p.m. WORKSHOP: Walking and Writing\, led by Valerie Sayers $50/person (Conroy Center\, 601 Bladen St.\, Beaufort) Register: https://walkingandwriting.eventbrite.com \n2:00 to 3:00 p.m. AUTHOR EVENT: Lowcountry Literary Ladies panel with bestselling authors Patti Callahan Henry (The Story She Left Behind) and Conroy Center honorary chair Cassandra King (Tell Me a Story)\, moderated by Lowcountry Weekly editor Margaret Evans. $25/person (USC Beaufort Center for the Arts\, 805 Carteret St.\, Beaufort) Followed by a book signing. Register: https://patconroyliteraryfestival2025.eventbrite.com \n3:30 to 4:30 p.m. PUBLISHING EVENT: Join New York Times bestselling author Chris Pavone (The Doorman) in conversation with literary agent Marly Rusoff and publishing executive Sara Nelson\, (senior VP and executive editor of Harper Collins) as they engage in a wide-ranging discussion of the art\, the craft\, and the business of writing and publishing today. $25/person. (USC Beaufort Center for the Arts\, 805 Carteret St.\, Beaufort) Followed by a book signing. Register: https://patconroyliteraryfestival2025.eventbrite.com \n5:00 to 7:00 p.m. RECEPTION: Join us at the Pat Conroy Literary Center after hours to meet and mingle with festival authors and friends. Wine and refreshments. $40/person. (601 Bladen St.\, Beaufort) Register: https://patconroyliteraryfestival2025.eventbrite.com \nSUNDAY\, OCTOBER 26Noon to 2:00 p.m. AUTHOR BRUNCH featuring Adriana Trigiani and the Beaufort Mass Choir. Join us for a gospel brunch featuring a performance by the Beaufort Mass Choir and a discussion with bestselling author Adriana Trigiani (The View from Lake Como)\, with catering by Her Table — and an 80th birthday cake for Pat Conroy. Registration fee also includes a copy of The View from Lake Como and a donation in support of the nonprofit Pat Conroy Literary Center’s annual Camp Conroy and annual Storybuilders program at Lady’s Island Elementary School. $125/person. (Beaufort County Black Chamber of Commerce\, 711 Bladen St.\, Beaufort) Followed by a book signing. Register: https://patconroyliteraryfestival2025.eventbrite.com \nNoon to 4:00 p.m. TOURS: Pat Conroy Literary Center open to the public for guided tours. Free. (601 Bladen St.\, Beaufort) \n~ FRIDAY & SATURDAY FESTIVAL PASS: $125 (a $25 savings)\, includes all author presentation events on Friday (Beaufort County Black Chamber of Commerce) & Saturday (USC Beaufort Center for the Arts) + Saturday evening reception (Pat Conroy Literary Center). Does not include any Thursday or Sunday events\, any writers workshops\, or the Taste of the Lowcountry Crawl\, all of which can be reserved separately. Register: https://patconroyliteraryfestival2025.eventbrite.com \n~STUDENTS: All author events at the Beaufort County Black Chamber of Commerce on Friday\, 10/24\, at the USC Beaufort Center for the Arts on Saturday\, 10/25\, are free to high school and college students with student IDs.  \nwww.patconroyliterarycenter.org
URL:https://explorebeaufortsc.com/event/tenth-annual-pat-conroy-literary-festival/
LOCATION:Beaufort\, South Carolina
ORGANIZER;CN="Pat Conroy Literary Festival":MAILTO:noreply@facebookmail.com
END:VEVENT
BEGIN:VEVENT
DTSTART;TZID=America/New_York:20251025T060000
DTEND;TZID=America/New_York:20251025T090000
DTSTAMP:20260425T144732
CREATED:20250825T211230Z
LAST-MODIFIED:20251016T021855Z
UID:24159-1761372000-1761382800@explorebeaufortsc.com
SUMMARY:3rd Annual Red Drum Tournament
DESCRIPTION:SAVE THE DATE. MORE DETAILS TO FOLLOW! \nJoin us in our 3rd Annual Red Drum Fall Tournament!Low Tide: 5:52am High Tide 11:51am  \nLines in at 6am (Subject to change)Lines out 3pm (Subject to change) \nThis is a LIVE WEIGH IN Tournament. MANDATORY Captains Meeting Friday Oct 24th at 6pmAll fish must be weighed alive at the Sands Beach Boat Landing to encourage release. \nTotal weight combined for 2 fish per team \n$150 boat entry fee.
URL:https://explorebeaufortsc.com/event/3rd-annual-red-drum-tournament/
LOCATION:901 8th Street\, Port Royal\, SC\, United States\, South Carolina 29935\, 901 8th Street\, Port Royal\, SC\, United States\, South Carolina 29935
END:VEVENT
BEGIN:VEVENT
DTSTART;TZID=America/New_York:20251025T130000
DTEND;TZID=America/New_York:20251025T150000
DTSTAMP:20260425T144732
CREATED:20250919T234026Z
LAST-MODIFIED:20251016T021857Z
UID:24452-1761397200-1761404400@explorebeaufortsc.com
SUMMARY:Haunted Hallows Cookie Decorating Class
DESCRIPTION:🎃 Beginner Halloween Cookie Decorating Class 👻Join me for a fun\, hands-on cookie decorating class — perfect for beginners! In this class\, you’ll learn to decorate 6 spooky-but-cute Halloween cookies: a ghost\, spell book\, magic potion bottle\, witch boot\, skull candle\, and framed ghost portrait.Here’s what you’ll learn:✨ How to outline and flood cookies with royal icing for a smooth finish✨ Easy wet-on-wet techniques to add color and design✨ Tips for clean lines and perfect details✨ How to layer icing for a dimensional lookThis class is beginner-friendly — no experience necessary! You’ll leave with a box of cookies you decorated yourself\, new decorating skills\, and the confidence to make them at home.📅 Date/Time: 10/25. 1-3pm📍 Location: RLB Distillery\, Beaufort\, SC🎟️ Spots are limited — reserve yours today!Perfect for a night out with friends\, a creative date\, or just a fun treat-yourself evening.
URL:https://explorebeaufortsc.com/event/haunted-hallows-cookie-decorating-class/
LOCATION:Rotten Little Bastard Distillery
ORGANIZER;CN="Frosted Artistry":MAILTO:noreply@facebookmail.com
END:VEVENT
BEGIN:VEVENT
DTSTART;TZID=America/New_York:20251025T130000
DTEND;TZID=America/New_York:20251025T160000
DTSTAMP:20260425T144732
CREATED:20250909T155711Z
LAST-MODIFIED:20250909T155711Z
UID:24302-1761397200-1761408000@explorebeaufortsc.com
SUMMARY:Beaufort County Open Land Trust Annual Oyster Roast
DESCRIPTION:Beaufort County Open Land Trust Annual Meeting and Oyster Roast\nSaturday\, October 25\, 2025\n1:00 – 4:00 p.m. \nOysters and Gumbo at Orange Grove on St. Helena Island \n*Free pizza available for kids\, please RSVP* \nJoin us for a special afternoon at Orange Grove as we celebrate the recent conservation success you helped achieve! \nEnjoy live music\, beer and wine\, and a delicious spread of local oysters and gumbo. \nThis annual gathering is one of our favorite ways to connect with you and hundreds of passionate supporters who make our work possible. \nVisit this link for tickets: https://secure.lglforms.com/form_engine/s/KqLG4CoRzPemY9vwzOqTXA \nWe can’t wait to see you there!
URL:https://explorebeaufortsc.com/event/beaufort-county-open-land-trust-annual-oyster-roast/
ATTACH;FMTTYPE=image/jpeg:https://explorebeaufortsc.com/wp-content/uploads/2025/09/oltoysterroast.jpg
END:VEVENT
BEGIN:VEVENT
DTSTART;TZID=America/New_York:20251025T140000
DTEND;TZID=America/New_York:20251025T170000
DTSTAMP:20260425T144732
CREATED:20250919T234027Z
LAST-MODIFIED:20251016T021858Z
UID:24453-1761400800-1761411600@explorebeaufortsc.com
SUMMARY:Trunk or Treat
DESCRIPTION:🚨✨ BIG ANNOUNCEMENT ✨🚨Our annual Kids\, Cops\, Cars & Candy Trunk or Treat is BACK — and bigger than ever! 🍬🚓🚘Because of the amazing turnout and support year after year\, we’re doing it TWICE this year so more families can join in on the fun! 🙌📍 Event #1Saturday\, October 18\, 2025 | 2 PM – 5 PMBuckwalter Recreation Center905 Buckwalter Pkwy\, Bluffton\, SC 29910 \n📍 Event #2Saturday\, October 25\, 2025 | 2 PM – 5 PMCharles Lind Brown Recreation Center1001 Hamar St\, Beaufort\, SC 29902👨‍👩‍👧‍👦 Bring the whole family for:🍭 Safe & fun trick-or-treating🚔 Police cruisers & classic cars on display🎶 Music & games🍔 Food trucks with tasty eats🎨 Face painting & activities for the kids  \nTurrick Flagg
URL:https://explorebeaufortsc.com/event/trunk-or-treat-6/
LOCATION:1001 Hamar St Beaufort Sc\, 1001 Hamar St Beaufort Sc
END:VEVENT
BEGIN:VEVENT
DTSTART;TZID=America/New_York:20251025T140000
DTEND;TZID=America/New_York:20251025T170000
DTSTAMP:20260425T144732
CREATED:20250909T155051Z
LAST-MODIFIED:20250909T155051Z
UID:24295-1761400800-1761411600@explorebeaufortsc.com
SUMMARY:Kids\, Cops\, Cars & Candy Trunk or Treat - Beaufort
DESCRIPTION:The annual Kids\, Cops\, Cars & Candy Trunk or Treat is BACK — and bigger than ever!\nBecause of the amazing turnout and support year after year\, we’re doing it TWICE this year so more families can join in on the fun!\n\nEvent #1\nSaturday\, October 18\, 2025 | 2 PM – 5 PM\nBuckwalter Recreation Center\n905 Buckwalter Pkwy\, Bluffton\, SC 29910\n\nEvent #2\nSaturday\, October 25\, 2025 | 2 PM – 5 PM\nCharles Lind Brown Recreation Center\n1001 Hamar St\, Beaufort\, SC 29902 \n\nBring the whole family for:\nSafe & fun trick-or-treating\nPolice cruisers & classic cars on display\nMusic & games\nFood trucks with tasty eats\nFace painting & activities for the kids
URL:https://explorebeaufortsc.com/event/kids-cops-cars-candy-trunk-or-treat-beaufort/
LOCATION:Charles Lind Brown Activity Center\, Charles Lind Brown Activity Center
ATTACH;FMTTYPE=image/jpeg:https://explorebeaufortsc.com/wp-content/uploads/2025/09/kidscopstrunk.jpg
END:VEVENT
BEGIN:VEVENT
DTSTART;TZID=America/New_York:20251025T150000
DTEND;TZID=America/New_York:20251025T210000
DTSTAMP:20260425T144732
CREATED:20250805T132610Z
LAST-MODIFIED:20251016T021901Z
UID:23883-1761404400-1761426000@explorebeaufortsc.com
SUMMARY:Haunted Hallows Market
DESCRIPTION:Come out and enjoy a spooky market with us! This is will our first market in SC.
URL:https://explorebeaufortsc.com/event/haunted-hallows-market/
LOCATION:Naval Heritage Park\, Naval Heritage Park
END:VEVENT
BEGIN:VEVENT
DTSTART;TZID=America/New_York:20251025T150000
DTEND;TZID=America/New_York:20251025T210000
DTSTAMP:20260425T144732
CREATED:20250913T011144Z
LAST-MODIFIED:20251016T021900Z
UID:24361-1761404400-1761426000@explorebeaufortsc.com
SUMMARY:Haunted Hallows Festival
DESCRIPTION:Weeeee’re baaaaack!!! The Haunted Hallows festival is back in full swing Lowcountry!! And it’s here to stay!! Last year proved to be EXTRAORDINARY!! And 2025 is already cranking up to blow 2024 out of the water!! Get ready Lowcountry!! The spookies are coming back out of the woodwork!!
URL:https://explorebeaufortsc.com/event/haunted-hallows-festival/
LOCATION:Naval Heritage Park Port Royal\, SC 29935\, Naval Heritage Park Port Royal\, SC 29935
END:VEVENT
BEGIN:VEVENT
DTSTART;TZID=America/New_York:20251025T150000
DTEND;TZID=America/New_York:20251025T210000
DTSTAMP:20260425T144732
CREATED:20251021T220404Z
LAST-MODIFIED:20251021T220404Z
UID:24741-1761404400-1761426000@explorebeaufortsc.com
SUMMARY:2025 Haunted Hallows Festival
DESCRIPTION:It’s October\, and witches are invading the Lowcountry again providing a day full of spooky fun. The Gas Lantern Apothecary & Mystical is hosting its Second Annual Haunted Hallows Festival\, a Halloween celebration for the Lowcountry\, on Saturday\, October 25th\, from 3pm to 9pm at the Naval Heritage Park in Port Royal. \nThe free\, fun-filled\, costume-encouraged\, family oriented event will feature live entertainment\, the popular annual Witches Dance\, a vendor market\, food trucks and food booths\, an aerialist\, kid’s games and a whole lot more. \nNew this year is an Apple Pie Baking Contest\, with Port Royal Town Council members judging the best apple pie. \nAlso\, kids take center stage as each child in attendance will be given a a treat bag full of goodies\, and a Kid’s Passport to visit spooky characters\, booths and other spots in the festival to find something ghoulishly good. \nAlso\, special activities will be set up including making your own witch broom\, and a Witches Dance Workshop – where you can learn the witches dance and then join in the evening dancing with the coven! \nThe Gas Lantern Apothecary & Mystical\, a Port Royal shop and community presence known for metaphysical goods\, workshops and local events\, launched the first Haunted Hallows festival in Port Royal in 2024. \nAdmission is free and open to the public; some vendor purchases and specialty experiences may have fees. \nHalloween costumes are strongly encouraged.
URL:https://explorebeaufortsc.com/event/2025-haunted-hallows-festival/
LOCATION:Naval Heritage Park\, Shell Road\, Port Royal\, SC\, 29935\, United States
ATTACH;FMTTYPE=image/jpeg:https://explorebeaufortsc.com/wp-content/uploads/2025/10/hauntedhallows2025-1.jpg
END:VEVENT
BEGIN:VEVENT
DTSTART;TZID=America/New_York:20251025T160000
DTEND;TZID=America/New_York:20251025T190000
DTSTAMP:20260425T144732
CREATED:20251009T010248Z
LAST-MODIFIED:20251016T021904Z
UID:24621-1761408000-1761418800@explorebeaufortsc.com
SUMMARY:Book Chat with Jack Gannon and Cyndi Barnier of YBR Publishing
DESCRIPTION:Jack Gannon began his literary career with high school best friend Cyndi Williams-Barnier after they were both retired from their respective careers\, writing the stories they talked about way back in high school. Together they have written nine books published under their YBR Publishing banner. YBR Publishing was born when Jack wrote and published his first solo book\, “I WALKED IN SANTA’S BOOTS”\, a coffee-table-sized hardbound memoir about his quarter-century as Santa Claus for Beaufort\, South Carolina.His next book is tentatively titled “Bloodlines”\, which is based on the short story “The Smile” which won first place at Lowcountry Weekly Spirit Writers’ short story competition last fall. It’s still in the writing progress\, with an entirely new concept of the world of vampires!Jack will talk about their unique writing style\, as well as the book publishing profession.
URL:https://explorebeaufortsc.com/event/book-chat-with-jack-gannon-and-cyndi-barnier-of-ybr-publishing/
LOCATION:2139 Boundary Street Unit 102\, Beaufort\, SC\, United States\, South Carolina 29902\, 2139 Boundary Street Unit 102\, Beaufort\, SC\, United States\, South Carolina 29902
ORGANIZER;CN="Rotten Little Bastard Distillery":MAILTO:noreply@facebookmail.com
END:VEVENT
BEGIN:VEVENT
DTSTART;TZID=America/New_York:20251025T160000
DTEND;TZID=America/New_York:20251025T190000
DTSTAMP:20260425T144732
CREATED:20251014T160631Z
LAST-MODIFIED:20251016T021903Z
UID:24664-1761408000-1761418800@explorebeaufortsc.com
SUMMARY:Book Chat with Jack Gannon and Cyndi Barnier of YBR Publishing
DESCRIPTION:Jack Gannon began his literary career with high school best friend Cyndi Williams-Barnier after they were both retired from their respective careers\, writing the stories they talked about way back in high school. Together they have written nine books published under their YBR Publishing banner. YBR Publishing was born when Jack wrote and published his first solo book\, “I WALKED IN SANTA’S BOOTS”\, a coffee-table-sized hardbound memoir about his quarter-century as Santa Claus for Beaufort\, South Carolina.His next book is tentatively titled “Bloodlines”\, which is based on the short story “The Smile” which won first place at Lowcountry Weekly Spirit Writers’ short story competition last fall. It’s still in the writing progress\, with an entirely new concept of the world of vampires!Jack will talk about their unique writing style\, as well as the book publishing profession.
URL:https://explorebeaufortsc.com/event/book-chat-with-jack-gannon-and-cyndi-barnier-of-ybr-publishing-2/
LOCATION:2139 Boundary Street Unit 102\, Beaufort\, SC\, United States\, South Carolina 29902\, 2139 Boundary Street Unit 102\, Beaufort\, SC\, United States\, South Carolina 29902
ORGANIZER;CN="Rotten Little Bastard Distillery":MAILTO:noreply@facebookmail.com
END:VEVENT
BEGIN:VEVENT
DTSTART;TZID=America/New_York:20251025T160000
DTEND;TZID=America/New_York:20251025T190000
DTSTAMP:20260425T144732
CREATED:20250919T234028Z
LAST-MODIFIED:20251016T021902Z
UID:24456-1761408000-1761418800@explorebeaufortsc.com
SUMMARY:Fall Festival
DESCRIPTION:Fall Fest at Camelot Farms Equestrian Center \nPetting Zoo | Hay Rides | Face Painting | Pony Rides | Pumpkin Painting | Live Music | S’mores | Games | More! \nActivity tickets are available for purchase upon entry \n101 Tom and Mike RdSt Helena Island\, SC 29920
URL:https://explorebeaufortsc.com/event/fall-festival-4/
LOCATION:101 TOM AND MIKE RD\, Saint Helena Island\, SC\, United States\, South Carolina 29920\, 101 TOM AND MIKE RD\, Saint Helena Island\, SC\, United States\, South Carolina 29920
ORGANIZER;CN="Camelot Farms Equestrian Center":MAILTO:noreply@facebookmail.com
END:VEVENT
BEGIN:VEVENT
DTSTART;TZID=America/New_York:20251025T160000
DTEND;TZID=America/New_York:20251025T190000
DTSTAMP:20260425T144732
CREATED:20251001T231751Z
LAST-MODIFIED:20251006T203541Z
UID:24558-1761408000-1761418800@explorebeaufortsc.com
SUMMARY:Haunted Island Halloween at Hunting Island State Park
DESCRIPTION:What are you doing Saturday\, October 25th? Come join the park rangers for Haunted Island Halloween at Hunting Island State Park! \n\nFrom 4 to 7pm\, enjoy family friendly activities\, community vendors\, food trucks\, and trunk or treaters.\n\nInterested in handing out candy? Scan the QR code on the flyer or visit this link for more information: https://reserve.southcarolinaparks.com/register/haunted-island-halloween
URL:https://explorebeaufortsc.com/event/haunted-island-halloween-at-hunting-island-state-park-2/
LOCATION:Hunting Island State Park\, 2555 Sea Island Parkway\, Hunting Island\, SC\, 29920\, United States
ATTACH;FMTTYPE=image/jpeg:https://explorebeaufortsc.com/wp-content/uploads/2025/10/hauntedislandhalloween2-1.jpg
END:VEVENT
BEGIN:VEVENT
DTSTART;TZID=America/New_York:20251025T170000
DTEND;TZID=America/New_York:20251025T190000
DTSTAMP:20260425T144732
CREATED:20251014T160633Z
LAST-MODIFIED:20251016T021905Z
UID:24666-1761411600-1761418800@explorebeaufortsc.com
SUMMARY:Battery Creek Trunk or Treat
DESCRIPTION:🎃👻 Trunk-or-Treat at Battery Creek!Join us on Saturday\, October 25 from 5:00–7:00 PM for a fun\, family-friendly evening. Everyone is welcome to treat! 🍬🧡 \nWant to host a trunk? Email Elizabeth Melton at Elizabeth.melton@beaufort.k12.sc.us to sign up.Bring your costumes\, your smiles\, and your school spirit! 💙💛🐬
URL:https://explorebeaufortsc.com/event/battery-creek-trunk-or-treat/
LOCATION:Battery Creek High School\, 1 Blue Dolphin Dr\, Beaufort\, SC\, 29906\, US
ORGANIZER;CN="Battery Creek High School":MAILTO:noreply@facebookmail.com
END:VEVENT
BEGIN:VEVENT
DTSTART;TZID=America/New_York:20251025T190000
DTEND;TZID=America/New_York:20251025T220000
DTSTAMP:20260425T144732
CREATED:20250805T132610Z
LAST-MODIFIED:20251016T021906Z
UID:23885-1761418800-1761429600@explorebeaufortsc.com
SUMMARY:Revolution Ballroom Spook-tacular Halloween Dance Party! 👻
DESCRIPTION:Join us for a Spook-tacular Halloween Dance Party! Wear your favorite costume and enjoy a frightfully fun night out with friends. We play all your favorite music so you can enjoy dancing: Ballroom\, Latin\, Swing\, Salsa\, Bachata\, and Argentine Tango ☠️🖤 \nRevolution Ballroom Spook-tacular Halloween Dance Party! 👻〰️ Saturday\, October 25th 〰️ \n◽️7:00 – 7:30 PM Beginner Tango lesson◽️7:30 – 10:00 PM Social dancing◽️Spooky Halloween playlist: Ballroom\, Latin\, Swing\, Salsa\, Bachata\, & Argentine Tango◽️Tricks & Tasty Treats◽️Admission $20 (online or at the door)◽️Open to the public (ages 18+)◽️Singles & couples welcome◽️Attire: Halloween Costume \n➡️ Sign up here: https://www.revolutionballroom.com/spooktacular \nJoin us – if you dare… \nEvent Location:Revolution Ballroom2121 Boundary StSuite 207Beaufort\, SC 29902
URL:https://explorebeaufortsc.com/event/revolution-ballroom-spook-tacular-halloween-dance-party-%f0%9f%91%bb/
LOCATION:Revolution Ballroom\, 2121 Boundary St\, Ste 207\, Beaufort\, SC\, 29902\, US
ORGANIZER;CN="Revolution Ballroom":MAILTO:noreply@facebookmail.com
END:VEVENT
END:VCALENDAR