BEGIN:VCALENDAR
VERSION:2.0
PRODID:-//Explore Beaufort SC - ECPv6.15.20//NONSGML v1.0//EN
CALSCALE:GREGORIAN
METHOD:PUBLISH
X-ORIGINAL-URL:https://explorebeaufortsc.com
X-WR-CALDESC:Events for Explore Beaufort SC
REFRESH-INTERVAL;VALUE=DURATION:PT1H
X-Robots-Tag:noindex
X-PUBLISHED-TTL:PT1H
BEGIN:VTIMEZONE
TZID:America/New_York
BEGIN:DAYLIGHT
TZOFFSETFROM:-0500
TZOFFSETTO:-0400
TZNAME:EDT
DTSTART:20240310T070000
END:DAYLIGHT
BEGIN:STANDARD
TZOFFSETFROM:-0400
TZOFFSETTO:-0500
TZNAME:EST
DTSTART:20241103T060000
END:STANDARD
BEGIN:DAYLIGHT
TZOFFSETFROM:-0500
TZOFFSETTO:-0400
TZNAME:EDT
DTSTART:20250309T070000
END:DAYLIGHT
BEGIN:STANDARD
TZOFFSETFROM:-0400
TZOFFSETTO:-0500
TZNAME:EST
DTSTART:20251102T060000
END:STANDARD
BEGIN:DAYLIGHT
TZOFFSETFROM:-0500
TZOFFSETTO:-0400
TZNAME:EDT
DTSTART:20260308T070000
END:DAYLIGHT
BEGIN:STANDARD
TZOFFSETFROM:-0400
TZOFFSETTO:-0500
TZNAME:EST
DTSTART:20261101T060000
END:STANDARD
END:VTIMEZONE
BEGIN:VEVENT
DTSTART;TZID=America/New_York:20251102T100000
DTEND;TZID=America/New_York:20251102T130000
DTSTAMP:20260425T144957
CREATED:20251001T231229Z
LAST-MODIFIED:20251031T145841Z
UID:24544-1762077600-1762088400@explorebeaufortsc.com
SUMMARY:Annual Harvest Festival
DESCRIPTION:Mark your calendars — The 3rd Annual Fort Fremont Harvest Festival is almost here! \nSunday\, November 2\, 2025\, 1:00–4:00 PMFort Fremont Preserve\, 1124 Lands End Road (State Rd S-7-45)\, Saint Helena Island\, SC\, 29920 \nFREE Admission \nBring the whole family out for an afternoon of history\, music\, food\, games\, and fall fun. You’ll even see Teddy Roosevelt himself leading the charge up San Juan Heights! \nFree shuttle service will be available from overflow parking at Land’s End Woodland Road. \nDon’t miss this perfect mix of Lowcountry history and autumn celebration — fun for all ages! \nTag a friend you’ll be bringing with you! \nMore information: festival@fortfremont.org
URL:https://explorebeaufortsc.com/event/annual-harvest-festival/
LOCATION:1124 Lands End Road (State Rd S-7-45)\, Saint Helena Island\, SC\, United States\, South Carolina 29920\, 1124 Lands End Road (State Rd S-7-45)\, Saint Helena Island\, SC\, United States\, South Carolina 29920
ORGANIZER;CN="Friends of Fort Fremont":MAILTO:noreply@facebookmail.com
END:VEVENT
BEGIN:VEVENT
DTSTART;TZID=America/New_York:20251102T110000
DTEND;TZID=America/New_York:20251102T140000
DTSTAMP:20260425T144957
CREATED:20251001T231229Z
LAST-MODIFIED:20251031T145842Z
UID:24542-1762081200-1762092000@explorebeaufortsc.com
SUMMARY:7th Annual Candy Bounce Back
DESCRIPTION:Join Sea Smiles Pediatric Dentistry for a day of fall fun!Our event will include live music by Lowcountry favorites\, a face painter\, rock climbing wall\, bounce houses\, crafts\, games and more!As always\, admission to our event is free with a candy donation – don’t forget to tell us which school you attend for our candy collection contest!As in previous years\, food trucks will be on site for purchase and we are bringing some of the best!
URL:https://explorebeaufortsc.com/event/7th-annual-candy-bounce-back/
LOCATION:1 Recreation Ct\, Bluffton\, SC 29910-7769\, United States\, 1 Recreation Ct\, Bluffton\, SC 29910-7769\, United States
ORGANIZER;CN="Sea Smiles Pediatric Dentistry":MAILTO:noreply@facebookmail.com
END:VEVENT
BEGIN:VEVENT
DTSTART;TZID=America/New_York:20251102T130000
DTEND;TZID=America/New_York:20251102T160000
DTSTAMP:20260425T144957
CREATED:20251015T233716Z
LAST-MODIFIED:20251014T233902Z
UID:24695-1762088400-1762099200@explorebeaufortsc.com
SUMMARY:Annual Fort Fremont Harvest Festival
DESCRIPTION:The Friends of Fort Fremont are excited to announce the 3rd Annual Fort Fremont Harvest Festival on Sunday\, November 2nd from 1:00 to 4:00 pm at the Fort Fremont Preserve\, 1124 Land’s End Road\, St. Helena Island\, SC. \nVisitors are invited to step back in time to 1910…with period games for children and adults\, music\, food\, crafts\, and people dressed in era-appropriate costumes welcoming visitors to Fort Fremont. \nThere is no admission fee. Food and crafts will be available for purchase. \nFree shuttle service will be provided from Land’s End Woodlands Road\, just one mile from the Preserve. \nThis year’s event is bigger and better than before. There will be more favorite local food vendors\, more history displays from area non-profits and more hands-on activities. \nTeddy Roosevelt will even be there recreating his historic charge up San Juan Hill! \nFort Fremont was constructed in 1898 during the Spanish-American War for coastal defense of the Port Royal Sound and the Naval Station at Parris Island. Beaufort County purchased 18-acres of the original fort for use as a passive park. The site encompasses mixed hardwood forest with walking trails\, a picnic pavilion\, remains of historic batteries\, and a History Center with a diorama and period artifacts. \nThe Preserve is open to the public free of charge Monday through Sunday from dawn to dusk. The History Center exhibit hall is open Friday\, Saturday\, and Sunday and staffed by Friends of Fort Fremont volunteers. \nThe Friends of Fort Fremont work with Beaufort County to preserve and promote Fort Fremont’s educational\, historical\, natural\, and cultural resources and to interpret Fort Fremont’s history for visitors. For more information visit www.fortfremont.org.
URL:https://explorebeaufortsc.com/event/annual-fort-fremont-harvest-festival/
LOCATION:Fort Fremont Preserve\, 1124 Lands End Road\, St\, Helena Island\, SC\, 29920\, United States
ATTACH;FMTTYPE=image/jpeg:https://explorebeaufortsc.com/wp-content/uploads/2025/10/fre23.jpg
ORGANIZER;CN="Friends of Fort Fremont":MAILTO:noreply@facebookmail.com
END:VEVENT
BEGIN:VEVENT
DTSTART;TZID=America/New_York:20251102T140000
DTEND;TZID=America/New_York:20251102T170000
DTSTAMP:20260425T144957
CREATED:20250904T171040Z
LAST-MODIFIED:20251031T145843Z
UID:24251-1762092000-1762102800@explorebeaufortsc.com
SUMMARY:Buzz & Brews - A St. Baldrick's Fundraiser
DESCRIPTION:Join us for the Lowcountry’s first-ever “Buzz & Brews” head-shaving event and fundraiser for the St. Baldrick’s Foundation.As a participant\, you’ll #bravetheshave to show support and spread awareness for much-needed childhood cancer research while inspiring members of the community to get involved!  \nYour efforts will give hope to thousands of children\, teens\, and young adults diagnosed with cancer every day. The St. Baldrick’s Foundation is the largest non-government funder of childhood cancer research grants. Over six hundred million shaved heads later\, they have raised over $368 million in grants since 2005.  \nWe’re counting on YOU to help reach our goal of $30\,000.Whether you #bravetheshave as a participant or just come for the brews and entertainment\, join us! Enjoy live music\, food/drink\, raffles\, and help us reach our fundraising goal! #LETSGETBUZZED and conquer kids’ cancer! \nBecome a Shavee | Donate | Volunteerhttps://www.stbaldricks.org/events/portroyalsc2025 \nNOVEMBER 2\, 20252-5PMSHELLRING ALE WORKS1111 11TH STREETPORT ROYAL SC 29935
URL:https://explorebeaufortsc.com/event/buzz-brews-a-st-baldricks-fundraiser/
LOCATION:1111 11th St\, Port Royal\, SC 29935-2303\, United States\, 1111 11th St\, Port Royal\, SC 29935-2303\, United States
END:VEVENT
END:VCALENDAR