BEGIN:VCALENDAR
VERSION:2.0
PRODID:-//Explore Beaufort SC - ECPv6.15.20//NONSGML v1.0//EN
CALSCALE:GREGORIAN
METHOD:PUBLISH
X-ORIGINAL-URL:https://explorebeaufortsc.com
X-WR-CALDESC:Events for Explore Beaufort SC
REFRESH-INTERVAL;VALUE=DURATION:PT1H
X-Robots-Tag:noindex
X-PUBLISHED-TTL:PT1H
BEGIN:VTIMEZONE
TZID:America/New_York
BEGIN:DAYLIGHT
TZOFFSETFROM:-0500
TZOFFSETTO:-0400
TZNAME:EDT
DTSTART:20240310T070000
END:DAYLIGHT
BEGIN:STANDARD
TZOFFSETFROM:-0400
TZOFFSETTO:-0500
TZNAME:EST
DTSTART:20241103T060000
END:STANDARD
BEGIN:DAYLIGHT
TZOFFSETFROM:-0500
TZOFFSETTO:-0400
TZNAME:EDT
DTSTART:20250309T070000
END:DAYLIGHT
BEGIN:STANDARD
TZOFFSETFROM:-0400
TZOFFSETTO:-0500
TZNAME:EST
DTSTART:20251102T060000
END:STANDARD
BEGIN:DAYLIGHT
TZOFFSETFROM:-0500
TZOFFSETTO:-0400
TZNAME:EDT
DTSTART:20260308T070000
END:DAYLIGHT
BEGIN:STANDARD
TZOFFSETFROM:-0400
TZOFFSETTO:-0500
TZNAME:EST
DTSTART:20261101T060000
END:STANDARD
END:VTIMEZONE
BEGIN:VEVENT
DTSTART;TZID=America/New_York:20251106T000000
DTEND;TZID=America/New_York:20251109T000000
DTSTAMP:20260425T144844
CREATED:20251009T010250Z
LAST-MODIFIED:20251031T145846Z
UID:24626-1762387200-1762646400@explorebeaufortsc.com
SUMMARY:Finding Gullah/Geechee Roots at Heritage Days
DESCRIPTION:Jine we fa a symposium and workshop bout @GullahGeechee genealogy at de “41st Annual @PennCenter Heritage Days Celebration” pun historic St. Helena Island\, SC November 6-9\, 2025. \nwww.PennCenter.comwww.GullahGeecheeNation.com \n#gullahgeechee #genealogy #gullahgeecheenation
URL:https://explorebeaufortsc.com/event/finding-gullah-geechee-roots-at-heritage-days/
LOCATION:Penn Center 16 Penn Center Drive\, Saint Helena Island\, SC\, Penn Center 16 Penn Center Drive\, Saint Helena Island\, SC
END:VEVENT
BEGIN:VEVENT
DTSTART;TZID=America/New_York:20251106T080000
DTEND;TZID=America/New_York:20251108T170000
DTSTAMP:20260425T144844
CREATED:20251005T230404Z
LAST-MODIFIED:20251005T230404Z
UID:24585-1762416000-1762621200@explorebeaufortsc.com
SUMMARY:41st Annual Penn Center Heritage Days Celebration
DESCRIPTION:Penn Center is hosting its annual Heritage Days Celebration for the 41st year. \nBe a part of one of the longest running cultural heritage festivals in the southeastern United States. Join us at the Penn Center National Landmark Historic District in the epicenter of Gullah/Geechee culture on St. Helena Island\, SC in the Gullah/Geechee Nation November 6-8\, 2025.  \nSupport cultural education and continuation through artistic presentations\, workshops\, and performances during this power-filled weekend beneath the majestic oak trees on this rural Sea Island. \nBring family\, friends\, a positive spirit and an open mind as we join together in “Celebrating a Legacy of Culture and Community!” \nhttps://www.eventbrite.com/e/penn-center-heritage-days-celebration-2025-tickets-1625282416459
URL:https://explorebeaufortsc.com/event/41st-annual-penn-center-heritage-days-celebration/
LOCATION:Penn Center\, Saint Helena Island\, SC\, US
ATTACH;FMTTYPE=image/jpeg:https://explorebeaufortsc.com/wp-content/uploads/2025/10/heritagedays2025.jpg
END:VEVENT
BEGIN:VEVENT
DTSTART;TZID=America/New_York:20251107T110000
DTEND;TZID=America/New_York:20251108T160000
DTSTAMP:20260425T144844
CREATED:20251031T145848Z
LAST-MODIFIED:20251031T145848Z
UID:24788-1762513200-1762617600@explorebeaufortsc.com
SUMMARY:Marshview Christmas Open House!
DESCRIPTION:Step into the magic of the season at Marshview Mercantile! 🎄 \n🎅 Santa will be here Saturday 11-2:30!🎁 Secret Santa Spin with a $40 purchase🌲 Exclusive savings on select Christmas 🍷 Sip and Savor tasty treats \nWe can’t wait to celebrate the joy of Christmas with you! ❤️ \n#MarshviewChristmasMagic #ShopLocalBeaufort #HolidayJoy #SipShopCelebrate #ChristmasCheer #ChristmasOpenHouse
URL:https://explorebeaufortsc.com/event/marshview-christmas-open-house/
LOCATION:2631 Boundary St\, Beaufort\, SC\, 2631 Boundary St\, Beaufort\, SC
ORGANIZER;CN="Marshview Mercantile":MAILTO:noreply@facebookmail.com
END:VEVENT
BEGIN:VEVENT
DTSTART;TZID=America/New_York:20251108T090000
DTEND;TZID=America/New_York:20251108T110000
DTSTAMP:20260425T144844
CREATED:20251009T010251Z
LAST-MODIFIED:20251031T145850Z
UID:24629-1762592400-1762599600@explorebeaufortsc.com
SUMMARY:Puppy Plunge
DESCRIPTION:Join us each month until March 2026 for a Puppy Plunge at the Y! \nCost is $10 per pup with all proceeds benefiting the YMCA Learn to Swim program. \nSign up: https://operations.daxko.com/Online/5153/ProgramsV2/Search.mvc?category_ids=TAG15267 \nDATES:October 4November 8December 6January 24February 21March 21 \nTIME:9:00am – 11:00am \nTHANK YOU:Sea Island Animal Hospital for their frisbee donation! \nPlease note that dogs are not allowed in the building or on the indoor pool deck. Dogs will enter through the front gate and be contained safely inside our fenced outside pool deck. Owners must sign a waiver outside the gate before enterting and must always stay with their dogs. Humans are not allowed in the outside pool. \nhttps://www.facebook.com/events/800785236260518/?event_time_id=800785249593850
URL:https://explorebeaufortsc.com/event/puppy-plunge-5/
LOCATION:1801 Richmond Ave\, Port Royal\, SC\, United States\, South Carolina 29935\, 1801 Richmond Ave\, Port Royal\, SC\, United States\, South Carolina 29935
ORGANIZER;CN="Wardle Family YMCA":MAILTO:noreply@facebookmail.com
END:VEVENT
BEGIN:VEVENT
DTSTART;TZID=America/New_York:20251108T100000
DTEND;TZID=America/New_York:20251108T140000
DTSTAMP:20260425T144844
CREATED:20251031T145851Z
LAST-MODIFIED:20251031T145851Z
UID:24795-1762596000-1762610400@explorebeaufortsc.com
SUMMARY:2nd Saturday Shop & Stroll
DESCRIPTION:The Shops of Paris Ave Present: 2nd Saturday Shop & Stroll \nGather\, Stroll\, and Shop the Heart of Port Royal—Meet Your Neighbors\, Support Local\, Love Where You Live \nParticipating Shops Include:Mrs B & CompanyThe Arts / Stone Wilson GalleryPort Royal Wellness CollectiveMayard’s Ice CreamGG’s Restaurant & BarJennifer JL Jones Fine ArtWindhorse ~ Gallery & MarketplaceNuancesZen DenThe Gas LanternEffervescence Yoga & Spa \nhttps://www.facebook.com/events/1436426397586085/?event_time_id=1436426400919418
URL:https://explorebeaufortsc.com/event/2nd-saturday-shop-stroll-2/
LOCATION:809 Paris Ave\, Port Royal\, SC\, United States\, South Carolina\, 809 Paris Ave\, Port Royal\, SC\, United States\, South Carolina
ORGANIZER;CN="Windhorse Gallery & Marketplace":MAILTO:noreply@facebookmail.com
END:VEVENT
BEGIN:VEVENT
DTSTART;TZID=America/New_York:20251108T163000
DTEND;TZID=America/New_York:20251108T180000
DTSTAMP:20260425T144844
CREATED:20250806T204354Z
LAST-MODIFIED:20251031T145851Z
UID:23943-1762619400-1762624800@explorebeaufortsc.com
SUMMARY:FREE Master Naturalist Tour
DESCRIPTION:Take a tour of the Port Royal Cypress Wetlands with Master Naturalist Jill Moore. Jill\, a certified master naturalist and founder of Moore2Life\, provides nature-based programs to local residents\, communities and tourists here in the magnificent Lowcountry – a setting unlike any place on Earth. With research showing that people function best when they have access to and a connection with nature\, Jill is committed to helping people discover a passion and appreciation for the unique area that surrounds us. \nTours are free to the public! Please RSVP here: https://friendsofportroyalcypresswetlands.org/tours/  \nhttps://www.facebook.com/events/31142091905389266/?event_time_id=31142158162049307
URL:https://explorebeaufortsc.com/event/free-master-naturalist-tour-14/
LOCATION:1700 Paris Ave\, Port Royal\, SC\, United States\, South Carolina 29935\, 1700 Paris Ave\, Port Royal\, SC\, United States\, South Carolina 29935
ORGANIZER;CN="Friends of Port Royal Cypress Wetlands":MAILTO:noreply@facebookmail.com
END:VEVENT
END:VCALENDAR