BEGIN:VCALENDAR
VERSION:2.0
PRODID:-//Explore Beaufort SC - ECPv6.15.20//NONSGML v1.0//EN
CALSCALE:GREGORIAN
METHOD:PUBLISH
X-ORIGINAL-URL:https://explorebeaufortsc.com
X-WR-CALDESC:Events for Explore Beaufort SC
REFRESH-INTERVAL;VALUE=DURATION:PT1H
X-Robots-Tag:noindex
X-PUBLISHED-TTL:PT1H
BEGIN:VTIMEZONE
TZID:America/New_York
BEGIN:DAYLIGHT
TZOFFSETFROM:-0500
TZOFFSETTO:-0400
TZNAME:EDT
DTSTART:20240310T070000
END:DAYLIGHT
BEGIN:STANDARD
TZOFFSETFROM:-0400
TZOFFSETTO:-0500
TZNAME:EST
DTSTART:20241103T060000
END:STANDARD
BEGIN:DAYLIGHT
TZOFFSETFROM:-0500
TZOFFSETTO:-0400
TZNAME:EDT
DTSTART:20250309T070000
END:DAYLIGHT
BEGIN:STANDARD
TZOFFSETFROM:-0400
TZOFFSETTO:-0500
TZNAME:EST
DTSTART:20251102T060000
END:STANDARD
BEGIN:DAYLIGHT
TZOFFSETFROM:-0500
TZOFFSETTO:-0400
TZNAME:EDT
DTSTART:20260308T070000
END:DAYLIGHT
BEGIN:STANDARD
TZOFFSETFROM:-0400
TZOFFSETTO:-0500
TZNAME:EST
DTSTART:20261101T060000
END:STANDARD
END:VTIMEZONE
BEGIN:VEVENT
DTSTART;TZID=America/New_York:20251111T100000
DTEND;TZID=America/New_York:20251111T120000
DTSTAMP:20260425T181253
CREATED:20251001T231230Z
LAST-MODIFIED:20251031T145856Z
UID:24549-1762855200-1762862400@explorebeaufortsc.com
SUMMARY:Beaufort County Annual Veterans Day Parade
DESCRIPTION:ANNUAL VETERANS DAY PARADETuesday\, November 11\, 2025 \nBeaufort County Veterans Affairs is hosting the annual Veterans Day Parade Tuesday\, November 11\, beginning at 10 a.m.  \nThe parade will kick off promptly at 10 a.m. in front of Beaufort National Cemetery. \nAll are welcome to attend and local service organizations\, school groups\, bands\, children’s groups and others are welcome to attend.
URL:https://explorebeaufortsc.com/event/beaufort-county-annual-veterans-day-parade/
LOCATION:Down Town Beaufort\, South Carolina\, Down Town Beaufort\, South Carolina
END:VEVENT
BEGIN:VEVENT
DTSTART;TZID=America/New_York:20251111T100000
DTEND;TZID=America/New_York:20251111T100000
DTSTAMP:20260425T181253
CREATED:20250904T171738Z
LAST-MODIFIED:20250904T171738Z
UID:24260-1762855200-1762855200@explorebeaufortsc.com
SUMMARY:Annual Beaufort Veterans Day Parade
DESCRIPTION:Beaufort County Veterans Affairs invites the entire community to participate in the parade and say thank you to our veterans. The parade will be held Tuesday\, November 11\, beginning at 10 a.m. \nLineup of all groups\, floats and individual participants begins at 8:00 a.m. on Adventure Street. \nThe parade route starts in front of Beaufort National Cemetery\, will head down Boundary Street\, curve onto Bay Street\, and end at the intersection of Boundary and Bladen Streets. \nParticipants can find application on the County website. Click here to download the application or scan the QR code in the parade flyer. \nEvery community group\, children’s group\, civic organization\, and community member is encouraged to show their community spirit and our veterans how much they are appreciated. \nThe final deadline to submit parade applications is Friday\, October 31. \nIn case of inclement weather\, the parade will be canceled. \nFor more information\, contact Beaufort County Veterans Affairs at 843-255-6880.
URL:https://explorebeaufortsc.com/event/annual-beaufort-veterans-day-parade-2/
LOCATION:Downtown Beaufort\, Bay Street\, Beaufort\, SC\, United States
ATTACH;FMTTYPE=image/jpeg:https://explorebeaufortsc.com/wp-content/uploads/2025/09/veteransdayparade.jpg
END:VEVENT
END:VCALENDAR