BEGIN:VCALENDAR
VERSION:2.0
PRODID:-//Explore Beaufort SC - ECPv6.15.20//NONSGML v1.0//EN
CALSCALE:GREGORIAN
METHOD:PUBLISH
X-ORIGINAL-URL:https://explorebeaufortsc.com
X-WR-CALDESC:Events for Explore Beaufort SC
REFRESH-INTERVAL;VALUE=DURATION:PT1H
X-Robots-Tag:noindex
X-PUBLISHED-TTL:PT1H
BEGIN:VTIMEZONE
TZID:America/New_York
BEGIN:DAYLIGHT
TZOFFSETFROM:-0500
TZOFFSETTO:-0400
TZNAME:EDT
DTSTART:20240310T070000
END:DAYLIGHT
BEGIN:STANDARD
TZOFFSETFROM:-0400
TZOFFSETTO:-0500
TZNAME:EST
DTSTART:20241103T060000
END:STANDARD
BEGIN:DAYLIGHT
TZOFFSETFROM:-0500
TZOFFSETTO:-0400
TZNAME:EDT
DTSTART:20250309T070000
END:DAYLIGHT
BEGIN:STANDARD
TZOFFSETFROM:-0400
TZOFFSETTO:-0500
TZNAME:EST
DTSTART:20251102T060000
END:STANDARD
BEGIN:DAYLIGHT
TZOFFSETFROM:-0500
TZOFFSETTO:-0400
TZNAME:EDT
DTSTART:20260308T070000
END:DAYLIGHT
BEGIN:STANDARD
TZOFFSETFROM:-0400
TZOFFSETTO:-0500
TZNAME:EST
DTSTART:20261101T060000
END:STANDARD
END:VTIMEZONE
BEGIN:VEVENT
DTSTART;TZID=America/New_York:20251112T183000
DTEND;TZID=America/New_York:20251112T203000
DTSTAMP:20260425T194205
CREATED:20250913T011150Z
LAST-MODIFIED:20251031T145857Z
UID:24369-1762972200-1762979400@explorebeaufortsc.com
SUMMARY:SOLD OUT Beginner Sushi Class - Port Royal\, SC
DESCRIPTION:We’ve been teaching since 2011 and have had over 16k ppl take the class in 18 states.Join local chef Justin Patton and you’ll learn how to make perfect sushi rice\, all the sauces you love at the sushi bar\, where to shop/what to buy\, and how to safely and confidently serve raw fish at home. You’ll be served a snack by the chef upon arrival\, and you’ll make your very own sushi roll near the end of class. Chef will email you a cheat sheet of notes after class with tips\, tricks & recipes included
URL:https://explorebeaufortsc.com/event/beginner-sushi-class-port-royal-sc-3/
LOCATION:Shellring Ale Works\, 1111 11th street\, Port Royal\, SC\, 29935\, US
ORGANIZER;CN="Birmingham Sushi Class":MAILTO:noreply@facebookmail.com
END:VEVENT
END:VCALENDAR