BEGIN:VCALENDAR
VERSION:2.0
PRODID:-//Explore Beaufort SC - ECPv6.15.20//NONSGML v1.0//EN
CALSCALE:GREGORIAN
METHOD:PUBLISH
X-WR-CALNAME:Explore Beaufort SC
X-ORIGINAL-URL:https://explorebeaufortsc.com
X-WR-CALDESC:Events for Explore Beaufort SC
REFRESH-INTERVAL;VALUE=DURATION:PT1H
X-Robots-Tag:noindex
X-PUBLISHED-TTL:PT1H
BEGIN:VTIMEZONE
TZID:America/New_York
BEGIN:DAYLIGHT
TZOFFSETFROM:-0500
TZOFFSETTO:-0400
TZNAME:EDT
DTSTART:20240310T070000
END:DAYLIGHT
BEGIN:STANDARD
TZOFFSETFROM:-0400
TZOFFSETTO:-0500
TZNAME:EST
DTSTART:20241103T060000
END:STANDARD
BEGIN:DAYLIGHT
TZOFFSETFROM:-0500
TZOFFSETTO:-0400
TZNAME:EDT
DTSTART:20250309T070000
END:DAYLIGHT
BEGIN:STANDARD
TZOFFSETFROM:-0400
TZOFFSETTO:-0500
TZNAME:EST
DTSTART:20251102T060000
END:STANDARD
BEGIN:DAYLIGHT
TZOFFSETFROM:-0500
TZOFFSETTO:-0400
TZNAME:EDT
DTSTART:20260308T070000
END:DAYLIGHT
BEGIN:STANDARD
TZOFFSETFROM:-0400
TZOFFSETTO:-0500
TZNAME:EST
DTSTART:20261101T060000
END:STANDARD
END:VTIMEZONE
BEGIN:VEVENT
DTSTART;TZID=America/New_York:20251113T180000
DTEND;TZID=America/New_York:20251113T193000
DTSTAMP:20260425T144623
CREATED:20250904T171041Z
LAST-MODIFIED:20251031T145859Z
UID:24254-1763056800-1763062200@explorebeaufortsc.com
SUMMARY:Virtual Open Mic Night -- Featuring Devreaux Baker\, Willie Morris Award for Southern Poetry Winner
DESCRIPTION:The Pat Conroy Literary Center’s monthly Open Mic Night will be presented as a virtual event\, live-streamed to our Facebook page\, on Thursday\, November 13\, from 6:00 to 7:30 p.m. Our featured presenter is poet Devreaux Baker\, winner of the 2025 Willie Morris Award for Southern Poetry. Open Mic will also feature short readings of 3 to 5 minutes each by other writers in many genres\, with host Melissa Whiteford St. Clair.  \nInterested in reading as part of virtual Open Mic? Let us know at contact@patconroyliterarycenter.org. \nAbout Our Featured Author:Devreaux Baker is a poet who lives on the Mendocino Coast in Northern California. Her awards include the 2025 Willie Morris Award for Southern Poetry; 2024 Barbara Mandigo Kelly Peace Poetry Prize\, from the Nuclear Age Peace Foundation; 2022 Fischer International Poetry Prize; 2019 Barbara Mandigo Kelly Peace Poetry Prize; 2017 Joe Gouveia Outermost National Poetry Prize; the 2014 Barbara Mandigo Kelly Peace Poetry Prize; the 2012 Hawaii Council on Humanities International Poetry Prize; the 2011 PEN/Oakland Josephine Miles Poetry Award; and the 2010 Women’s Global Leadership Poetry Prize. She is a Fellow at the Macdowell Colony\, the Hawthornden Castle\, and the Helene Wurlitzer Foundation. Her published books of poetry include Hungry Ghosts\, out of the bones of earth\, Red Willow People\, Beyond the Circumstance of Sight\, and LIGHT AT THE EDGE. She is the first Poet Laureate of Mendocino County. \n“Devreaux Baker’s contemplation of the blues and its artists is beautifully achieved in her poem ‘Blue Requiem\,’…Her readers are reminded of history and the many voices in its chorus.”–Susan Kinsolving\, judge\, Willie Morris Award for Southern Poetry  \n“A deep wisdom runs throughout Devreaux Baker’s work–a reminder that we are not merely connected to nature\, but that we are part of nature itself.”–Katherine Hastings\, USA Today bestselling author
URL:https://explorebeaufortsc.com/event/virtual-open-mic-night-featuring-devreaux-baker-willie-morris-award-for-southern-poetry-winner/
LOCATION:601 Bladen Street\, Beaufort\, SC\, United States\, South Carolina 29902\, 601 Bladen Street\, Beaufort\, SC\, United States\, South Carolina 29902
ORGANIZER;CN="Pat Conroy Literary Center":MAILTO:noreply@facebookmail.com
END:VEVENT
BEGIN:VEVENT
DTSTART;TZID=America/New_York:20251113T183000
DTEND;TZID=America/New_York:20251113T203000
DTSTAMP:20260425T144623
CREATED:20251031T145900Z
LAST-MODIFIED:20251031T145900Z
UID:24800-1763058600-1763065800@explorebeaufortsc.com
SUMMARY:Beginner Sushi Class - Port Royal\, SC
DESCRIPTION:We’ve been teaching since 2011 and have had over 16k ppl take the class in 18 states.Join local chef Justin Patton and you’ll learn how to make perfect sushi rice\, all the sauces you love at the sushi bar\, where to shop/what to buy\, and how to safely and confidently serve raw fish at home. You’ll be served a snack by the chef upon arrival\, and you’ll make your very own sushi roll near the end of class. Chef will email you a cheat sheet of notes after class with tips\, tricks & recipes included
URL:https://explorebeaufortsc.com/event/beginner-sushi-class-port-royal-sc-4/
LOCATION:Shellring Ale Works\, 1111 11th street\, Port Royal\, SC\, 29935\, US
ORGANIZER;CN="Birmingham Sushi Class":MAILTO:noreply@facebookmail.com
END:VEVENT
END:VCALENDAR