BEGIN:VCALENDAR
VERSION:2.0
PRODID:-//Explore Beaufort SC - ECPv6.15.20//NONSGML v1.0//EN
CALSCALE:GREGORIAN
METHOD:PUBLISH
X-WR-CALNAME:Explore Beaufort SC
X-ORIGINAL-URL:https://explorebeaufortsc.com
X-WR-CALDESC:Events for Explore Beaufort SC
REFRESH-INTERVAL;VALUE=DURATION:PT1H
X-Robots-Tag:noindex
X-PUBLISHED-TTL:PT1H
BEGIN:VTIMEZONE
TZID:America/New_York
BEGIN:DAYLIGHT
TZOFFSETFROM:-0500
TZOFFSETTO:-0400
TZNAME:EDT
DTSTART:20240310T070000
END:DAYLIGHT
BEGIN:STANDARD
TZOFFSETFROM:-0400
TZOFFSETTO:-0500
TZNAME:EST
DTSTART:20241103T060000
END:STANDARD
BEGIN:DAYLIGHT
TZOFFSETFROM:-0500
TZOFFSETTO:-0400
TZNAME:EDT
DTSTART:20250309T070000
END:DAYLIGHT
BEGIN:STANDARD
TZOFFSETFROM:-0400
TZOFFSETTO:-0500
TZNAME:EST
DTSTART:20251102T060000
END:STANDARD
BEGIN:DAYLIGHT
TZOFFSETFROM:-0500
TZOFFSETTO:-0400
TZNAME:EDT
DTSTART:20260308T070000
END:DAYLIGHT
BEGIN:STANDARD
TZOFFSETFROM:-0400
TZOFFSETTO:-0500
TZNAME:EST
DTSTART:20261101T060000
END:STANDARD
END:VTIMEZONE
BEGIN:VEVENT
DTSTART;TZID=America/New_York:20251119T170000
DTEND;TZID=America/New_York:20251119T190000
DTSTAMP:20260425T144622
CREATED:20251116T174508Z
LAST-MODIFIED:20251120T134324Z
UID:24887-1763571600-1763578800@explorebeaufortsc.com
SUMMARY:Celadon Club Sip and Shop
DESCRIPTION:Come join us for our annual Spa Sip and Shop. Enjoy the club all dressed up with decor by Farmcity Flowers and check off your list while you enjoy\, exclusive deals\, holiday nibbles and some bubbly! \nCome get into the Holiday spirit with us!RSVP to rsvp@celadonclub.com
URL:https://explorebeaufortsc.com/event/celadon-club-sip-and-shop/
LOCATION:61 Celadon Drive\, Beaufort\, SC\, 61 Celadon Drive\, Beaufort\, SC
ORGANIZER;CN="Celadon Club Wellness Center":MAILTO:noreply@facebookmail.com
END:VEVENT
BEGIN:VEVENT
DTSTART;TZID=America/New_York:20251119T173000
DTEND;TZID=America/New_York:20251119T200000
DTSTAMP:20260425T144622
CREATED:20251031T160928Z
LAST-MODIFIED:20251031T160928Z
UID:24819-1763573400-1763582400@explorebeaufortsc.com
SUMMARY:Chunky Blanket Workshop at Marshview Mercantile
DESCRIPTION:Chunky Blanket Workshop!\nGet ready for sweater weather with a handmade chunky blanket! Join our Chunky Blanket Workshop and create a luxuriously soft 40” x 50” blanket—no knitting or crochet involved. You’ll leave with a snuggly masterpiece\, perfect for chilly nights and movie marathons.\n\nNov. 19\,  5:30-8pm\nMarshview Mercantile\, 2631 Boundary Street\, Beaufort\nRegister: \nhttps://marshviewmercantile.commentsold.com/products/chunky-blanket-workshop?variant=8998
URL:https://explorebeaufortsc.com/event/chunky-blanket-workshop-at-marshview-mercantile/
LOCATION:Marshview Mercantile\, 2631 Boundary St\, Beaufort\, SC\, 29906\, US
ATTACH;FMTTYPE=image/jpeg:https://explorebeaufortsc.com/wp-content/uploads/2025/10/marshviewblanket.jpg
END:VEVENT
BEGIN:VEVENT
DTSTART;TZID=America/New_York:20251119T180000
DTEND;TZID=America/New_York:20251119T193000
DTSTAMP:20260425T144622
CREATED:20250806T204355Z
LAST-MODIFIED:20251116T174508Z
UID:23945-1763575200-1763580600@explorebeaufortsc.com
SUMMARY:FREE Master Naturalist Tour
DESCRIPTION:Take a tour of the Port Royal Cypress Wetlands with Master Naturalist Jill Moore. Jill\, a certified master naturalist and founder of Moore2Life\, provides nature-based programs to local residents\, communities and tourists here in the magnificent Lowcountry – a setting unlike any place on Earth. With research showing that people function best when they have access to and a connection with nature\, Jill is committed to helping people discover a passion and appreciation for the unique area that surrounds us. \nTours are free to the public! Please RSVP here: https://friendsofportroyalcypresswetlands.org/tours/  \nhttps://www.facebook.com/events/31142091905389266/?event_time_id=31142158165382640
URL:https://explorebeaufortsc.com/event/free-master-naturalist-tour-15/
LOCATION:1700 Paris Ave\, Port Royal\, SC\, United States\, South Carolina 29935\, 1700 Paris Ave\, Port Royal\, SC\, United States\, South Carolina 29935
ORGANIZER;CN="Friends of Port Royal Cypress Wetlands":MAILTO:noreply@facebookmail.com
END:VEVENT
END:VCALENDAR