BEGIN:VCALENDAR
VERSION:2.0
PRODID:-//Explore Beaufort SC - ECPv6.15.20//NONSGML v1.0//EN
CALSCALE:GREGORIAN
METHOD:PUBLISH
X-ORIGINAL-URL:https://explorebeaufortsc.com
X-WR-CALDESC:Events for Explore Beaufort SC
REFRESH-INTERVAL;VALUE=DURATION:PT1H
X-Robots-Tag:noindex
X-PUBLISHED-TTL:PT1H
BEGIN:VTIMEZONE
TZID:America/New_York
BEGIN:DAYLIGHT
TZOFFSETFROM:-0500
TZOFFSETTO:-0400
TZNAME:EDT
DTSTART:20240310T070000
END:DAYLIGHT
BEGIN:STANDARD
TZOFFSETFROM:-0400
TZOFFSETTO:-0500
TZNAME:EST
DTSTART:20241103T060000
END:STANDARD
BEGIN:DAYLIGHT
TZOFFSETFROM:-0500
TZOFFSETTO:-0400
TZNAME:EDT
DTSTART:20250309T070000
END:DAYLIGHT
BEGIN:STANDARD
TZOFFSETFROM:-0400
TZOFFSETTO:-0500
TZNAME:EST
DTSTART:20251102T060000
END:STANDARD
BEGIN:DAYLIGHT
TZOFFSETFROM:-0500
TZOFFSETTO:-0400
TZNAME:EDT
DTSTART:20260308T070000
END:DAYLIGHT
BEGIN:STANDARD
TZOFFSETFROM:-0400
TZOFFSETTO:-0500
TZNAME:EST
DTSTART:20261101T060000
END:STANDARD
END:VTIMEZONE
BEGIN:VEVENT
DTSTART;TZID=America/New_York:20251120T170000
DTEND;TZID=America/New_York:20251120T190000
DTSTAMP:20260425T144821
CREATED:20251116T174508Z
LAST-MODIFIED:20251120T134324Z
UID:24889-1763658000-1763665200@explorebeaufortsc.com
SUMMARY:Higher Ground Holiday Happy Hour
DESCRIPTION:🎄Stoke Vibes & Stock Up for Holidays at Higher Ground ✨🏄 \nJoin us Thursday\, November 20th from 5 to 7 PM for a festive evening of fun\, snacks\, and shopping!  \nMaking your holiday shopping easier: chill with us: outdoor gifts\, apparel\, and 🛥️accessories\, easily and quickly.  \nEnjoy holiday cheer & giveaways while you shop locally and check off your holiday shopping list.  \n📍 Higher Ground\, 95 Factory Creek\, Beaufort\, SC 🕔 Thursday\, Nov 20 | 5–7 PM🎁 Outdoor gifts\, apparel & accessories | Snacks & giveaways | Local shopping made simple \n#ShopLocal #HolidayShopping #HigherGround #OutdoorGifts #SupportLocal #BeaufortSC #AdventureAwaits #getoutdoors #LUVBFT
URL:https://explorebeaufortsc.com/event/higher-ground-holiday-happy-hour/
LOCATION:95 Factory Creek Ct.\, Beaufort\, SC\, 95 Factory Creek Ct.\, Beaufort\, SC
END:VEVENT
END:VCALENDAR