BEGIN:VCALENDAR
VERSION:2.0
PRODID:-//Explore Beaufort SC - ECPv6.15.20//NONSGML v1.0//EN
CALSCALE:GREGORIAN
METHOD:PUBLISH
X-ORIGINAL-URL:https://explorebeaufortsc.com
X-WR-CALDESC:Events for Explore Beaufort SC
REFRESH-INTERVAL;VALUE=DURATION:PT1H
X-Robots-Tag:noindex
X-PUBLISHED-TTL:PT1H
BEGIN:VTIMEZONE
TZID:America/New_York
BEGIN:DAYLIGHT
TZOFFSETFROM:-0500
TZOFFSETTO:-0400
TZNAME:EDT
DTSTART:20240310T070000
END:DAYLIGHT
BEGIN:STANDARD
TZOFFSETFROM:-0400
TZOFFSETTO:-0500
TZNAME:EST
DTSTART:20241103T060000
END:STANDARD
BEGIN:DAYLIGHT
TZOFFSETFROM:-0500
TZOFFSETTO:-0400
TZNAME:EDT
DTSTART:20250309T070000
END:DAYLIGHT
BEGIN:STANDARD
TZOFFSETFROM:-0400
TZOFFSETTO:-0500
TZNAME:EST
DTSTART:20251102T060000
END:STANDARD
BEGIN:DAYLIGHT
TZOFFSETFROM:-0500
TZOFFSETTO:-0400
TZNAME:EDT
DTSTART:20260308T070000
END:DAYLIGHT
BEGIN:STANDARD
TZOFFSETFROM:-0400
TZOFFSETTO:-0500
TZNAME:EST
DTSTART:20261101T060000
END:STANDARD
END:VTIMEZONE
BEGIN:VEVENT
DTSTART;TZID=America/New_York:20251123T110000
DTEND;TZID=America/New_York:20251123T150000
DTSTAMP:20260425T144823
CREATED:20251031T145912Z
LAST-MODIFIED:20251120T134325Z
UID:24807-1763895600-1763910000@explorebeaufortsc.com
SUMMARY:Beaufort Homes for the Holidays - Sunday Tour
DESCRIPTION:Experience the “WOW” Factor for Holiday Design!Join us for a walking tour of seven incredible homes located in Celadon\, a beautifully designed\, engaging\, front porch community located on Lady’s Island. These inviting homes offer a refreshing twist on a traditional walking neighborhood – all professionally decorated for the holidays by local designers and talented artists. Get inspired with new and exciting ideas for your own holiday magic!
URL:https://explorebeaufortsc.com/event/beaufort-homes-for-the-holidays-sunday-tour/
LOCATION:Celadon Dr\, Beaufort\, SC 29907\, United States\, Celadon Dr\, Beaufort\, SC 29907\, United States
ORGANIZER;CN="Beaufort Homes for the Holidays%2C SC":MAILTO:noreply@facebookmail.com
END:VEVENT
BEGIN:VEVENT
DTSTART;TZID=America/New_York:20251123T110000
DTEND;TZID=America/New_York:20251123T140000
DTSTAMP:20260425T144823
CREATED:20251116T174509Z
LAST-MODIFIED:20251120T134325Z
UID:24901-1763895600-1763906400@explorebeaufortsc.com
SUMMARY:TURKEY BURN PADDLE
DESCRIPTION:Join us for our 2nd annual Turkey Burn Paddle!! We did this paddle last year beginning at the dock in between the fillin station and white hall boat landing. We paddled down the rive and around that marsh area there and it was a really good workout!! I will attach the course route in the comments below. Please be there early enough to set up and be on the water by 11.Dont forget your safety equiptment\, fins\, paddles\, and bringing water is always reccomended.
URL:https://explorebeaufortsc.com/event/turkey-burn-paddle/
LOCATION:Whitehall\, Beaufort\, SC 29907\, United States\, Whitehall\, Beaufort\, SC 29907\, United States
END:VEVENT
BEGIN:VEVENT
DTSTART;TZID=America/New_York:20251123T120000
DTEND;TZID=America/New_York:20251123T160000
DTSTAMP:20260425T144823
CREATED:20251120T141405Z
LAST-MODIFIED:20251120T141405Z
UID:25028-1763899200-1763913600@explorebeaufortsc.com
SUMMARY:Pre-Holiday Picnic at Marshview Mercantile
DESCRIPTION:Before you stuff yourself with turkey\, stuffing\, and 37 casseroles…\ncome “warm up” at a pre-holiday picnic at Marshview Mercantile.\nSunday\, November 23rd\n12pm to 4pm \n Lobster Dog Food Truck\nMeg’s Sweet Treats – dessert is absolutely not optional\nMarshview Mercantile – Free ice-cold lemonade or tea to top it off \nBring a friend\, grab a picnic-style bite\, and enjoy something a little different before turkey takes over your life.
URL:https://explorebeaufortsc.com/event/pre-holiday-picnic-at-marshview-mercantile/
LOCATION:Marshview Mercantile\, 2631 Boundary St\, Beaufort\, SC\, 29906\, US
ATTACH;FMTTYPE=image/jpeg:https://explorebeaufortsc.com/wp-content/uploads/2025/11/marshviewholidaypicnic.jpg
END:VEVENT
BEGIN:VEVENT
DTSTART;TZID=America/New_York:20251123T150000
DTEND;TZID=America/New_York:20251123T170000
DTSTAMP:20260425T144823
CREATED:20251116T174509Z
LAST-MODIFIED:20251120T134325Z
UID:24905-1763910000-1763917200@explorebeaufortsc.com
SUMMARY:Children’s Christmas Market at Battery Point
DESCRIPTION:Join us for a festive Children’s Christmas Market at Battery Point this holiday season! Young creators are invited to become vendors for FREE— an exciting opportunity to design\, price\, and sell their own handmade items. We’d love for children to participate as vendors\, but also welcome everyone to come shop and support these young entrepreneurs. It’s a joyful and creative way to celebrate the spirit of Christmas together!
URL:https://explorebeaufortsc.com/event/childrens-christmas-market-at-battery-point/
LOCATION:37 Petigru Dr\, Beaufort\, SC 29902-5288\, United States\, 37 Petigru Dr\, Beaufort\, SC 29902-5288\, United States
END:VEVENT
END:VCALENDAR