BEGIN:VCALENDAR
VERSION:2.0
PRODID:-//Explore Beaufort SC - ECPv6.15.20//NONSGML v1.0//EN
CALSCALE:GREGORIAN
METHOD:PUBLISH
X-ORIGINAL-URL:https://explorebeaufortsc.com
X-WR-CALDESC:Events for Explore Beaufort SC
REFRESH-INTERVAL;VALUE=DURATION:PT1H
X-Robots-Tag:noindex
X-PUBLISHED-TTL:PT1H
BEGIN:VTIMEZONE
TZID:America/New_York
BEGIN:DAYLIGHT
TZOFFSETFROM:-0500
TZOFFSETTO:-0400
TZNAME:EDT
DTSTART:20240310T070000
END:DAYLIGHT
BEGIN:STANDARD
TZOFFSETFROM:-0400
TZOFFSETTO:-0500
TZNAME:EST
DTSTART:20241103T060000
END:STANDARD
BEGIN:DAYLIGHT
TZOFFSETFROM:-0500
TZOFFSETTO:-0400
TZNAME:EDT
DTSTART:20250309T070000
END:DAYLIGHT
BEGIN:STANDARD
TZOFFSETFROM:-0400
TZOFFSETTO:-0500
TZNAME:EST
DTSTART:20251102T060000
END:STANDARD
BEGIN:DAYLIGHT
TZOFFSETFROM:-0500
TZOFFSETTO:-0400
TZNAME:EDT
DTSTART:20260308T070000
END:DAYLIGHT
BEGIN:STANDARD
TZOFFSETFROM:-0400
TZOFFSETTO:-0500
TZNAME:EST
DTSTART:20261101T060000
END:STANDARD
END:VTIMEZONE
BEGIN:VEVENT
DTSTART;TZID=America/New_York:20251128T090000
DTEND;TZID=America/New_York:20251129T180000
DTSTAMP:20260425T144738
CREATED:20251116T174509Z
LAST-MODIFIED:20251125T154415Z
UID:24907-1764320400-1764439200@explorebeaufortsc.com
SUMMARY:Black Friday & SBS 2025
DESCRIPTION:After you eat all the turkey\, come see us on Black Friday & Small Business Saturday! We’ll have lots of goodies\, deals\, and great gifts for everyone on your list!
URL:https://explorebeaufortsc.com/event/black-friday-sbs-2025/
LOCATION:917 Bay St\, Beaufort\, SC\, 917 Bay St\, Beaufort\, SC
ORGANIZER;CN="Lulu Burgess Beaufort":MAILTO:noreply@facebookmail.com
END:VEVENT
BEGIN:VEVENT
DTSTART;TZID=America/New_York:20251129T100000
DTEND;TZID=America/New_York:20251129T160000
DTSTAMP:20260425T144738
CREATED:20250825T211233Z
LAST-MODIFIED:20251125T154415Z
UID:24165-1764410400-1764432000@explorebeaufortsc.com
SUMMARY:Christmas at the Beach Shopping Event
DESCRIPTION:We are fully booked for our very first Christmas at the Beach Winter shopping event ! 🏝️🎄
URL:https://explorebeaufortsc.com/event/christmas-at-the-beach-shopping-event/
LOCATION:Gay Fish Co.\, Gay Fish Co.
ORGANIZER;CN="Gay Fish Company":MAILTO:noreply@facebookmail.com
END:VEVENT
BEGIN:VEVENT
DTSTART;TZID=America/New_York:20251129T110000
DTEND;TZID=America/New_York:20251129T140000
DTSTAMP:20260425T144738
CREATED:20251120T141039Z
LAST-MODIFIED:20251120T141039Z
UID:25025-1764414000-1764424800@explorebeaufortsc.com
SUMMARY:Body Scrub Blend Bar Class at Marshview Mercantile
DESCRIPTION:Join us at Marshview Mercantile for a Body Scrub Blend Bar class led by Cari Phelps\, founder of @salaciasalts — a women-owned\, small-batch beauty brand featured by Vogue\, BuzzFeed\, and USA Today.\nCreate your own custom body scrub with your choice of fragrances\, natural botanicals\, sugars\, and Atlantic sea salts.\nSaturday\, Nov. 29\nDrop in between 11–2. $12.\nReserve your spot today: \nhttps://marshviewmercantile.commentsold.com/products/body-scrub-blend-bar?variant=9129
URL:https://explorebeaufortsc.com/event/body-scrub-blend-bar-class-at-marshview-mercantile/
LOCATION:Marshview Mercantile\, 2631 Boundary St\, Beaufort\, SC\, 29906\, US
ATTACH;FMTTYPE=image/jpeg:https://explorebeaufortsc.com/wp-content/uploads/2025/11/marshviewbodyscrub.jpg
END:VEVENT
BEGIN:VEVENT
DTSTART;TZID=America/New_York:20251129T160000
DTEND;TZID=America/New_York:20251129T183000
DTSTAMP:20260425T144738
CREATED:20251031T145915Z
LAST-MODIFIED:20251125T154415Z
UID:24808-1764432000-1764441000@explorebeaufortsc.com
SUMMARY:Ceramic Paint and Sip at RLB
DESCRIPTION:🎄 Ceramic Paint & Sip Workshop – Holiday Edition! 🍷🎨 \n‘Tis the season to get creative! Join us for a festive Paint & Sip where you’ll hand-paint your choice of adorable holiday ceramics — think Christmas trees\, snowmen\, gnomes\, and vintage trucks all ready for a cheerful makeover. \n𝗡𝗢𝗧𝗘: 𝗜𝗻 𝗼𝗿𝗱𝗲𝗿 𝗳𝗼𝗿 𝘆𝗼𝘂 𝘁𝗼 𝗽𝗶𝗰𝗸 𝘆𝗼𝘂𝗿 𝗱𝗲𝘀𝗶𝗴𝗻 (𝗲𝘀𝗽𝗲𝗰𝗶𝗮𝗹𝗹𝘆 𝗶𝗳 𝘆𝗼𝘂 𝘄𝗮𝗻𝘁 𝘁𝗼 𝗺𝗮𝗸𝗲 𝗮 𝗖𝗵𝗿𝗶𝘀𝘁𝗺𝗮𝘀 𝗧𝗿𝗲𝗲!)\, 𝘆𝗼𝘂 𝘄𝗶𝗹𝗹 𝗻𝗲𝗲𝗱 𝘁𝗼 𝗯𝗼𝗼𝗸 𝗯𝘆 𝗡𝗢𝗩𝗘𝗠𝗕𝗘𝗥 𝟰𝘁𝗵!! 𝗔𝗳𝘁𝗲𝗿 𝘁𝗵𝗮𝘁\, 𝗶𝘁 𝗶𝘀 𝗳𝗶𝗿𝘀𝘁 𝗰𝗼𝗺𝗲 𝗳𝗶𝗿𝘀𝘁 𝘀𝗲𝗿𝘃𝗲! \nWe’ll provide everything you need: paints\, brushes\, and plenty of holiday spirit. Sip your favorite RLB beverage\, enjoy some good company\, and bring your creativity to life with glitter\, color\, and charm. Perfect for a girls’ night out\, date night\, or holiday get-together! \nNo experience needed — just come ready to relax\, laugh\, and create your own merry masterpiece. You’ll leave with a beautiful\, hand-painted ceramic that’s perfect for gifting or decorating your home for the holidays. \n✨ Cheers\, paint\, and be merry! ✨ \n**Pre-register online\, Charcuterie boxes available for pre-order. Anyone under 21 welcome\, in the company of a responsible adult.
URL:https://explorebeaufortsc.com/event/ceramic-paint-and-sip/
LOCATION:2139 Boundary Street Unit 102\, Beaufort\, SC\, United States\, South Carolina 29902\, 2139 Boundary Street Unit 102\, Beaufort\, SC\, United States\, South Carolina 29902
ORGANIZER;CN="Rotten Little Bastard Distillery":MAILTO:noreply@facebookmail.com
END:VEVENT
BEGIN:VEVENT
DTSTART;TZID=America/New_York:20251129T160000
DTEND;TZID=America/New_York:20251129T200000
DTSTAMP:20260425T144738
CREATED:20251116T174510Z
LAST-MODIFIED:20251130T010334Z
UID:24910-1764432000-1764446400@explorebeaufortsc.com
SUMMARY:Washington Square Holiday Makers Christmas Market - November 29th AND December 6th\, 2025
DESCRIPTION:Shop\, sip\, and stroll through Washington Square as it transforms into a holiday wonderland! \nWe will have TWO Holiday Markets:11.29.25 – 4PM-8PM12.6.25 – 4PM-7PM \nSip holiday drinks from Coffee Lab and Lowcountry Taps while you browse 40+ local vendors featuring handmade gifts\, art\, jewelry\, clothing\, home décor\, candles\, wreaths\, and more!  \nBring the family (and pups!) and kick off the season surrounded by community\, creativity\, and Christmas spirit. \nhttps://www.facebook.com/events/1356804239401820/?event_time_id=1356807409401503
URL:https://explorebeaufortsc.com/event/washington-square-holiday-makers-christmas-market-november-29th-and-december-6th-2025/
LOCATION:25 Minetta Lane.\, 29910\, 25 Minetta Lane.\, 29910
END:VEVENT
BEGIN:VEVENT
DTSTART;TZID=America/New_York:20251129T173000
DTEND;TZID=America/New_York:20251129T203000
DTSTAMP:20260425T144738
CREATED:20250712T034925Z
LAST-MODIFIED:20251130T010334Z
UID:23695-1764437400-1764448200@explorebeaufortsc.com
SUMMARY:Nutcracker by South Carolina Ballet
DESCRIPTION:South Carolina Ballet is excited to announce its return to Savannah for one performance only of Nutcracker! Perfect for families and couples alike\, this beloved truly classical ballet production promises a magical evening filled with romance\, adventure\, and wonder. This year’s production\, inspired by the rich history of the South\, is thoughtfully updated for a modern audience. Every scene will be enhanced by a new full set of custom-made backdrops reflecting the high degree of artistic and production standards synonymous with South Carolina Ballet and making the entire production more vibrant\, colorful\, and sumptuous than ever before. \nSale Dates and Times: \nPublic Onsale : Fri\, 13 Jun 2025 at 10:00 AM
URL:https://explorebeaufortsc.com/event/nutcracker-by-south-carolina-ballet/
LOCATION:Savannah Civic Center\, Savannah Civic Center
END:VEVENT
END:VCALENDAR