BEGIN:VCALENDAR
VERSION:2.0
PRODID:-//Explore Beaufort SC - ECPv6.15.20//NONSGML v1.0//EN
CALSCALE:GREGORIAN
METHOD:PUBLISH
X-ORIGINAL-URL:https://explorebeaufortsc.com
X-WR-CALDESC:Events for Explore Beaufort SC
REFRESH-INTERVAL;VALUE=DURATION:PT1H
X-Robots-Tag:noindex
X-PUBLISHED-TTL:PT1H
BEGIN:VTIMEZONE
TZID:America/New_York
BEGIN:DAYLIGHT
TZOFFSETFROM:-0500
TZOFFSETTO:-0400
TZNAME:EDT
DTSTART:20240310T070000
END:DAYLIGHT
BEGIN:STANDARD
TZOFFSETFROM:-0400
TZOFFSETTO:-0500
TZNAME:EST
DTSTART:20241103T060000
END:STANDARD
BEGIN:DAYLIGHT
TZOFFSETFROM:-0500
TZOFFSETTO:-0400
TZNAME:EDT
DTSTART:20250309T070000
END:DAYLIGHT
BEGIN:STANDARD
TZOFFSETFROM:-0400
TZOFFSETTO:-0500
TZNAME:EST
DTSTART:20251102T060000
END:STANDARD
BEGIN:DAYLIGHT
TZOFFSETFROM:-0500
TZOFFSETTO:-0400
TZNAME:EDT
DTSTART:20260308T070000
END:DAYLIGHT
BEGIN:STANDARD
TZOFFSETFROM:-0400
TZOFFSETTO:-0500
TZNAME:EST
DTSTART:20261101T060000
END:STANDARD
END:VTIMEZONE
BEGIN:VEVENT
DTSTART;TZID=America/New_York:20251205T090000
DTEND;TZID=America/New_York:20251205T120000
DTSTAMP:20260425T154636
CREATED:20251116T174510Z
LAST-MODIFIED:20251203T015116Z
UID:24917-1764925200-1764936000@explorebeaufortsc.com
SUMMARY:Christmas Wish...Freedom 2025 - SCHOOL SHOW
DESCRIPTION:Friday\, December 5\, 2025 \n9:00 a.m. • 10:30 a.m. • 12:00 p.m. \n​ \nBring your students to experience a powerful journey through history with the Gullah Traveling Theater’s “Christmas Wish…Freedom\,” a captivating one-hour abbreviated musical that tells the story of the last Christmas before the Civil War. As tensions rise and people choose sides\, your students will witness the bravery\, hope\, and determination that shaped our nation’s future. Specially priced at just $10 per seat\, this unforgettable performance will inspire young minds and foster leadership in your schools. Don’t miss this unique opportunity—reserve your seats today for an inspiring and educational experience!
URL:https://explorebeaufortsc.com/event/christmas-wish-freedom-2025-school-show/
LOCATION:USCB Center for the Arts
ORGANIZER;CN="Gullah Traveling Theater Inc.":MAILTO:noreply@facebookmail.com
END:VEVENT
BEGIN:VEVENT
DTSTART;TZID=America/New_York:20251205T100000
DTEND;TZID=America/New_York:20251207T150000
DTSTAMP:20260425T154636
CREATED:20251116T174510Z
LAST-MODIFIED:20251203T015116Z
UID:24918-1764928800-1765119600@explorebeaufortsc.com
SUMMARY:14th Annual Nativity Celebration
DESCRIPTION:Please join us for our 14th Annual Nativity Celebration. December 5-6 10:00 AM – 4:00 PMDecember 7 12:00 PM – 3:00 PM \nAll are welcome for this FREE community event celebrating the Christmas story with more than 150 nativities from around the world.
URL:https://explorebeaufortsc.com/event/14th-annual-nativity-celebration/
LOCATION:1201 North Street\, 29902\, 1201 North Street\, 29902
ORGANIZER;CN="First Presbyterian Church%2C Beaufort SC":MAILTO:noreply@facebookmail.com
END:VEVENT
BEGIN:VEVENT
DTSTART;TZID=America/New_York:20251205T100000
DTEND;TZID=America/New_York:20251207T150000
DTSTAMP:20260425T154636
CREATED:20251120T142354Z
LAST-MODIFIED:20251120T142354Z
UID:25034-1764928800-1765119600@explorebeaufortsc.com
SUMMARY:Annual Nativity Celebration at First Presbyterian Church of Beaufort
DESCRIPTION:For the 14th year\, historic First Presbyterian Church of Beaufort will present a free weekend-long Annual Nativity Celebration on December 5-7 – featuring more than 200 nativity scenes from around the world. \n“Each year we bring new nativities to display alongside many of the annual favorites\,”\nsaid Donna Sheetz\, First Presbyterian’s Volunteer Nativity Event Coordinator. “This\nyear is so special as we will be featuring a special collection from the women of St.\nPeter’s Catholic Church.” \nFirst Presbyterian Church of Beaufort is preparing for nearly 1\,000 visitors to come\nthrough for this community-wide Advent tradition. Past attendees share not only how\nmuch they are moved by the experience\, but that the display brings back sweet\nmemories from their childhood\, travels\, and time with family. Many times people are\ninspired to share their own treasured pieces for the next year’s event. Collectors always\nhave a story to share – some are grand accounts of travel\, gifts or inheritance\, while\nothers found their treasures in a local thrift store. The nativities range from lovely home\ncrafted treasures to exquisite porcelain figures. \n“Everyone is welcome\, and it is a wonderful event to experience with your spouse\,\nfriends or a grandchild. This weekend-long display is a great way to slow down\, reflect\,\nlearn about other cultures\, and begin the anticipating and joyful season of Christmas\,”\nsaid Sheetz. \nThe Nativity Celebration is located in downtown Beaufort in First Presbyterian Church of\nBeaufort’s Fellowship Hall located at 1201 North Street\, Beaufort\, SC 29902. \nThis event is free to the public\, has easy parking and is handicap accessible. The display will be open Friday\, December 5 and Saturday\, December 6 from 10:00 a.m.-4:00 p.m. and\nSunday\, December 7 from 12:00-3:00 p.m. \nAll ages are welcome. \nTo learn more about\nthis event go to https://www.firstpresbeaufort.org.
URL:https://explorebeaufortsc.com/event/annual-nativity-celebration-at-first-presbyterian-church-of-beaufort/
LOCATION:First Presbyterian Church\, 1201 North Street\, Beaufort\, SC\, 29902\, United States
ATTACH;FMTTYPE=image/jpeg:https://explorebeaufortsc.com/wp-content/uploads/2025/11/nativitycelebration2025.jpg
END:VEVENT
BEGIN:VEVENT
DTSTART;TZID=America/New_York:20251205T130000
DTEND;TZID=America/New_York:20251205T160000
DTSTAMP:20260425T154636
CREATED:20251203T015116Z
LAST-MODIFIED:20251203T015116Z
UID:25183-1764939600-1764950400@explorebeaufortsc.com
SUMMARY:GRAND OPENING @ Bay Street Studios
DESCRIPTION:Join us for the Grand Opening of Bay Street Studios and Emily Scott Fine Art & Photography on Dec 5th 2025. \nRibbon Cutting @1pm – Champange ToastNight on the Town @6pm – Celebration
URL:https://explorebeaufortsc.com/event/grand-opening-bay-street-studios/
LOCATION:811 Bay St\, Beaufort\, SC 29902-5589\, United States\, 811 Bay St\, Beaufort\, SC 29902-5589\, United States
END:VEVENT
BEGIN:VEVENT
DTSTART;TZID=America/New_York:20251205T173000
DTEND;TZID=America/New_York:20251205T220000
DTSTAMP:20260425T154636
CREATED:20251130T010335Z
LAST-MODIFIED:20251203T015116Z
UID:25141-1764955800-1764972000@explorebeaufortsc.com
SUMMARY:Cadd Family 2025 Holiday Light Display
DESCRIPTION:Join us for the annual Cadd Family Holiday Light Display every night from November 29th through December 27th\, and enjoy the walk-through light display with your friends and family at one of the Beaufort area’s favorite holiday traditions.Synchronized to Christmas music\, among the dozens and dozens of dancing light displays you will be greeted by are Anna & Elsa\, Frosty\, Garfield\, Rudolph\, the Grinch\, Yukon Cornelius and dozens of others that you all know and love; all among a lighted winter wonderland complete with snow machines and a moving lifelike Santa sitting on his chair.This season’s Holiday Light Display schedule:Sundays through Thursdays from 530pm to 830pmFridays & Saturdays from 530pm to 10pmPlease park safely along Springfield Road and be very attentive to small children.There will be no display that night if a considerable amount of rain has fallen that day.For your safety\, please remain on your side of the fencing\, and do not touch the displays.In the spirit of the giving season\, the Cadds\, David & Amanda\, encourage you to please support our Beaufort community during the holidays by bringing along a non-perishable food donation that will be donated to HELP of Beaufort\, to assist families in need at this time of the year.Event creation and promotion by Explore Beaufort.  \nhttps://www.facebook.com/events/860135656709203/?event_time_id=860135743375861
URL:https://explorebeaufortsc.com/event/cadd-family-2025-holiday-light-display-6/
LOCATION:66 Springfield Rd\, Beaufort\, SC 29907-1814\, United States\, 66 Springfield Rd\, Beaufort\, SC 29907-1814\, United States
ORGANIZER;CN="Explore Beaufort%2C SC":MAILTO:noreply@facebookmail.com
END:VEVENT
BEGIN:VEVENT
DTSTART;TZID=America/New_York:20251205T180000
DTEND;TZID=America/New_York:20251205T210000
DTSTAMP:20260425T154636
CREATED:20251031T145920Z
LAST-MODIFIED:20251203T015117Z
UID:24812-1764957600-1764968400@explorebeaufortsc.com
SUMMARY:4th Annual Movie Night Meets Night on the Town!
DESCRIPTION:We are thrilled to bring back our Fourth Annual Movie Night meets Night on the Town! We have two amazing Christmas Classics to share with you. This year\, we are bringing back two family-favorites\, The Grinch (2018) & Elf!  \nWe hope to see you all there as we welcome the Christmas Season! Don’t forget to Bring your chairs or thick blankets as we setup at the Pavilion in Waterfront Park! \nEnjoy free popcorn\, sodas\, hot chocolate and be sure to stop by our tent to enter our giveaway!
URL:https://explorebeaufortsc.com/event/4th-annual-movie-night-meets-night-on-the-town/
LOCATION:Henry C. Chambers Waterfront Park
ORGANIZER;CN="J.P. Signature Group - Keller Williams Realty":MAILTO:noreply@facebookmail.com
END:VEVENT
BEGIN:VEVENT
DTSTART;TZID=America/New_York:20251205T180000
DTEND;TZID=America/New_York:20251205T210000
DTSTAMP:20260425T154636
CREATED:20251116T174510Z
LAST-MODIFIED:20251203T015117Z
UID:24921-1764957600-1764968400@explorebeaufortsc.com
SUMMARY:A Night on the Town
DESCRIPTION:🎉🌟 City of Beaufort’s Night on the Town 🌟🎉 \nJoin us for Beaufort’s favorite holiday tradition—Night on the Town! Celebrate the spirit of our beautiful community with:✨ Live music on multiple stages🍴 Delicious eats from local food vendors🎨 Arts\, crafts\, and goodies from local businesses and non-profits🎄 Downtown Tree Lighting  \nKick off the holiday season with good cheer\, great food\, and hometown charm. Bring your friends and family to experience why Beaufort is the heart of the Lowcountry. We can’t wait to see you there!
URL:https://explorebeaufortsc.com/event/a-night-on-the-town/
LOCATION:Bay St\, Beaufort\, SC 29902\, United States
END:VEVENT
END:VCALENDAR