BEGIN:VCALENDAR
VERSION:2.0
PRODID:-//Explore Beaufort SC - ECPv6.15.20//NONSGML v1.0//EN
CALSCALE:GREGORIAN
METHOD:PUBLISH
X-WR-CALNAME:Explore Beaufort SC
X-ORIGINAL-URL:https://explorebeaufortsc.com
X-WR-CALDESC:Events for Explore Beaufort SC
REFRESH-INTERVAL;VALUE=DURATION:PT1H
X-Robots-Tag:noindex
X-PUBLISHED-TTL:PT1H
BEGIN:VTIMEZONE
TZID:America/New_York
BEGIN:DAYLIGHT
TZOFFSETFROM:-0500
TZOFFSETTO:-0400
TZNAME:EDT
DTSTART:20240310T070000
END:DAYLIGHT
BEGIN:STANDARD
TZOFFSETFROM:-0400
TZOFFSETTO:-0500
TZNAME:EST
DTSTART:20241103T060000
END:STANDARD
BEGIN:DAYLIGHT
TZOFFSETFROM:-0500
TZOFFSETTO:-0400
TZNAME:EDT
DTSTART:20250309T070000
END:DAYLIGHT
BEGIN:STANDARD
TZOFFSETFROM:-0400
TZOFFSETTO:-0500
TZNAME:EST
DTSTART:20251102T060000
END:STANDARD
BEGIN:DAYLIGHT
TZOFFSETFROM:-0500
TZOFFSETTO:-0400
TZNAME:EDT
DTSTART:20260308T070000
END:DAYLIGHT
BEGIN:STANDARD
TZOFFSETFROM:-0400
TZOFFSETTO:-0500
TZNAME:EST
DTSTART:20261101T060000
END:STANDARD
END:VTIMEZONE
BEGIN:VEVENT
DTSTART;TZID=America/New_York:20251205T100000
DTEND;TZID=America/New_York:20251207T150000
DTSTAMP:20260425T172401
CREATED:20251116T174510Z
LAST-MODIFIED:20251203T015116Z
UID:24918-1764928800-1765119600@explorebeaufortsc.com
SUMMARY:14th Annual Nativity Celebration
DESCRIPTION:Please join us for our 14th Annual Nativity Celebration. December 5-6 10:00 AM – 4:00 PMDecember 7 12:00 PM – 3:00 PM \nAll are welcome for this FREE community event celebrating the Christmas story with more than 150 nativities from around the world.
URL:https://explorebeaufortsc.com/event/14th-annual-nativity-celebration/
LOCATION:1201 North Street\, 29902\, 1201 North Street\, 29902
ORGANIZER;CN="First Presbyterian Church%2C Beaufort SC":MAILTO:noreply@facebookmail.com
END:VEVENT
BEGIN:VEVENT
DTSTART;TZID=America/New_York:20251205T100000
DTEND;TZID=America/New_York:20251207T150000
DTSTAMP:20260425T172401
CREATED:20251120T142354Z
LAST-MODIFIED:20251120T142354Z
UID:25034-1764928800-1765119600@explorebeaufortsc.com
SUMMARY:Annual Nativity Celebration at First Presbyterian Church of Beaufort
DESCRIPTION:For the 14th year\, historic First Presbyterian Church of Beaufort will present a free weekend-long Annual Nativity Celebration on December 5-7 – featuring more than 200 nativity scenes from around the world. \n“Each year we bring new nativities to display alongside many of the annual favorites\,”\nsaid Donna Sheetz\, First Presbyterian’s Volunteer Nativity Event Coordinator. “This\nyear is so special as we will be featuring a special collection from the women of St.\nPeter’s Catholic Church.” \nFirst Presbyterian Church of Beaufort is preparing for nearly 1\,000 visitors to come\nthrough for this community-wide Advent tradition. Past attendees share not only how\nmuch they are moved by the experience\, but that the display brings back sweet\nmemories from their childhood\, travels\, and time with family. Many times people are\ninspired to share their own treasured pieces for the next year’s event. Collectors always\nhave a story to share – some are grand accounts of travel\, gifts or inheritance\, while\nothers found their treasures in a local thrift store. The nativities range from lovely home\ncrafted treasures to exquisite porcelain figures. \n“Everyone is welcome\, and it is a wonderful event to experience with your spouse\,\nfriends or a grandchild. This weekend-long display is a great way to slow down\, reflect\,\nlearn about other cultures\, and begin the anticipating and joyful season of Christmas\,”\nsaid Sheetz. \nThe Nativity Celebration is located in downtown Beaufort in First Presbyterian Church of\nBeaufort’s Fellowship Hall located at 1201 North Street\, Beaufort\, SC 29902. \nThis event is free to the public\, has easy parking and is handicap accessible. The display will be open Friday\, December 5 and Saturday\, December 6 from 10:00 a.m.-4:00 p.m. and\nSunday\, December 7 from 12:00-3:00 p.m. \nAll ages are welcome. \nTo learn more about\nthis event go to https://www.firstpresbeaufort.org.
URL:https://explorebeaufortsc.com/event/annual-nativity-celebration-at-first-presbyterian-church-of-beaufort/
LOCATION:First Presbyterian Church\, 1201 North Street\, Beaufort\, SC\, 29902\, United States
ATTACH;FMTTYPE=image/jpeg:https://explorebeaufortsc.com/wp-content/uploads/2025/11/nativitycelebration2025.jpg
END:VEVENT
BEGIN:VEVENT
DTSTART;TZID=America/New_York:20251207T130000
DTEND;TZID=America/New_York:20251207T160000
DTSTAMP:20260425T172401
CREATED:20251203T015118Z
LAST-MODIFIED:20251203T015118Z
UID:25192-1765112400-1765123200@explorebeaufortsc.com
SUMMARY:Mimosas & Melodies
DESCRIPTION:Join us each Sunday for Mimosas with Live Music at the gallery from 1-3p! 🥂🎶 \nWine & beer also available for purchase! \nRelax\, sip\, and soak in the sounds — the perfect way to spend your Sunday! \nhttps://www.facebook.com/events/1558800108872235/?event_time_id=1558800118872234
URL:https://explorebeaufortsc.com/event/mimosas-melodies/
LOCATION:809 Paris Ave\, Port Royal\, SC\, United States\, South Carolina\, 809 Paris Ave\, Port Royal\, SC\, United States\, South Carolina
ORGANIZER;CN="Windhorse Gallery & Marketplace":MAILTO:noreply@facebookmail.com
END:VEVENT
BEGIN:VEVENT
DTSTART;TZID=America/New_York:20251207T130000
DTEND;TZID=America/New_York:20251207T150000
DTSTAMP:20260425T172401
CREATED:20251120T135826Z
LAST-MODIFIED:20251120T135826Z
UID:25011-1765112400-1765119600@explorebeaufortsc.com
SUMMARY:Sea Shell Tray Workshop at Marshview Mercantile
DESCRIPTION:Join us to design & build a stunning three tiered tray made of real scallop shells. Great for trinkets\, jewelry\, wrapped candies\, or anything you need organized and close at hand.\nYou will learn how to decoupage your three scallop shells and construct your tray. A variety of tissue & napkins will be available for you to select a pattern\, or bring your own favorite from home.\n\nSurprise someone with your handcrafted gift or keep as your own treasure!\n\nSunday\, Dec. 7\, 1-3p\nMarshview Mercantile\n2631 Boundary Street\, Beaufort\nGrab Your Spot! \nhttps://marshviewmercantile.commentsold.com/products/scallop-shell-3-tier-tray-dec-7-1-3p
URL:https://explorebeaufortsc.com/event/sea-shell-tray-workshop-at-marshview-mercantile/
LOCATION:Marshview Mercantile\, 2631 Boundary St\, Beaufort\, SC\, 29906\, US
ATTACH;FMTTYPE=image/jpeg:https://explorebeaufortsc.com/wp-content/uploads/2025/11/marshviewseashelltray.jpg
END:VEVENT
BEGIN:VEVENT
DTSTART;TZID=America/New_York:20251207T150000
DTEND;TZID=America/New_York:20251207T180000
DTSTAMP:20260425T172401
CREATED:20251116T174511Z
LAST-MODIFIED:20251203T015118Z
UID:24932-1765119600-1765130400@explorebeaufortsc.com
SUMMARY:Annual Christmas Parade
DESCRIPTION:Beaufort’s Annual Christmas Parade 🎄🎅 \nGet ready for a day of holiday magic at the Annual Beaufort Christmas Parade! 🎉 Bring the whole family to celebrate the season with:🎺 Marching bands spreading holiday cheer🚒 Festively decorated floats and vehicles🎅 A special visit from Santa Claus himself! \nLine the streets\, wave to your neighbors\, and enjoy the joyful sights and sounds of Beaufort’s most heartwarming tradition. Don’t forget to bring your holiday spirit! \n🎄 Let’s celebrate Christmas\, Beaufort style
URL:https://explorebeaufortsc.com/event/annual-christmas-parade/
LOCATION:500 Carteret St\, Beaufort\, SC\, United States\, South Carolina 29902\, 500 Carteret St\, Beaufort\, SC\, United States\, South Carolina 29902
END:VEVENT
BEGIN:VEVENT
DTSTART;TZID=America/New_York:20251207T173000
DTEND;TZID=America/New_York:20251207T220000
DTSTAMP:20260425T172401
CREATED:20251130T010336Z
LAST-MODIFIED:20251203T015118Z
UID:25145-1765128600-1765144800@explorebeaufortsc.com
SUMMARY:Cadd Family 2025 Holiday Light Display
DESCRIPTION:Join us for the annual Cadd Family Holiday Light Display every night from November 29th through December 27th\, and enjoy the walk-through light display with your friends and family at one of the Beaufort area’s favorite holiday traditions.Synchronized to Christmas music\, among the dozens and dozens of dancing light displays you will be greeted by are Anna & Elsa\, Frosty\, Garfield\, Rudolph\, the Grinch\, Yukon Cornelius and dozens of others that you all know and love; all among a lighted winter wonderland complete with snow machines and a moving lifelike Santa sitting on his chair.This season’s Holiday Light Display schedule:Sundays through Thursdays from 530pm to 830pmFridays & Saturdays from 530pm to 10pmPlease park safely along Springfield Road and be very attentive to small children.There will be no display that night if a considerable amount of rain has fallen that day.For your safety\, please remain on your side of the fencing\, and do not touch the displays.In the spirit of the giving season\, the Cadds\, David & Amanda\, encourage you to please support our Beaufort community during the holidays by bringing along a non-perishable food donation that will be donated to HELP of Beaufort\, to assist families in need at this time of the year.Event creation and promotion by Explore Beaufort.  \nhttps://www.facebook.com/events/860135656709203/?event_time_id=860135753375860
URL:https://explorebeaufortsc.com/event/cadd-family-2025-holiday-light-display-8/
LOCATION:66 Springfield Rd\, Beaufort\, SC 29907-1814\, United States\, 66 Springfield Rd\, Beaufort\, SC 29907-1814\, United States
ORGANIZER;CN="Explore Beaufort%2C SC":MAILTO:noreply@facebookmail.com
END:VEVENT
BEGIN:VEVENT
DTSTART;TZID=America/New_York:20251207T180000
DTEND;TZID=America/New_York:20251207T200000
DTSTAMP:20260425T172401
CREATED:20251125T154417Z
LAST-MODIFIED:20251203T015118Z
UID:25095-1765130400-1765137600@explorebeaufortsc.com
SUMMARY:Holiday Nights & Lights: A Drive Through Light Show
DESCRIPTION:🌟The Gullah Village at Holiday Nights and Lights Drive Through Light Display🌟 \nJoin us for a mesmerizing drive through the Historic Mitchelville Freedom Park as it transforms into a Gullah Village decorated for the Holidays! From December 6-8\, our beloved Holiday Nights & Lights event returns for the sixth year\, bringing with it twinkling lights and fun holiday displays. \nThe display is open nightly from Saturday\, December 6th\, through Monday\, December 8th\, 2025\, from6:00 PM – 8:00 PM at Historic Mitchelville Freedom Park\, 40 Harriet Tubman Way\, Hilton Head Island\, South Carolina 29926. This event is for all ages\, where children and adults alike can immerse themselves in a dazzling holiday light display. \nThis year\, our theme is “The Gullah Village ” to celebrate our local Gullah and Historic Communities and the rich holiday traditions throughout the Lowcountry. Drive through the village and visit with our community\, just as in the days “before the bridge\,” when the holidays were a time for families to be together and enjoy simple joys like singing hymns\, exchanging gifts like fresh fruit\, and decorating the tree with Spanish moss. Be on the lookout for special recognition of The Gullah Museum\, The Heritage Library\, Penn Center\, Lowcountry Gullah\, NIBCAA\, and more! \nPrepare for a magical evening at the Park—grab some hot cocoa\, tune into your favorite Christmas music channel\, and keep an eye out for surprises that might seem a bit out of place in the park! To avoid long waits\, we recommend lining up on Beach City Road beginning at 5:45 pm or at 7:30 pm. We ask for your patience with our volunteers and fellow participants. Admission is free\, but donations are warmly accepted to support our mission. For more information about this event via our website at exploremitchellville.org or call 843-255-7301. \n-Festive Atmosphere: As you drive through\, be enchanted by holiday fun and music that you can tune into on your car radio.-A Celebration of Community: Most importantly\, this event is a celebration of unity\, joy\, and the spirit of the holidays. It’s a time to come together\, be dazzled\, and make lasting memories.=Safety First: This event is designed to be enjoyed from the safety and comfort of your vehicle. \nJoin us for an unforgettable journey of holiday magic at the Historic Mitchelville Freedom Park. Let’s light up the night together! \nEvent Website: https://exploremitchelville.org/visit/holiday-nights-and-lights-25/ \nDates: Saturday\, December 6th | 6:00 PM – 8:00 PMSunday\, December 7th | 6:00 PM – 8:00 PMMonday\, December 8\, 2025 | 6:00 PM – 8:00 PM \nhttps://www.facebook.com/events/929854216051668/?event_time_id=929854232718333
URL:https://explorebeaufortsc.com/event/holiday-nights-lights-a-drive-through-light-show-5/
LOCATION:40 Harriet Tubman Way\, Hilton Head Island\, SC\, United States\, South Carolina 29926\, 40 Harriet Tubman Way\, Hilton Head Island\, SC\, United States\, South Carolina 29926
ORGANIZER;CN="Historic Mitchelville Freedom Park":MAILTO:noreply@facebookmail.com
END:VEVENT
END:VCALENDAR