BEGIN:VCALENDAR
VERSION:2.0
PRODID:-//Explore Beaufort SC - ECPv6.15.20//NONSGML v1.0//EN
CALSCALE:GREGORIAN
METHOD:PUBLISH
X-ORIGINAL-URL:https://explorebeaufortsc.com
X-WR-CALDESC:Events for Explore Beaufort SC
REFRESH-INTERVAL;VALUE=DURATION:PT1H
X-Robots-Tag:noindex
X-PUBLISHED-TTL:PT1H
BEGIN:VTIMEZONE
TZID:America/New_York
BEGIN:DAYLIGHT
TZOFFSETFROM:-0500
TZOFFSETTO:-0400
TZNAME:EDT
DTSTART:20240310T070000
END:DAYLIGHT
BEGIN:STANDARD
TZOFFSETFROM:-0400
TZOFFSETTO:-0500
TZNAME:EST
DTSTART:20241103T060000
END:STANDARD
BEGIN:DAYLIGHT
TZOFFSETFROM:-0500
TZOFFSETTO:-0400
TZNAME:EDT
DTSTART:20250309T070000
END:DAYLIGHT
BEGIN:STANDARD
TZOFFSETFROM:-0400
TZOFFSETTO:-0500
TZNAME:EST
DTSTART:20251102T060000
END:STANDARD
BEGIN:DAYLIGHT
TZOFFSETFROM:-0500
TZOFFSETTO:-0400
TZNAME:EDT
DTSTART:20260308T070000
END:DAYLIGHT
BEGIN:STANDARD
TZOFFSETFROM:-0400
TZOFFSETTO:-0500
TZNAME:EST
DTSTART:20261101T060000
END:STANDARD
END:VTIMEZONE
BEGIN:VEVENT
DTSTART;TZID=America/New_York:20251208T100000
DTEND;TZID=America/New_York:20251208T150000
DTSTAMP:20260425T154546
CREATED:20251125T154125Z
LAST-MODIFIED:20251203T015118Z
UID:25068-1765188000-1765206000@explorebeaufortsc.com
SUMMARY:Donate Blood at the Celadon Club 💚
DESCRIPTION:[𝐃𝐞𝐜𝐞𝐦𝐛𝐞𝐫 𝟖] Tis the season for giving! Donate blood on the Big Red Bus at the 𝐂𝐞𝐥𝐚𝐝𝐨𝐧 𝐂𝐮𝐛!💚🧖🩸 \nAll lifesaving donors will receive…💰$20 eGift Card❄️ OneBlood Sweatshirt🩺 Wellness Checkup \nClick the ticket link to book an appointment. Appointments honored. Walk-ins welcome.
URL:https://explorebeaufortsc.com/event/donate-blood-at-the-celadon-club-%f0%9f%92%9a/
LOCATION:Celadon Club Wellness Center
ORGANIZER;CN="OneBlood":MAILTO:noreply@facebookmail.com
END:VEVENT
BEGIN:VEVENT
DTSTART;TZID=America/New_York:20251208T110000
DTEND;TZID=America/New_York:20251208T130000
DTSTAMP:20260425T154546
CREATED:20251203T015118Z
LAST-MODIFIED:20251203T015118Z
UID:25194-1765191600-1765198800@explorebeaufortsc.com
SUMMARY:Kayak Tour - RSVP Required
DESCRIPTION:Kayak Tours at the Maritime CenterClick the orange “Book A Program” button on our website to RSVPportroyalsoundfoundation.org \nJoin a PRSF Naturalist for a 2-hour guided kayak tour of the Chechessee River departing from the Maritime Center. \nPricing:$35 (ages 5-12)$50 (ages 13+)Plus booking fee \nChildren ages 5-12 must be on a tandem kayak with an adult (18+) \nDesigned for all experience levels. \nQuestions? Please email Jessica\, jkochman@portroyalsoundfoundation.org \nhttps://www.facebook.com/events/1508348516967007/?event_time_id=1543633106771881
URL:https://explorebeaufortsc.com/event/kayak-tour-rsvp-required-4/
LOCATION:310 Okatie Hwy\, Okatie\, SC\, United States\, South Carolina 29909\, 310 Okatie Hwy\, Okatie\, SC\, United States\, South Carolina 29909
ORGANIZER;CN="Port Royal Sound Foundation":MAILTO:noreply@facebookmail.com
END:VEVENT
BEGIN:VEVENT
DTSTART;TZID=America/New_York:20251208T173000
DTEND;TZID=America/New_York:20251208T220000
DTSTAMP:20260425T154546
CREATED:20251130T010336Z
LAST-MODIFIED:20251203T015118Z
UID:25147-1765215000-1765231200@explorebeaufortsc.com
SUMMARY:Cadd Family 2025 Holiday Light Display
DESCRIPTION:Join us for the annual Cadd Family Holiday Light Display every night from November 29th through December 27th\, and enjoy the walk-through light display with your friends and family at one of the Beaufort area’s favorite holiday traditions.Synchronized to Christmas music\, among the dozens and dozens of dancing light displays you will be greeted by are Anna & Elsa\, Frosty\, Garfield\, Rudolph\, the Grinch\, Yukon Cornelius and dozens of others that you all know and love; all among a lighted winter wonderland complete with snow machines and a moving lifelike Santa sitting on his chair.This season’s Holiday Light Display schedule:Sundays through Thursdays from 530pm to 830pmFridays & Saturdays from 530pm to 10pmPlease park safely along Springfield Road and be very attentive to small children.There will be no display that night if a considerable amount of rain has fallen that day.For your safety\, please remain on your side of the fencing\, and do not touch the displays.In the spirit of the giving season\, the Cadds\, David & Amanda\, encourage you to please support our Beaufort community during the holidays by bringing along a non-perishable food donation that will be donated to HELP of Beaufort\, to assist families in need at this time of the year.Event creation and promotion by Explore Beaufort.  \nhttps://www.facebook.com/events/860135656709203/?event_time_id=860135703375865
URL:https://explorebeaufortsc.com/event/cadd-family-2025-holiday-light-display-9/
LOCATION:66 Springfield Rd\, Beaufort\, SC 29907-1814\, United States\, 66 Springfield Rd\, Beaufort\, SC 29907-1814\, United States
ORGANIZER;CN="Explore Beaufort%2C SC":MAILTO:noreply@facebookmail.com
END:VEVENT
BEGIN:VEVENT
DTSTART;TZID=America/New_York:20251208T180000
DTEND;TZID=America/New_York:20251208T200000
DTSTAMP:20260425T154546
CREATED:20251125T154417Z
LAST-MODIFIED:20251203T015118Z
UID:25097-1765216800-1765224000@explorebeaufortsc.com
SUMMARY:Holiday Nights & Lights: A Drive Through Light Show
DESCRIPTION:🌟The Gullah Village at Holiday Nights and Lights Drive Through Light Display🌟 \nJoin us for a mesmerizing drive through the Historic Mitchelville Freedom Park as it transforms into a Gullah Village decorated for the Holidays! From December 6-8\, our beloved Holiday Nights & Lights event returns for the sixth year\, bringing with it twinkling lights and fun holiday displays. \nThe display is open nightly from Saturday\, December 6th\, through Monday\, December 8th\, 2025\, from6:00 PM – 8:00 PM at Historic Mitchelville Freedom Park\, 40 Harriet Tubman Way\, Hilton Head Island\, South Carolina 29926. This event is for all ages\, where children and adults alike can immerse themselves in a dazzling holiday light display. \nThis year\, our theme is “The Gullah Village ” to celebrate our local Gullah and Historic Communities and the rich holiday traditions throughout the Lowcountry. Drive through the village and visit with our community\, just as in the days “before the bridge\,” when the holidays were a time for families to be together and enjoy simple joys like singing hymns\, exchanging gifts like fresh fruit\, and decorating the tree with Spanish moss. Be on the lookout for special recognition of The Gullah Museum\, The Heritage Library\, Penn Center\, Lowcountry Gullah\, NIBCAA\, and more! \nPrepare for a magical evening at the Park—grab some hot cocoa\, tune into your favorite Christmas music channel\, and keep an eye out for surprises that might seem a bit out of place in the park! To avoid long waits\, we recommend lining up on Beach City Road beginning at 5:45 pm or at 7:30 pm. We ask for your patience with our volunteers and fellow participants. Admission is free\, but donations are warmly accepted to support our mission. For more information about this event via our website at exploremitchellville.org or call 843-255-7301. \n-Festive Atmosphere: As you drive through\, be enchanted by holiday fun and music that you can tune into on your car radio.-A Celebration of Community: Most importantly\, this event is a celebration of unity\, joy\, and the spirit of the holidays. It’s a time to come together\, be dazzled\, and make lasting memories.=Safety First: This event is designed to be enjoyed from the safety and comfort of your vehicle. \nJoin us for an unforgettable journey of holiday magic at the Historic Mitchelville Freedom Park. Let’s light up the night together! \nEvent Website: https://exploremitchelville.org/visit/holiday-nights-and-lights-25/ \nDates: Saturday\, December 6th | 6:00 PM – 8:00 PMSunday\, December 7th | 6:00 PM – 8:00 PMMonday\, December 8\, 2025 | 6:00 PM – 8:00 PM \nhttps://www.facebook.com/events/929854216051668/?event_time_id=929854229385000
URL:https://explorebeaufortsc.com/event/holiday-nights-lights-a-drive-through-light-show-6/
LOCATION:40 Harriet Tubman Way\, Hilton Head Island\, SC\, United States\, South Carolina 29926\, 40 Harriet Tubman Way\, Hilton Head Island\, SC\, United States\, South Carolina 29926
ORGANIZER;CN="Historic Mitchelville Freedom Park":MAILTO:noreply@facebookmail.com
END:VEVENT
END:VCALENDAR