BEGIN:VCALENDAR
VERSION:2.0
PRODID:-//Explore Beaufort SC - ECPv6.15.20//NONSGML v1.0//EN
CALSCALE:GREGORIAN
METHOD:PUBLISH
X-ORIGINAL-URL:https://explorebeaufortsc.com
X-WR-CALDESC:Events for Explore Beaufort SC
REFRESH-INTERVAL;VALUE=DURATION:PT1H
X-Robots-Tag:noindex
X-PUBLISHED-TTL:PT1H
BEGIN:VTIMEZONE
TZID:America/New_York
BEGIN:DAYLIGHT
TZOFFSETFROM:-0500
TZOFFSETTO:-0400
TZNAME:EDT
DTSTART:20240310T070000
END:DAYLIGHT
BEGIN:STANDARD
TZOFFSETFROM:-0400
TZOFFSETTO:-0500
TZNAME:EST
DTSTART:20241103T060000
END:STANDARD
BEGIN:DAYLIGHT
TZOFFSETFROM:-0500
TZOFFSETTO:-0400
TZNAME:EDT
DTSTART:20250309T070000
END:DAYLIGHT
BEGIN:STANDARD
TZOFFSETFROM:-0400
TZOFFSETTO:-0500
TZNAME:EST
DTSTART:20251102T060000
END:STANDARD
BEGIN:DAYLIGHT
TZOFFSETFROM:-0500
TZOFFSETTO:-0400
TZNAME:EDT
DTSTART:20260308T070000
END:DAYLIGHT
BEGIN:STANDARD
TZOFFSETFROM:-0400
TZOFFSETTO:-0500
TZNAME:EST
DTSTART:20261101T060000
END:STANDARD
END:VTIMEZONE
BEGIN:VEVENT
DTSTART;TZID=America/New_York:20251209T130000
DTEND;TZID=America/New_York:20251209T160000
DTSTAMP:20260425T154924
CREATED:20251116T174511Z
LAST-MODIFIED:20251203T015119Z
UID:24934-1765285200-1765296000@explorebeaufortsc.com
SUMMARY:It's Cold Outside! A special holiday-themed Kindermusik class for ages 0-5 years-old
DESCRIPTION:You asked for it\, so here it is! \nWant to try out Kindermusik before joining our weekly classes? Join us on Tuesday\, December 9 or Saturday\, December 13 for a Playdate. \n“It’s Cold Outside” is a special holiday-themed Kindermusik class for ages 0-5 years-old. This one-time Kindermusik experience invites children to explore\, play\, move\, and sing to cold-weather-themed songs\, rhymes\, and poems. Children will engage their language\, motor\, social\, and cognitive skills as they move like penguins\, growl like polar bears\, ice skate on frozen ponds\, and so much more! Come see what Kindermusik is all about while singing\, dancing\, and bonding with your child.  \n*Please note that this is a single event and separate from our weekly classes.* \nRegister for one of the two dates at the link below. Seats are limited and first come\, first serve! \nhttps://thecatsmeow.kindermusik.com/location/58933
URL:https://explorebeaufortsc.com/event/its-cold-outside-a-special-holiday-themed-kindermusik-class-for-ages-0-5-years-old/
LOCATION:Balance Barre + Fitness\, Balance Barre + Fitness
END:VEVENT
BEGIN:VEVENT
DTSTART;TZID=America/New_York:20251209T163000
DTEND;TZID=America/New_York:20251209T183000
DTSTAMP:20260425T154924
CREATED:20251203T015119Z
LAST-MODIFIED:20251203T015119Z
UID:25196-1765297800-1765305000@explorebeaufortsc.com
SUMMARY:Sip & Sparkle Soirée
DESCRIPTION:Join us to Sip\, Sparkle\, and Give Back! ✨🥂Marshview Mercantile and Beaufort Wine are partnering for a festive Sip & Sparkle Soirée benefitting the The Elf Mission — and we’d love for you to join us!📅 Tuesday\, December 9⏰ 4:30–6:30 PM📍 Marshview Mercantile \n2631 Boundary Street\, Beaufort \nEnjoy a wine tasting hosted by Beaufort Wine (with alcohol-free options available) along with festive refreshments while you shop\, mingle\, and help make the season brighter for local children.🎁 How to give: Bring an unwrapped gift for a child 17 or younger\, or purchase a gift while in-store\, or make a monetary donation of your choice— all supporting Elf Mission Project.✨ Fun extras:* First 15 guests receive a swag bag* Prize for Most Sparkle ✨* Prize for Ugliest Sweater 🎄* Free Raffle for a bottle of Champagne \nPlus\, 10% of the evening’s store sales will be donated to the Elf Mission Project!🎄Come sip\, sparkle\, and shop with us as we team up for an evening full of fun and holiday generosity. 💛 \n#SipAndSparkleSoiree #MarshviewMercantile #BeaufortWine #ElfMissionProject #ShopForACause #BeaufortSC #LadiesNightOut #SupportLocal #HolidaySeason #GiveBackLocal
URL:https://explorebeaufortsc.com/event/sip-sparkle-soiree/
LOCATION:2631 Boundary St\, Beaufort\, SC\, 2631 Boundary St\, Beaufort\, SC
ORGANIZER;CN="Marshview Mercantile":MAILTO:noreply@facebookmail.com
END:VEVENT
BEGIN:VEVENT
DTSTART;TZID=America/New_York:20251209T173000
DTEND;TZID=America/New_York:20251209T220000
DTSTAMP:20260425T154924
CREATED:20251130T010337Z
LAST-MODIFIED:20251203T015119Z
UID:25149-1765301400-1765317600@explorebeaufortsc.com
SUMMARY:Cadd Family 2025 Holiday Light Display
DESCRIPTION:Join us for the annual Cadd Family Holiday Light Display every night from November 29th through December 27th\, and enjoy the walk-through light display with your friends and family at one of the Beaufort area’s favorite holiday traditions.Synchronized to Christmas music\, among the dozens and dozens of dancing light displays you will be greeted by are Anna & Elsa\, Frosty\, Garfield\, Rudolph\, the Grinch\, Yukon Cornelius and dozens of others that you all know and love; all among a lighted winter wonderland complete with snow machines and a moving lifelike Santa sitting on his chair.This season’s Holiday Light Display schedule:Sundays through Thursdays from 530pm to 830pmFridays & Saturdays from 530pm to 10pmPlease park safely along Springfield Road and be very attentive to small children.There will be no display that night if a considerable amount of rain has fallen that day.For your safety\, please remain on your side of the fencing\, and do not touch the displays.In the spirit of the giving season\, the Cadds\, David & Amanda\, encourage you to please support our Beaufort community during the holidays by bringing along a non-perishable food donation that will be donated to HELP of Beaufort\, to assist families in need at this time of the year.Event creation and promotion by Explore Beaufort.  \nhttps://www.facebook.com/events/860135656709203/?event_time_id=860135700042532
URL:https://explorebeaufortsc.com/event/cadd-family-2025-holiday-light-display-10/
LOCATION:66 Springfield Rd\, Beaufort\, SC 29907-1814\, United States\, 66 Springfield Rd\, Beaufort\, SC 29907-1814\, United States
ORGANIZER;CN="Explore Beaufort%2C SC":MAILTO:noreply@facebookmail.com
END:VEVENT
END:VCALENDAR