BEGIN:VCALENDAR
VERSION:2.0
PRODID:-//Explore Beaufort SC - ECPv6.15.20//NONSGML v1.0//EN
CALSCALE:GREGORIAN
METHOD:PUBLISH
X-ORIGINAL-URL:https://explorebeaufortsc.com
X-WR-CALDESC:Events for Explore Beaufort SC
REFRESH-INTERVAL;VALUE=DURATION:PT1H
X-Robots-Tag:noindex
X-PUBLISHED-TTL:PT1H
BEGIN:VTIMEZONE
TZID:America/New_York
BEGIN:DAYLIGHT
TZOFFSETFROM:-0500
TZOFFSETTO:-0400
TZNAME:EDT
DTSTART:20240310T070000
END:DAYLIGHT
BEGIN:STANDARD
TZOFFSETFROM:-0400
TZOFFSETTO:-0500
TZNAME:EST
DTSTART:20241103T060000
END:STANDARD
BEGIN:DAYLIGHT
TZOFFSETFROM:-0500
TZOFFSETTO:-0400
TZNAME:EDT
DTSTART:20250309T070000
END:DAYLIGHT
BEGIN:STANDARD
TZOFFSETFROM:-0400
TZOFFSETTO:-0500
TZNAME:EST
DTSTART:20251102T060000
END:STANDARD
BEGIN:DAYLIGHT
TZOFFSETFROM:-0500
TZOFFSETTO:-0400
TZNAME:EDT
DTSTART:20260308T070000
END:DAYLIGHT
BEGIN:STANDARD
TZOFFSETFROM:-0400
TZOFFSETTO:-0500
TZNAME:EST
DTSTART:20261101T060000
END:STANDARD
END:VTIMEZONE
BEGIN:VEVENT
DTSTART;TZID=America/New_York:20251218T110000
DTEND;TZID=America/New_York:20251218T140000
DTSTAMP:20260425T154544
CREATED:20251125T154127Z
LAST-MODIFIED:20251203T015121Z
UID:25080-1766055600-1766066400@explorebeaufortsc.com
SUMMARY:Cemetery Walking Tour
DESCRIPTION:Beaufort National Cemetery is the 13th oldest national cemetery in the United States and is the final resting place for over 30\,000 veterans and eligible family members. Would you like to learn about some of the heroes buried here and their stories? Come join our cemetery walking tour. Volunteer docents will take you on a tour through the 162-year old cemetery and learn about our nation’s history through the stories of those who served and defended it. Tours start at the main flagpole. For more information\, contact the cemetery at 843-524-3925.
URL:https://explorebeaufortsc.com/event/cemetery-walking-tour-26/
LOCATION:1601 Boundary Street\, Beaufort\, SC\, United States\, South Carolina 29902\, 1601 Boundary Street\, Beaufort\, SC\, United States\, South Carolina 29902
ORGANIZER;CN="Beaufort National Cemetery":MAILTO:noreply@facebookmail.com
END:VEVENT
BEGIN:VEVENT
DTSTART;TZID=America/New_York:20251218T170000
DTEND;TZID=America/New_York:20251218T200000
DTSTAMP:20260425T154544
CREATED:20251125T154127Z
LAST-MODIFIED:20251203T015121Z
UID:25081-1766077200-1766088000@explorebeaufortsc.com
SUMMARY:Holiday Party
DESCRIPTION:🎄✨ Holiday Party Celebration! ✨🎄 \nIt’s the most wonderful time of the year\, and we can’t wait to celebrate with YOU! Join us for our annual Holiday Party filled with joy\, laughter\, and community spirit! \n🎁 Event Details:  \n📅 Date: Thursday 12/18  \n⏰ Time: 5-8 pm  \n📍 Location: Clubhouse and parking lot behind office \n✨ Enjoy: \nDelicious food (food trucks) & drinks (hot cocoa table) 🍽️ \nPhoto Shoot – Reservations Required – Jwynnwilsonphotography  \nRaffle prize 🎁 \nHoliday cheer with neighbors 💛 \nLet’s come together to make this season merry and bright. We look forward to seeing you there! \nJoining us to sell their fare will be: \nHotdog Empori-yum\, LLCSabor De Casa Food Truck LLCSunset Slush Hilton HeadPete’s KitchenGullah ExpressKraze LemonadeLil’ Loops of the LowcountryMeg’s Sweet Treats\, LLC \n#HolidayParty #CommunityCelebration #FestiveSeason #TogetherWeCelebrate
URL:https://explorebeaufortsc.com/event/holiday-party-2/
LOCATION:100 Pinckney Marsh Lane\, Beaufort\, SC\, United States\, South Carolina 29906\, 100 Pinckney Marsh Lane\, Beaufort\, SC\, United States\, South Carolina 29906
END:VEVENT
BEGIN:VEVENT
DTSTART;TZID=America/New_York:20251218T173000
DTEND;TZID=America/New_York:20251218T220000
DTSTAMP:20260425T154544
CREATED:20251130T010339Z
LAST-MODIFIED:20251203T015121Z
UID:25159-1766079000-1766095200@explorebeaufortsc.com
SUMMARY:Cadd Family 2025 Holiday Light Display
DESCRIPTION:Join us for the annual Cadd Family Holiday Light Display every night from November 29th through December 27th\, and enjoy the walk-through light display with your friends and family at one of the Beaufort area’s favorite holiday traditions.Synchronized to Christmas music\, among the dozens and dozens of dancing light displays you will be greeted by are Anna & Elsa\, Frosty\, Garfield\, Rudolph\, the Grinch\, Yukon Cornelius and dozens of others that you all know and love; all among a lighted winter wonderland complete with snow machines and a moving lifelike Santa sitting on his chair.This season’s Holiday Light Display schedule:Sundays through Thursdays from 530pm to 830pmFridays & Saturdays from 530pm to 10pmPlease park safely along Springfield Road and be very attentive to small children.There will be no display that night if a considerable amount of rain has fallen that day.For your safety\, please remain on your side of the fencing\, and do not touch the displays.In the spirit of the giving season\, the Cadds\, David & Amanda\, encourage you to please support our Beaufort community during the holidays by bringing along a non-perishable food donation that will be donated to HELP of Beaufort\, to assist families in need at this time of the year.Event creation and promotion by Explore Beaufort.  \nhttps://www.facebook.com/events/860135656709203/?event_time_id=860135693375866
URL:https://explorebeaufortsc.com/event/cadd-family-2025-holiday-light-display-19/
LOCATION:66 Springfield Rd\, Beaufort\, SC 29907-1814\, United States\, 66 Springfield Rd\, Beaufort\, SC 29907-1814\, United States
ORGANIZER;CN="Explore Beaufort%2C SC":MAILTO:noreply@facebookmail.com
END:VEVENT
END:VCALENDAR