BEGIN:VCALENDAR
VERSION:2.0
PRODID:-//Explore Beaufort SC - ECPv6.15.20//NONSGML v1.0//EN
CALSCALE:GREGORIAN
METHOD:PUBLISH
X-WR-CALNAME:Explore Beaufort SC
X-ORIGINAL-URL:https://explorebeaufortsc.com
X-WR-CALDESC:Events for Explore Beaufort SC
REFRESH-INTERVAL;VALUE=DURATION:PT1H
X-Robots-Tag:noindex
X-PUBLISHED-TTL:PT1H
BEGIN:VTIMEZONE
TZID:America/New_York
BEGIN:DAYLIGHT
TZOFFSETFROM:-0500
TZOFFSETTO:-0400
TZNAME:EDT
DTSTART:20240310T070000
END:DAYLIGHT
BEGIN:STANDARD
TZOFFSETFROM:-0400
TZOFFSETTO:-0500
TZNAME:EST
DTSTART:20241103T060000
END:STANDARD
BEGIN:DAYLIGHT
TZOFFSETFROM:-0500
TZOFFSETTO:-0400
TZNAME:EDT
DTSTART:20250309T070000
END:DAYLIGHT
BEGIN:STANDARD
TZOFFSETFROM:-0400
TZOFFSETTO:-0500
TZNAME:EST
DTSTART:20251102T060000
END:STANDARD
BEGIN:DAYLIGHT
TZOFFSETFROM:-0500
TZOFFSETTO:-0400
TZNAME:EDT
DTSTART:20260308T070000
END:DAYLIGHT
BEGIN:STANDARD
TZOFFSETFROM:-0400
TZOFFSETTO:-0500
TZNAME:EST
DTSTART:20261101T060000
END:STANDARD
BEGIN:DAYLIGHT
TZOFFSETFROM:-0500
TZOFFSETTO:-0400
TZNAME:EDT
DTSTART:20270314T070000
END:DAYLIGHT
BEGIN:STANDARD
TZOFFSETFROM:-0400
TZOFFSETTO:-0500
TZNAME:EST
DTSTART:20271107T060000
END:STANDARD
END:VTIMEZONE
BEGIN:VEVENT
DTSTART;TZID=America/New_York:20251231T210000
DTEND;TZID=America/New_York:20260101T000000
DTSTAMP:20260425T140306
CREATED:20251125T154127Z
LAST-MODIFIED:20251206T020007Z
UID:25082-1767214800-1767225600@explorebeaufortsc.com
SUMMARY:New Year's Eve Fireworks Beaufort\, SC
DESCRIPTION:Every year\, millions of people around the world gather together to celebrate the start of a new year. And what better way to ring in the new year than with a spectacular display of fireworks? In downtown Beaufort\, South Carolina\, residents and visitors alike come together for the first annual NYE fireworks over Beaufort sponsored by Harris Teeter! \nThe event takes place on the Beaufort River\, providing a stunning backdrop for the dazzling display of lights. The river is lined with historic buildings and iconic landmarks\, adding to the charm and excitement of the evening. At 9 pm colorful bursts of light will fill the sky\, creating an unforgettable experience for all in attendance. \nThe Beaufort Area Hospitality Association hopes to grow this event into a celebration of past\, present and of course new. We hope to see you in Beaufort\, South Carolina for the New Year! \nSo bring a chair or blanket and celebrate with us…
URL:https://explorebeaufortsc.com/event/new-years-eve-fireworks-beaufort-sc-3/
LOCATION:Henry C Chambers Waterfront Park
ATTACH;FMTTYPE=image/jpeg:https://explorebeaufortsc.com/wp-content/uploads/2025/11/nye25.jpg
ORGANIZER;CN="Beaufort Area Hospitality Association":MAILTO:noreply@facebookmail.com
END:VEVENT
END:VCALENDAR