BEGIN:VCALENDAR
VERSION:2.0
PRODID:-//Explore Beaufort SC - ECPv6.15.20//NONSGML v1.0//EN
CALSCALE:GREGORIAN
METHOD:PUBLISH
X-ORIGINAL-URL:https://explorebeaufortsc.com
X-WR-CALDESC:Events for Explore Beaufort SC
REFRESH-INTERVAL;VALUE=DURATION:PT1H
X-Robots-Tag:noindex
X-PUBLISHED-TTL:PT1H
BEGIN:VTIMEZONE
TZID:America/New_York
BEGIN:DAYLIGHT
TZOFFSETFROM:-0500
TZOFFSETTO:-0400
TZNAME:EDT
DTSTART:20250309T070000
END:DAYLIGHT
BEGIN:STANDARD
TZOFFSETFROM:-0400
TZOFFSETTO:-0500
TZNAME:EST
DTSTART:20251102T060000
END:STANDARD
BEGIN:DAYLIGHT
TZOFFSETFROM:-0500
TZOFFSETTO:-0400
TZNAME:EDT
DTSTART:20260308T070000
END:DAYLIGHT
BEGIN:STANDARD
TZOFFSETFROM:-0400
TZOFFSETTO:-0500
TZNAME:EST
DTSTART:20261101T060000
END:STANDARD
BEGIN:DAYLIGHT
TZOFFSETFROM:-0500
TZOFFSETTO:-0400
TZNAME:EDT
DTSTART:20270314T070000
END:DAYLIGHT
BEGIN:STANDARD
TZOFFSETFROM:-0400
TZOFFSETTO:-0500
TZNAME:EST
DTSTART:20271107T060000
END:STANDARD
END:VTIMEZONE
BEGIN:VEVENT
DTSTART;TZID=America/New_York:20260107T100000
DTEND;TZID=America/New_York:20260107T100000
DTSTAMP:20260425T140410
CREATED:20251230T233821Z
LAST-MODIFIED:20251230T233821Z
UID:25336-1767780000-1767780000@explorebeaufortsc.com
SUMMARY:Wesley E. Felix Community Center Groundbreaking Ceremony
DESCRIPTION:Beaufort County Parks and Recreation will host a groundbreaking ceremony for the new Wesley E. Felix Community Center. The ceremony will be at 10 a.m.\, Wednesday\, January 7\, 2026\, 179 Ball Park Road\, St. Helena. \nCounty Parks and Recreation Department Director Eric Brown will welcome guests and give opening remarks. Council Member York Glover (District 3) will offer congratulatory acknowledgments.\n\nOfficials in attendance will include County Administrator Michael Moore\, Deputy County Administrator Nicole Wood\, County Council Members\, Project Contractors and Architects\, and Capital Improvement Projects staff.\n\nThe Wesley E. Felix Community Center is one of two new facilities that will be built; the other is the Agnes A. Major Community Center\, 21 Agnes Major Road\, Sheldon.\n\nFor more information about Beaufort County sports and recreation opportunities\, facilities\, and programs please visit bcscrec.com.
URL:https://explorebeaufortsc.com/event/wesley-e-felix-community-center-groundbreaking-ceremony/
LOCATION:Wesley Felix Community Center\, 179 Ball Park Road\, St. Helena\, SC\, 29920\, United States
ATTACH;FMTTYPE=image/jpeg:https://explorebeaufortsc.com/wp-content/uploads/2025/12/wesleyfelixreccenter.jpg
END:VEVENT
BEGIN:VEVENT
DTSTART;TZID=America/New_York:20260107T180000
DTEND;TZID=America/New_York:20260107T200000
DTSTAMP:20260425T140410
CREATED:20251227T233450Z
LAST-MODIFIED:20251227T233450Z
UID:25324-1767808800-1767816000@explorebeaufortsc.com
SUMMARY:Mahjong 101 - The Basics at Marshview Mercantile
DESCRIPTION:Mahjong 101- The Basics\n\n\n\nThis class is perfect for beginners to learn in a relaxed environment. Join Doreen O’Grady\, a seasoned player\, for an introduction to American Mah Jongg. Focus will be on learning the different tiles\, game set-up\, basic rules of play and how to read the Official Mah Jongg card.\n\nJan. 7\, 6-8p \nMarshview Mercantile\n2631 Boundary Street\, Beaufort\n\nRegister: \nhttps://marshviewmercantile.commentsold.com/products/mahjong-101-class-jan-7-6-8p?variant=9249
URL:https://explorebeaufortsc.com/event/mahjong-101-the-basics-at-marshview-mercantile/
LOCATION:Marshview Mercantile\, 2631 Boundary St\, Beaufort\, SC\, 29906\, US
ATTACH;FMTTYPE=image/jpeg:https://explorebeaufortsc.com/wp-content/uploads/2025/12/mahjong.jpg
END:VEVENT
END:VCALENDAR