BEGIN:VCALENDAR
VERSION:2.0
PRODID:-//Explore Beaufort SC - ECPv6.15.20//NONSGML v1.0//EN
CALSCALE:GREGORIAN
METHOD:PUBLISH
X-WR-CALNAME:Explore Beaufort SC
X-ORIGINAL-URL:https://explorebeaufortsc.com
X-WR-CALDESC:Events for Explore Beaufort SC
REFRESH-INTERVAL;VALUE=DURATION:PT1H
X-Robots-Tag:noindex
X-PUBLISHED-TTL:PT1H
BEGIN:VTIMEZONE
TZID:America/New_York
BEGIN:DAYLIGHT
TZOFFSETFROM:-0500
TZOFFSETTO:-0400
TZNAME:EDT
DTSTART:20250309T070000
END:DAYLIGHT
BEGIN:STANDARD
TZOFFSETFROM:-0400
TZOFFSETTO:-0500
TZNAME:EST
DTSTART:20251102T060000
END:STANDARD
BEGIN:DAYLIGHT
TZOFFSETFROM:-0500
TZOFFSETTO:-0400
TZNAME:EDT
DTSTART:20260308T070000
END:DAYLIGHT
BEGIN:STANDARD
TZOFFSETFROM:-0400
TZOFFSETTO:-0500
TZNAME:EST
DTSTART:20261101T060000
END:STANDARD
BEGIN:DAYLIGHT
TZOFFSETFROM:-0500
TZOFFSETTO:-0400
TZNAME:EDT
DTSTART:20270314T070000
END:DAYLIGHT
BEGIN:STANDARD
TZOFFSETFROM:-0400
TZOFFSETTO:-0500
TZNAME:EST
DTSTART:20271107T060000
END:STANDARD
END:VTIMEZONE
BEGIN:VEVENT
DTSTART;TZID=America/New_York:20260110T090000
DTEND;TZID=America/New_York:20260110T120000
DTSTAMP:20260425T140230
CREATED:20251125T154127Z
LAST-MODIFIED:20260110T183131Z
UID:25083-1768035600-1768046400@explorebeaufortsc.com
SUMMARY:Wreaths Across America Beaufort Wreath Retirement
DESCRIPTION:Please join us in retiring this year’s Remembrance Wreaths. Many hands make light work. Please bring a rake or long handled something to help scoop up wreaths–it makes things go a lot faster and is easy on the arms and shoulders. Thank you for your support again with the retirement and helping keep our national cemetery clean.
URL:https://explorebeaufortsc.com/event/wreaths-across-america-beaufort-wreath-retirement-2/
LOCATION:1601 Boundary Street\, Beaufort\, SC\, United States\, South Carolina 29902\, 1601 Boundary Street\, Beaufort\, SC\, United States\, South Carolina 29902
ORGANIZER;CN="Beaufort National Cemetery":MAILTO:noreply@facebookmail.com
END:VEVENT
BEGIN:VEVENT
DTSTART;TZID=America/New_York:20260110T133000
DTEND;TZID=America/New_York:20260110T153000
DTSTAMP:20260425T140230
CREATED:20251203T015122Z
LAST-MODIFIED:20260110T183131Z
UID:25223-1768051800-1768059000@explorebeaufortsc.com
SUMMARY:Kayak Tour - RSVP Required
DESCRIPTION:Kayak Tours at the Maritime CenterClick the orange “Book A Program” button on our website to RSVPportroyalsoundfoundation.org \nJoin a PRSF Naturalist for a 2-hour guided kayak tour of the Chechessee River departing from the Maritime Center. \nPricing:$35 (ages 5-12)$50 (ages 13+)Plus booking fee \nChildren ages 5-12 must be on a tandem kayak with an adult (18+) \nDesigned for all experience levels. \nQuestions? Please email Jessica\, jkochman@portroyalsoundfoundation.org \nhttps://www.facebook.com/events/1508348516967007/?event_time_id=1582272652907926
URL:https://explorebeaufortsc.com/event/kayak-tour-rsvp-required-6/
LOCATION:310 Okatie Hwy\, Okatie\, SC\, United States\, South Carolina 29909\, 310 Okatie Hwy\, Okatie\, SC\, United States\, South Carolina 29909
ORGANIZER;CN="Port Royal Sound Foundation":MAILTO:noreply@facebookmail.com
END:VEVENT
BEGIN:VEVENT
DTSTART;TZID=America/New_York:20260110T160000
DTEND;TZID=America/New_York:20260110T173000
DTSTAMP:20260425T140230
CREATED:20260110T183131Z
LAST-MODIFIED:20260110T183131Z
UID:25352-1768060800-1768066200@explorebeaufortsc.com
SUMMARY:An Afternoon with USA Today Bestselling Novelist Jennifer Moorman\, Author of The Charmed Library
DESCRIPTION:The nonprofit Pat Conroy Literary Center will host an afternoon with USA Today bestselling novelist Jennifer Moorman\, author of The Charmed Library\, on Saturday\, January 10\, at 4:00 p.m.\, at the Conroy Center (601 Bladen St.\, Beaufort). Moorman will be in conversation with Conroy Center executive director Jonathan Haupt. This free event is presented in partnership with the Storybook Shoppe. Books will be available for sale and signing. Seating is limited; please call in advance to reserve: 843-379-7025. \nABOUT THE CHARMED LIBRARYLike many other public libraries\, the one in Blue Sky Valley\, North Carolina\, is a haven for readers. But it’s also unlike any other. In this library\, fictional characters step off the page into real life. Assistant librarian Stella Parker has no idea. Still reeling from her father’s death and–more recently–a breakup\, she hasn’t noticed. All she knows is she’s stuck in a job she’s overqualified for and stumped about what to do with her life. \nEverything changes when she burns her beloved journal. Words matter to Stella. For as long as she can remember\, she’s seen them. Words appear–in varying colors and fonts–rising from surfaces\, bouncing over objects\, and even wiggling out of people. Words give her insight into emotions and untold stories. But the words change for Stella after she burns her journal. Suddenly they’re demanding\, urgent–and painful. \nThen Stella stumbles upon strange characters in the library after hours. One is an oddly familiar World War II soldier who introduces himself as Jack—Jack Mathis\, the main character from her favorite book. A fictional hero and Stella’s first crush. Standing in front of her in the flesh. \nJack tells Stella about the magic hidden in the library. Skeptical\, Stella rashly invites a villain to visit\, and chaos ensues. As she discovers the importance of protecting the library’s secret and gets to know the real Jack\, words continue to appear. What are they trying to tell her? Much too quickly\, Stella is faced with the reality that all stories must end\, and magic comes at a price. The characters who visit the library can only stay for fourteen days. And Jack’s time is almost up. \n“Moorman delivers the perfect blend of magical realism and romance in this sweet tale about the power of books . . . With enough surprises to keep it from being predictable\, Moorman’s delightful story will charm readers.”—Library Journal \n“Moorman examines the consequences of losing oneself to grief and the magical\, healing power of books. This enchanting and delightful read is a must for book and library lovers.”—Booklist \nABOUT THE AUTHORJennifer Moorman writes enchanting novels inspired by the everyday magic and whimsy in the world around her. She is the bestselling author of the magical realism Mystic Water series\, The Baker’s Man\, and The Magic All Around. Born and raised in Southern Georgia\, Jennifer has a deep love for nature\, a fondness for honeysuckle\, and childhood memories of whippoorwills singing her to sleep. When she’s not writing\, you can find her testing a new recipe\, chasing rainbows\, or stargazing. She lives in a magic house in Nashville\, Tennessee.
URL:https://explorebeaufortsc.com/event/an-afternoon-with-usa-today-bestselling-novelist-jennifer-moorman-author-of-the-charmed-library/
LOCATION:Pat Conroy Literary Center
ORGANIZER;CN="Pat Conroy Literary Center":MAILTO:noreply@facebookmail.com
END:VEVENT
BEGIN:VEVENT
DTSTART;TZID=America/New_York:20260110T160000
DTEND;TZID=America/New_York:20260110T173000
DTSTAMP:20260425T140230
CREATED:20260110T183131Z
LAST-MODIFIED:20260110T183131Z
UID:25353-1768060800-1768066200@explorebeaufortsc.com
SUMMARY:FREE Master Naturalist Tour
DESCRIPTION:Take a tour of the Port Royal Cypress Wetlands with Master Naturalist Jill Moore. Jill\, a certified master naturalist and founder of Moore2Life\, provides nature-based programs to local residents\, communities\, and tourists here in the magnificent Lowcountry – a setting unlike any place on Earth. With research showing that people function best when they have access to and a connection with nature\, Jill is committed to helping people discover a passion and appreciation for the unique area that surrounds us. \nTours are free to the public! Please RSVP here: https://friendsofportroyalcypresswetlands.org/tours/
URL:https://explorebeaufortsc.com/event/free-master-naturalist-tour-17/
LOCATION:1700 Paris Ave\, Port Royal\, SC\, United States\, South Carolina 29935\, 1700 Paris Ave\, Port Royal\, SC\, United States\, South Carolina 29935
ORGANIZER;CN="Friends of Port Royal Cypress Wetlands":MAILTO:noreply@facebookmail.com
END:VEVENT
BEGIN:VEVENT
DTSTART;TZID=America/New_York:20260110T180000
DTEND;TZID=America/New_York:20260110T210000
DTSTAMP:20260425T140230
CREATED:20251203T015122Z
LAST-MODIFIED:20260110T183131Z
UID:25224-1768068000-1768078800@explorebeaufortsc.com
SUMMARY:2026 Low Country Chapter Conservation Dinner
DESCRIPTION:Join us for a fun filled evening which includes raffles\, live and silent auctions. Message us for sponsor and ticket information or contact Emily Rose Madlinger at 843-816-1328.  \nThe South Carolina Waterfowl Association is a 501(c)(3) nonprofit organization that exists to enhance and perpetuate South Carolina’s wildlife heritage through education and habitat conservation.
URL:https://explorebeaufortsc.com/event/2026-low-country-chapter-conservation-dinner/
LOCATION:Beaufort Academy\, Beaufort Academy
ORGANIZER;CN="South Carolina Waterfowl Association - Low Country Chapter":MAILTO:noreply@facebookmail.com
END:VEVENT
BEGIN:VEVENT
DTSTART;TZID=America/New_York:20260110T190000
DTEND;TZID=America/New_York:20260110T220000
DTSTAMP:20260425T140230
CREATED:20260110T183131Z
LAST-MODIFIED:20260110T183131Z
UID:25355-1768071600-1768082400@explorebeaufortsc.com
SUMMARY:Revolution Ballroom January Dance Party 🎉
DESCRIPTION:You’re invited to our Revolution Ballroom Dance Party 🎉 Our parties are held every 2nd Saturday. \nRevolution Ballroom Dance Party 🎉〰️ Saturday\, January 10th 〰️ \n◽️ 7:00 – 7:30 PM Beginner Foxtrot lesson◽️ 7:30 – 10:00 PM Social Dancing◽️ Our playlist features a mix of Ballroom\, Latin\, Swing\, Salsa\, Bachata\, and Argentine Tango◽️ Light refreshments & iced tea◽️ Admission: $20 (online or at the door)◽️ Open to the public (ages 18+)◽️ Singles & couples welcome◽️ Attire: Dressy or Cocktail \n➡️ Sign up here: https://www.revolutionballroom.com/jan-party \nEvent Location:Revolution Ballroom2121 Boundary StSuite 207Beaufort\, SC 29902 \n📲 843.338.2870www.RevolutionBallroom.com
URL:https://explorebeaufortsc.com/event/revolution-ballroom-january-dance-party-%f0%9f%8e%89/
LOCATION:Revolution Ballroom\, 2121 Boundary St\, Ste 207\, Beaufort\, SC\, 29902\, US
ORGANIZER;CN="Revolution Ballroom":MAILTO:noreply@facebookmail.com
END:VEVENT
END:VCALENDAR