BEGIN:VCALENDAR
VERSION:2.0
PRODID:-//Explore Beaufort SC - ECPv6.15.20//NONSGML v1.0//EN
CALSCALE:GREGORIAN
METHOD:PUBLISH
X-ORIGINAL-URL:https://explorebeaufortsc.com
X-WR-CALDESC:Events for Explore Beaufort SC
REFRESH-INTERVAL;VALUE=DURATION:PT1H
X-Robots-Tag:noindex
X-PUBLISHED-TTL:PT1H
BEGIN:VTIMEZONE
TZID:America/New_York
BEGIN:DAYLIGHT
TZOFFSETFROM:-0500
TZOFFSETTO:-0400
TZNAME:EDT
DTSTART:20250309T070000
END:DAYLIGHT
BEGIN:STANDARD
TZOFFSETFROM:-0400
TZOFFSETTO:-0500
TZNAME:EST
DTSTART:20251102T060000
END:STANDARD
BEGIN:DAYLIGHT
TZOFFSETFROM:-0500
TZOFFSETTO:-0400
TZNAME:EDT
DTSTART:20260308T070000
END:DAYLIGHT
BEGIN:STANDARD
TZOFFSETFROM:-0400
TZOFFSETTO:-0500
TZNAME:EST
DTSTART:20261101T060000
END:STANDARD
BEGIN:DAYLIGHT
TZOFFSETFROM:-0500
TZOFFSETTO:-0400
TZNAME:EDT
DTSTART:20270314T070000
END:DAYLIGHT
BEGIN:STANDARD
TZOFFSETFROM:-0400
TZOFFSETTO:-0500
TZNAME:EST
DTSTART:20271107T060000
END:STANDARD
END:VTIMEZONE
BEGIN:VEVENT
DTSTART;TZID=America/New_York:20260111T110000
DTEND;TZID=America/New_York:20260111T130000
DTSTAMP:20260425T140440
CREATED:20260110T183131Z
LAST-MODIFIED:20260110T183131Z
UID:25356-1768129200-1768136400@explorebeaufortsc.com
SUMMARY:Wear Blue Day- Red Sand Edition
DESCRIPTION:The Helianthus Project is proud to host the first-ever Red Sand Project in the heart of our community at the Port Royal Police Department.We invite all community members to WEAR BLUE and join us at the Police Department as we walk together to the Cypress Wetlands\, laying red sand as a powerful\, visible symbol of awareness and our shared commitment to education and prevention.
URL:https://explorebeaufortsc.com/event/wear-blue-day-red-sand-edition/
LOCATION:Town of Port Royal Police Department\, Town of Port Royal Police Department
ORGANIZER;CN="The Helianthus Project":MAILTO:noreply@facebookmail.com
END:VEVENT
END:VCALENDAR