BEGIN:VCALENDAR
VERSION:2.0
PRODID:-//Explore Beaufort SC - ECPv6.15.20//NONSGML v1.0//EN
CALSCALE:GREGORIAN
METHOD:PUBLISH
X-ORIGINAL-URL:https://explorebeaufortsc.com
X-WR-CALDESC:Events for Explore Beaufort SC
REFRESH-INTERVAL;VALUE=DURATION:PT1H
X-Robots-Tag:noindex
X-PUBLISHED-TTL:PT1H
BEGIN:VTIMEZONE
TZID:America/New_York
BEGIN:DAYLIGHT
TZOFFSETFROM:-0500
TZOFFSETTO:-0400
TZNAME:EDT
DTSTART:20250309T070000
END:DAYLIGHT
BEGIN:STANDARD
TZOFFSETFROM:-0400
TZOFFSETTO:-0500
TZNAME:EST
DTSTART:20251102T060000
END:STANDARD
BEGIN:DAYLIGHT
TZOFFSETFROM:-0500
TZOFFSETTO:-0400
TZNAME:EDT
DTSTART:20260308T070000
END:DAYLIGHT
BEGIN:STANDARD
TZOFFSETFROM:-0400
TZOFFSETTO:-0500
TZNAME:EST
DTSTART:20261101T060000
END:STANDARD
BEGIN:DAYLIGHT
TZOFFSETFROM:-0500
TZOFFSETTO:-0400
TZNAME:EDT
DTSTART:20270314T070000
END:DAYLIGHT
BEGIN:STANDARD
TZOFFSETFROM:-0400
TZOFFSETTO:-0500
TZNAME:EST
DTSTART:20271107T060000
END:STANDARD
END:VTIMEZONE
BEGIN:VEVENT
DTSTART;TZID=America/New_York:20260116T113000
DTEND;TZID=America/New_York:20260116T143000
DTSTAMP:20260425T140407
CREATED:20260110T183132Z
LAST-MODIFIED:20260110T183132Z
UID:25363-1768563000-1768573800@explorebeaufortsc.com
SUMMARY:Cemetery Walking Tour
DESCRIPTION:Beaufort National Cemetery is the 13th oldest national cemetery in the United States and is the final resting place for over 30\,000 veterans and eligible family members. Would you like to learn about some of the heroes buried here and their stories? Come join our cemetery walking tour. Volunteer docents will take you on a tour through the 162-year old cemetery and learn about our nation’s history through the stories of those who served and defended it. Tours start at the main flagpole. For more information\, contact the cemetery at 843-524-3925.
URL:https://explorebeaufortsc.com/event/cemetery-walking-tour-27/
LOCATION:1601 Boundary Street\, Beaufort\, SC\, United States\, South Carolina 29902\, 1601 Boundary Street\, Beaufort\, SC\, United States\, South Carolina 29902
ORGANIZER;CN="Beaufort National Cemetery":MAILTO:noreply@facebookmail.com
END:VEVENT
BEGIN:VEVENT
DTSTART;TZID=America/New_York:20260116T120000
DTEND;TZID=America/New_York:20260116T150000
DTSTAMP:20260425T140407
CREATED:20251203T015122Z
LAST-MODIFIED:20260110T183132Z
UID:25225-1768564800-1768575600@explorebeaufortsc.com
SUMMARY:Adult (25+) Basketball Tournament
DESCRIPTION:Location: Wardle Family YMCA Basketball Court \nTeams will have a max of 10 players. A minimum of 3 players must be present to start a game. \nTeam players must be 25 or older. Teams must provide their own jerseys (or shirts) with numbers on the back. Jerseys must be the same color. \nGather a team\, bring your best sportsmanship and join us for an Adult Basketball tournament. This tournament will be competitive\, and fun for all skill levels. Prove who is the best and compete to win this single elimination tournament! \nFees: $250 Member/$275 non-member (Per Team) \nDon’t have a team? That’s okay! Just bring your best sportsmanship and join us for an Adult Basketball tournament and you will be placed on a team at random. This tournament will be competitive\, and fun for all skill levels. Prove who is the best and compete to win this single elimination tournament! \nFees: $25 Member/$50 non-member \nYou may request one to two people be placed on the same two as you. Otherwise all individual sign ups will be grouped into teams with the amount of individuals who sign up. \nDates/Times: 1/16/26 at 6:30-8pm & 1/17/26 at 12pm
URL:https://explorebeaufortsc.com/event/adult-25-basketball-tournament-2/
LOCATION:1801 Richmond Ave\, Port Royal\, SC\, United States\, South Carolina 29935\, 1801 Richmond Ave\, Port Royal\, SC\, United States\, South Carolina 29935
ORGANIZER;CN="Wardle Family YMCA":MAILTO:noreply@facebookmail.com
END:VEVENT
BEGIN:VEVENT
DTSTART;TZID=America/New_York:20260116T160000
DTEND;TZID=America/New_York:20260116T190000
DTSTAMP:20260425T140407
CREATED:20260110T183132Z
LAST-MODIFIED:20260110T183132Z
UID:25365-1768579200-1768590000@explorebeaufortsc.com
SUMMARY:Friday Muster at Belleau Wood Tavern
DESCRIPTION:First MusterFriday\, January 161600 until the stories run outBelleau Wood Tavern\, Port Royal\, SC \nLife is short.Celebrate the wins.Honor the losses. \nNever miss a chance to eat\, drink\, and laugh with your comrades. \nFriday Muster is a call to gather. \nThis first Friday Muster marks the beginning of Belleau Wood Tavern as a living community. A place where brothers and sisters break bread\, raise a glass\, and leave the table full\, body and soul.Since the dawn of time\, there has been a kind of magic when people come together over food and drink. That magic builds purpose\, belonging\, and strength. \nIsolation breeds weakness.Isolation breeds danger. \nAt Belleau Wood Tavern\, no one stands alone. \nWhat to expect-Cash Bar-Belleau Wood Tavern merch for sale-Live music-Food trucks-Free peanuts-Open conversation and real connection \nSit on the Witness Throne\, carved from a centuries-old live oak that stood watch over generations of Marines at Parris Island. \nSee the updates as the tavern comes to life.Share your feedback. \nBe part of building something meant to serve Marines\, veterans\, neighbors\, and the entire community. \nThis is not a Marine-only event. \nThis is a place where respect is shown\, earned\, and shared.Stand tall.Fear nothing.Raise a glass together. \nEvery other Friday\, we muster. \nThis is the first.
URL:https://explorebeaufortsc.com/event/friday-muster-at-belleau-wood-tavern/
LOCATION:7 Marina Blvd \, Beaufort\, SC\, United States\, South Carolina 29902\, 7 Marina Blvd \, Beaufort\, SC\, United States\, South Carolina 29902
END:VEVENT
BEGIN:VEVENT
DTSTART;TZID=America/New_York:20260116T170000
DTEND;TZID=America/New_York:20260118T090000
DTSTAMP:20260425T140407
CREATED:20260110T183132Z
LAST-MODIFIED:20260110T183132Z
UID:25367-1768582800-1768726800@explorebeaufortsc.com
SUMMARY:Vets Helping Homeless Vets Donation Drive
DESCRIPTION:NEEDED:Twin/FullSized Blankets and Sheets\, FullSized Mattresses \, SingleDishes/ Bowls\, Small Coffee Pots\, Small Pots/Pans\, Can Openers\, Crockpot\, \nAir Fryers\, Carts\, Laundry Pods\, Sponges\, Dish Soap\, Instant Coffee Regular\, Sugarand Creamer\, Toilet Paper\, Grits\, Oatmeal\, Ketchup\, Mayo/Mustard\, Salt/Pepper\,Spam\, Vienna Sausages\, Canned Chicken/Tuna\, Fruit Cups\, Popcorn\, Crackers\,Pork n Beans\, Complete Hormel Dinners\, Canned Lima Beans/Peas\, Corn BeefHash\, Shelf Milk\, Juice\, Canned Sodas\, Dog/Cat Food. WILL NOT ACCEPT: Bulk Clothes such as Jackets\, Shirts\, Pants.This is an effort to help our veteran community. 100% ofproceedsdirectly benefithomeless vets. All workers are volunteers. Campers are welcome with priorcoordination. For more information\, please visit/message ourFacebook\, And/or contact: “DEUCE” (260)-388-6389 or “A.R.” (845)-380-6088
URL:https://explorebeaufortsc.com/event/vets-helping-homeless-vets-donation-drive/
LOCATION:Veterans of Foreign Wars\, Veterans of Foreign Wars
END:VEVENT
BEGIN:VEVENT
DTSTART;TZID=America/New_York:20260116T170000
DTEND;TZID=America/New_York:20260116T200000
DTSTAMP:20260425T140407
CREATED:20260110T183132Z
LAST-MODIFIED:20260110T183132Z
UID:25368-1768582800-1768593600@explorebeaufortsc.com
SUMMARY:Murder Mystery with author Laura Elizabeth
DESCRIPTION:Laura Elizabeth is bringing her entertaining interactive Murder Mystery event to RLB again! The evening’s fun will be based on her first book “All is Now Lost” a mystery set in the South Carolina Lowcountry. Volunteers will read for a few characters and all attendees will be able to vote on who you think is the culprit\, with prizes! \nThere will be time for a chat with Laura \,and Cocktail Tours will be available starting 30 minutes prior to Event \nCocktail Tastings will be poured prior to and after the Book Chat and can be purchased at the distillery. Tours of the Distillery are available. \nAll paid attendees will receive a $5 RLB coupon.
URL:https://explorebeaufortsc.com/event/murder-mystery-with-author-laura-elizabeth/
LOCATION:2139 Boundary Street Unit 102\, Beaufort\, SC\, United States\, South Carolina 29902\, 2139 Boundary Street Unit 102\, Beaufort\, SC\, United States\, South Carolina 29902
ORGANIZER;CN="Rotten Little Bastard Distillery":MAILTO:noreply@facebookmail.com
END:VEVENT
BEGIN:VEVENT
DTSTART;TZID=America/New_York:20260116T193000
DTEND;TZID=America/New_York:20260116T223000
DTSTAMP:20260425T140407
CREATED:20251031T145932Z
LAST-MODIFIED:20260110T183132Z
UID:24816-1768591800-1768602600@explorebeaufortsc.com
SUMMARY:Elizabeth as Taylor - The Unofficial Tribute to Taylor Swift's Music
DESCRIPTION:This experience is like no other!Elizabeth’s journey as a Taylor Swift tribute artist has taken her on national tours\, enchanting crowds with her spot-on performances and infectious energy. Her dedication to capturing Swift’s essence has made her a beloved favorite among fans of all ages.A must see for all Swifties!​​All seats $32​​​​​​​​**Elizabeth as Taylor is an unofficial tribute show and is fan sponsored and is not endorsed by or in any way affiliated with TAS Rights Management\, Taylor Swift\, or their affiliated entities\, and the event organizers have indemnified TAS Rights Management\, Taylor Swift\, or their affiliated entities against any and all claims relating to any injury\, death\, or other harm that could befall event attendees.**
URL:https://explorebeaufortsc.com/event/elizabeth-as-taylor-the-unofficial-tribute-to-taylor-swifts-music/
LOCATION:801 Carteret St\, Beaufort\, SC\, United States\, South Carolina 29902\, 801 Carteret St\, Beaufort\, SC\, United States\, South Carolina 29902
ORGANIZER;CN="USCB Center for the Arts":MAILTO:noreply@facebookmail.com
END:VEVENT
END:VCALENDAR