BEGIN:VCALENDAR
VERSION:2.0
PRODID:-//Explore Beaufort SC - ECPv6.15.20//NONSGML v1.0//EN
CALSCALE:GREGORIAN
METHOD:PUBLISH
X-ORIGINAL-URL:https://explorebeaufortsc.com
X-WR-CALDESC:Events for Explore Beaufort SC
REFRESH-INTERVAL;VALUE=DURATION:PT1H
X-Robots-Tag:noindex
X-PUBLISHED-TTL:PT1H
BEGIN:VTIMEZONE
TZID:America/New_York
BEGIN:DAYLIGHT
TZOFFSETFROM:-0500
TZOFFSETTO:-0400
TZNAME:EDT
DTSTART:20250309T070000
END:DAYLIGHT
BEGIN:STANDARD
TZOFFSETFROM:-0400
TZOFFSETTO:-0500
TZNAME:EST
DTSTART:20251102T060000
END:STANDARD
BEGIN:DAYLIGHT
TZOFFSETFROM:-0500
TZOFFSETTO:-0400
TZNAME:EDT
DTSTART:20260308T070000
END:DAYLIGHT
BEGIN:STANDARD
TZOFFSETFROM:-0400
TZOFFSETTO:-0500
TZNAME:EST
DTSTART:20261101T060000
END:STANDARD
BEGIN:DAYLIGHT
TZOFFSETFROM:-0500
TZOFFSETTO:-0400
TZNAME:EDT
DTSTART:20270314T070000
END:DAYLIGHT
BEGIN:STANDARD
TZOFFSETFROM:-0400
TZOFFSETTO:-0500
TZNAME:EST
DTSTART:20271107T060000
END:STANDARD
END:VTIMEZONE
BEGIN:VEVENT
DTSTART;TZID=America/New_York:20260121T130000
DTEND;TZID=America/New_York:20260121T160000
DTSTAMP:20260425T140517
CREATED:20260110T183133Z
LAST-MODIFIED:20260110T183133Z
UID:25381-1769000400-1769011200@explorebeaufortsc.com
SUMMARY:Cemetery Walking Tour
DESCRIPTION:Beaufort National Cemetery is the 13th oldest national cemetery in the United States and is the final resting place for over 30\,000 veterans and eligible family members. Would you like to learn about some of the heroes buried here and their stories? Come join our cemetery walking tour. Volunteer docents will take you on a tour through the 162-year old cemetery and learn about our nation’s history through the stories of those who served and defended it. Tours start at the main flagpole. For more information\, contact the cemetery at 843-524-3925.
URL:https://explorebeaufortsc.com/event/cemetery-walking-tour-28/
LOCATION:1601 Boundary Street\, Beaufort\, SC\, United States\, South Carolina 29902\, 1601 Boundary Street\, Beaufort\, SC\, United States\, South Carolina 29902
ORGANIZER;CN="Beaufort National Cemetery":MAILTO:noreply@facebookmail.com
END:VEVENT
BEGIN:VEVENT
DTSTART;TZID=America/New_York:20260121T180000
DTEND;TZID=America/New_York:20260121T200000
DTSTAMP:20260425T140517
CREATED:20251227T232736Z
LAST-MODIFIED:20251227T232736Z
UID:25315-1769018400-1769025600@explorebeaufortsc.com
SUMMARY:Coastal Crushed Glass Suncatcher Class at Marshview Mercantile
DESCRIPTION:Fill your winter days with sunshine at Marshview Mercantile with our Coastal Sun Catcher Workshop! Choose from coastal favorite templates or create your own design in an 8×10 window pane. We provide the crushed glass and you can bring trinkets or shells of your own.\n\n\n\n\nWHEN: Jan. 21\, 6-8p\nWHERE: Marshview Mercantile\n            2631 Boundary Street\, Beaufort\nREGISTER: \nhttps://marshviewmercantile.commentsold.com/products/crushed-glass-suncatcher-jan-21-6-8p
URL:https://explorebeaufortsc.com/event/coastal-crushed-glass-suncatcher-class-at-marshview-mercantile/
ATTACH;FMTTYPE=image/jpeg:https://explorebeaufortsc.com/wp-content/uploads/2025/12/coastalsuncatchermarshview.jpg
ORGANIZER;CN="Marshview Mercantile":MAILTO:noreply@facebookmail.com
END:VEVENT
END:VCALENDAR